| Back to Mac ARM64 build report for BioC 3.16 |
|
This page was generated on 2023-04-19 11:01:51 -0400 (Wed, 19 Apr 2023).
| Hostname | OS | Arch (*) | R version | Installed pkgs |
|---|---|---|---|---|
| kjohnson | macOS 13.0 Ventura | arm64 | 4.2.2 (2022-10-31) -- "Innocent and Trusting" | 4256 |
| Click on any hostname to see more info about the system (e.g. compilers) (*) as reported by 'uname -p', except on Windows and Mac OS X | ||||
|
To the developers/maintainers of the Rhdf5lib package: Make sure to use the following settings in order to reproduce any error or warning you see on this page. |
| Package 1673/2183 | Hostname | OS / Arch | INSTALL | BUILD | BUILD BIN | ||||||||
| Rhdf5lib 1.20.0 (landing page) Mike Smith
| kjohnson | macOS 13.0 Ventura / arm64 | OK | OK | OK | ||||||||
| QUICK STATS | OS / Arch | INSTALL | BUILD | BUILD BIN | |||||||||||||
| kjohnson | macOS 13.0 Ventura / arm64 |
|
|
| |||||||||||||
| Package 1/11 | Hostname | OS / Arch | INSTALL | BUILD | BUILD BIN | ||||||||||||
| cytolib 2.10.1 (landing page) Mike Jiang
| kjohnson | macOS 13.0 Ventura / arm64 | ERROR | ERROR | skipped | ||||||||||||
| Package 2/11 | Hostname | OS / Arch | INSTALL | BUILD | BUILD BIN | ||||||||||||
| CytoML 2.10.0 (landing page) Mike Jiang
| kjohnson | macOS 13.0 Ventura / arm64 | OK | OK | OK | ||||||||||||
| Package 3/11 | Hostname | OS / Arch | INSTALL | BUILD | BUILD BIN | ||||||||||||
| DropletUtils 1.18.1 (landing page) Jonathan Griffiths
| kjohnson | macOS 13.0 Ventura / arm64 | OK | OK | OK | ||||||||||||
| Package 4/11 | Hostname | OS / Arch | INSTALL | BUILD | BUILD BIN | ||||||||||||
| epigraHMM 1.6.4 (landing page) Pedro Baldoni
| kjohnson | macOS 13.0 Ventura / arm64 | OK | OK | OK | ||||||||||||
| Package 5/11 | Hostname | OS / Arch | INSTALL | BUILD | BUILD BIN | ||||||||||||
| flowWorkspace 4.10.1 (landing page) Greg Finak
| kjohnson | macOS 13.0 Ventura / arm64 | OK | OK | OK | ||||||||||||
| Package 6/11 | Hostname | OS / Arch | INSTALL | BUILD | BUILD BIN | ||||||||||||
| HDF5Array 1.26.0 (landing page) Hervé Pagès
| kjohnson | macOS 13.0 Ventura / arm64 | OK | OK | OK | ||||||||||||
| Package 7/11 | Hostname | OS / Arch | INSTALL | BUILD | BUILD BIN | ||||||||||||
| mbkmeans 1.14.0 (landing page) Davide Risso
| kjohnson | macOS 13.0 Ventura / arm64 | OK | OK | OK | ||||||||||||
| Package 8/11 | Hostname | OS / Arch | INSTALL | BUILD | BUILD BIN | ||||||||||||
| mzR 2.32.0 (landing page) Steffen Neumann
| kjohnson | macOS 13.0 Ventura / arm64 | OK | OK | OK | ||||||||||||
| Package 9/11 | Hostname | OS / Arch | INSTALL | BUILD | BUILD BIN | ||||||||||||
| ncdfFlow 2.44.0 (landing page) Mike Jiang
| kjohnson | macOS 13.0 Ventura / arm64 | OK | OK | OK | ||||||||||||
| Package 10/11 | Hostname | OS / Arch | INSTALL | BUILD | BUILD BIN | ||||||||||||
| rhdf5 2.42.1 (landing page) Mike Smith
| kjohnson | macOS 13.0 Ventura / arm64 | OK | OK | OK | ||||||||||||
| Package 11/11 | Hostname | OS / Arch | INSTALL | BUILD | BUILD BIN | ||||||||||||
| rhdf5filters 1.10.1 (landing page) Mike Smith
| kjohnson | macOS 13.0 Ventura / arm64 | OK | OK | OK | ||||||||||||