| Back to Mac ARM64 build report for BioC 3.16 |
|
This page was generated on 2023-04-19 11:01:57 -0400 (Wed, 19 Apr 2023).
| Hostname | OS | Arch (*) | R version | Installed pkgs |
|---|---|---|---|---|
| kjohnson | macOS 13.0 Ventura | arm64 | 4.2.2 (2022-10-31) -- "Innocent and Trusting" | 4256 |
| Click on any hostname to see more info about the system (e.g. compilers) (*) as reported by 'uname -p', except on Windows and Mac OS X | ||||
|
To the developers/maintainers of the Rhdf5lib package: Make sure to use the following settings in order to reproduce any error or warning you see on this page. |
| Package 1673/2183 | Hostname | OS / Arch | INSTALL | BUILD | BUILD BIN | ||||||||
| Rhdf5lib 1.20.0 (landing page) Mike Smith
| kjohnson | macOS 13.0 Ventura / arm64 | OK | OK | OK | ||||||||
| Package: Rhdf5lib |
| Version: 1.20.0 |
| Command: /Library/Frameworks/R.framework/Resources/bin/R CMD build --keep-empty-dirs --no-resave-data Rhdf5lib |
| StartedAt: 2023-04-18 01:18:38 -0400 (Tue, 18 Apr 2023) |
| EndedAt: 2023-04-18 01:23:35 -0400 (Tue, 18 Apr 2023) |
| EllapsedTime: 297.4 seconds |
| RetCode: 0 |
| Status: OK |
| PackageFile: Rhdf5lib_1.20.0.tar.gz |
| PackageFileSize: 13.97 MiB |
############################################################################## ############################################################################## ### ### Running command: ### ### /Library/Frameworks/R.framework/Resources/bin/R CMD build --keep-empty-dirs --no-resave-data Rhdf5lib ### ############################################################################## ############################################################################## * checking for file ‘Rhdf5lib/DESCRIPTION’ ... OK * preparing ‘Rhdf5lib’: * checking DESCRIPTION meta-information ... OK * cleaning src * running ‘cleanup’ * installing the package to build vignettes * creating vignettes ... OK * cleaning src * running ‘cleanup’ * checking for LF line-endings in source and make files and shell scripts * checking for empty or unneeded directories * building ‘Rhdf5lib_1.20.0.tar.gz’