See here for how to subscribe to these builds.
This page was generated on 2023-04-15 21:30:03 -0400 (Sat, 15 Apr 2023).
|
| Hostname | OS | Arch (*) | R version | Installed pkgs |
|---|---|---|---|---|
| nebbiolo2 | Linux (Ubuntu 20.04.5 LTS) | x86_64 | 4.2.3 (2023-03-15) -- "Shortstop Beagle" | 4502 |
| palomino4 | Windows Server 2022 Datacenter | x64 | 4.2.3 (2023-03-15 ucrt) -- "Shortstop Beagle" | 4282 |
| lconway | macOS 12.5.1 Monterey | x86_64 | 4.2.3 (2023-03-15) -- "Shortstop Beagle" | 4310 |
| Click on any hostname to see more info about the system (e.g. compilers) (*) as reported by 'uname -p', except on Windows and Mac OS X | ||||
| QUICK STATS | OS / Arch | CHECK | |||||||
| nebbiolo2 | Linux (Ubuntu 20.04.5 LTS) / x86_64 |
| |||||||
| palomino4 | Windows Server 2022 Datacenter / x64 |
| |||||||
| lconway | macOS 12.5.1 Monterey / x86_64 |
| |||||||
| Package 1/28 | Hostname | OS / Arch | CHECK | ||||||
| APAlyzer 1.12.0 (landing page) Ruijia Wang
| nebbiolo2 | Linux (Ubuntu 20.04.5 LTS) / x86_64 | ERROR | ||||||
| palomino4 | Windows Server 2022 Datacenter / x64 | ERROR | |||||||
| lconway | macOS 12.5.1 Monterey / x86_64 | ERROR | |||||||
| Package 2/28 | Hostname | OS / Arch | CHECK | ||||||
| autonomics 1.6.0 (landing page) Aditya Bhagwat
| nebbiolo2 | Linux (Ubuntu 20.04.5 LTS) / x86_64 | ERROR | ||||||
| palomino4 | Windows Server 2022 Datacenter / x64 | ERROR | |||||||
| lconway | macOS 12.5.1 Monterey / x86_64 | ERROR | |||||||
| Package 3/28 | Hostname | OS / Arch | CHECK | ||||||
| beachmat 2.14.2 (landing page) Aaron Lun
| nebbiolo2 | Linux (Ubuntu 20.04.5 LTS) / x86_64 | ERROR | ||||||
| palomino4 | Windows Server 2022 Datacenter / x64 | ERROR | |||||||
| lconway | macOS 12.5.1 Monterey / x86_64 | ERROR | |||||||
| Package 4/28 | Hostname | OS / Arch | CHECK | ||||||
| biodb 1.6.1 (landing page) Pierrick Roger
| nebbiolo2 | Linux (Ubuntu 20.04.5 LTS) / x86_64 | OK | ||||||
| palomino4 | Windows Server 2022 Datacenter / x64 | ERROR | |||||||
| lconway | macOS 12.5.1 Monterey / x86_64 | OK | |||||||
| Package 5/28 | Hostname | OS / Arch | CHECK | ||||||
| biodbChebi 1.4.0 (landing page) Pierrick Roger
| nebbiolo2 | Linux (Ubuntu 20.04.5 LTS) / x86_64 | OK | ||||||
| palomino4 | Windows Server 2022 Datacenter / x64 | OK | |||||||
| lconway | macOS 12.5.1 Monterey / x86_64 | OK | |||||||
| Package 6/28 | Hostname | OS / Arch | CHECK | ||||||
| biodbExpasy 1.2.0 (landing page) Pierrick Roger
| nebbiolo2 | Linux (Ubuntu 20.04.5 LTS) / x86_64 | OK | ||||||
| palomino4 | Windows Server 2022 Datacenter / x64 | OK | |||||||
| lconway | macOS 12.5.1 Monterey / x86_64 | OK | |||||||
| Package 7/28 | Hostname | OS / Arch | CHECK | ||||||
| biodbHmdb 1.4.0 (landing page) Pierrick Roger
| nebbiolo2 | Linux (Ubuntu 20.04.5 LTS) / x86_64 | OK | ||||||
| palomino4 | Windows Server 2022 Datacenter / x64 | OK | |||||||
| lconway | macOS 12.5.1 Monterey / x86_64 | OK | |||||||
| Package 8/28 | Hostname | OS / Arch | CHECK | ||||||
| biodbKegg 1.4.0 (landing page) Pierrick Roger
| nebbiolo2 | Linux (Ubuntu 20.04.5 LTS) / x86_64 | OK | ||||||
| palomino4 | Windows Server 2022 Datacenter / x64 | OK | |||||||
| lconway | macOS 12.5.1 Monterey / x86_64 | OK | |||||||
| Package 9/28 | Hostname | OS / Arch | CHECK | ||||||
| biodbLipidmaps 1.4.1 (landing page) Pierrick Roger
| nebbiolo2 | Linux (Ubuntu 20.04.5 LTS) / x86_64 | OK | ||||||
| palomino4 | Windows Server 2022 Datacenter / x64 | OK | |||||||
| lconway | macOS 12.5.1 Monterey / x86_64 | OK | |||||||
| Package 10/28 | Hostname | OS / Arch | CHECK | ||||||
| biodbMirbase 1.2.2 (landing page) Pierrick Roger
| nebbiolo2 | Linux (Ubuntu 20.04.5 LTS) / x86_64 | OK | ||||||
| palomino4 | Windows Server 2022 Datacenter / x64 | OK | |||||||
| lconway | macOS 12.5.1 Monterey / x86_64 | OK | |||||||
| Package 11/28 | Hostname | OS / Arch | CHECK | ||||||
| biodbNcbi 1.2.0 (landing page) Pierrick Roger
| nebbiolo2 | Linux (Ubuntu 20.04.5 LTS) / x86_64 | WARNINGS | ||||||
| palomino4 | Windows Server 2022 Datacenter / x64 | WARNINGS | |||||||
| lconway | macOS 12.5.1 Monterey / x86_64 | WARNINGS | |||||||
| Package 12/28 | Hostname | OS / Arch | CHECK | ||||||
| biodbNci 1.2.0 (landing page) Pierrick Roger
| nebbiolo2 | Linux (Ubuntu 20.04.5 LTS) / x86_64 | OK | ||||||
| palomino4 | Windows Server 2022 Datacenter / x64 | OK | |||||||
| lconway | macOS 12.5.1 Monterey / x86_64 | OK | |||||||
| Package 13/28 | Hostname | OS / Arch | CHECK | ||||||
| biodbUniprot 1.4.0 (landing page) Pierrick Roger
| nebbiolo2 | Linux (Ubuntu 20.04.5 LTS) / x86_64 | OK | ||||||
| palomino4 | Windows Server 2022 Datacenter / x64 | OK | |||||||
| lconway | macOS 12.5.1 Monterey / x86_64 | OK | |||||||
| Package 14/28 | Hostname | OS / Arch | CHECK | ||||||
| cBioPortalData 2.10.3 (landing page) Marcel Ramos
| nebbiolo2 | Linux (Ubuntu 20.04.5 LTS) / x86_64 | ERROR | ||||||
| palomino4 | Windows Server 2022 Datacenter / x64 | ERROR | |||||||
| lconway | macOS 12.5.1 Monterey / x86_64 | ERROR | |||||||
| Package 15/28 | Hostname | OS / Arch | CHECK | ||||||
| ChromSCape 1.8.0 (landing page) Pacome Prompsy
| nebbiolo2 | Linux (Ubuntu 20.04.5 LTS) / x86_64 | ERROR | ||||||
| palomino4 | Windows Server 2022 Datacenter / x64 | ERROR | |||||||
| lconway | macOS 12.5.1 Monterey / x86_64 | ERROR | |||||||
| Package 16/28 | Hostname | OS / Arch | CHECK | ||||||
| clusterExperiment 2.18.2 (landing page) Elizabeth Purdom
| nebbiolo2 | Linux (Ubuntu 20.04.5 LTS) / x86_64 | ERROR | ||||||
| palomino4 | Windows Server 2022 Datacenter / x64 | ERROR | |||||||
| lconway | macOS 12.5.1 Monterey / x86_64 | ERROR | |||||||
| Package 17/28 | Hostname | OS / Arch | CHECK | ||||||
| crisprScore 1.2.0 (landing page) Jean-Philippe Fortin
| nebbiolo2 | Linux (Ubuntu 20.04.5 LTS) / x86_64 | OK | ||||||
| palomino4 | Windows Server 2022 Datacenter / x64 | OK | |||||||
| lconway | macOS 12.5.1 Monterey / x86_64 | OK | |||||||
| Package 18/28 | Hostname | OS / Arch | CHECK | ||||||
| DelayedMatrixStats 1.20.0 (landing page) Peter Hickey
| nebbiolo2 | Linux (Ubuntu 20.04.5 LTS) / x86_64 | OK | ||||||
| palomino4 | Windows Server 2022 Datacenter / x64 | OK | |||||||
| lconway | macOS 12.5.1 Monterey / x86_64 | OK | |||||||
| Package 19/28 | Hostname | OS / Arch | CHECK | ||||||
| DropletUtils 1.18.1 (landing page) Jonathan Griffiths
| nebbiolo2 | Linux (Ubuntu 20.04.5 LTS) / x86_64 | OK | ||||||
| palomino4 | Windows Server 2022 Datacenter / x64 | OK | |||||||
| lconway | macOS 12.5.1 Monterey / x86_64 | OK | |||||||
| Package 20/28 | Hostname | OS / Arch | CHECK | ||||||
| EpiMix 1.0.2 (landing page) Yuanning Zheng
| nebbiolo2 | Linux (Ubuntu 20.04.5 LTS) / x86_64 | WARNINGS | ||||||
| palomino4 | Windows Server 2022 Datacenter / x64 | WARNINGS | |||||||
| lconway | macOS 12.5.1 Monterey / x86_64 | WARNINGS | |||||||
| Package 21/28 | Hostname | OS / Arch | CHECK | ||||||
| extraChIPs 1.2.4 (landing page) Stephen Pederson
| nebbiolo2 | Linux (Ubuntu 20.04.5 LTS) / x86_64 | OK | ||||||
| palomino4 | Windows Server 2022 Datacenter / x64 | OK | |||||||
| lconway | macOS 12.5.1 Monterey / x86_64 | OK | |||||||
| Package 22/28 | Hostname | OS / Arch | CHECK | ||||||
| GenomicFeatures 1.50.4 (landing page) H. Pagès
| nebbiolo2 | Linux (Ubuntu 20.04.5 LTS) / x86_64 | WARNINGS | ||||||
| palomino4 | Windows Server 2022 Datacenter / x64 | WARNINGS | |||||||
| lconway | macOS 12.5.1 Monterey / x86_64 | WARNINGS | |||||||
| Package 23/28 | Hostname | OS / Arch | CHECK | ||||||
| HDF5Array 1.26.0 (landing page) Hervé Pagès
| nebbiolo2 | Linux (Ubuntu 20.04.5 LTS) / x86_64 | ERROR | ||||||
| palomino4 | Windows Server 2022 Datacenter / x64 | ERROR | |||||||
| lconway | macOS 12.5.1 Monterey / x86_64 | ERROR | |||||||
| Package 24/28 | Hostname | OS / Arch | CHECK | ||||||
| midasHLA 1.6.0 (landing page) Maciej Migdał
| nebbiolo2 | Linux (Ubuntu 20.04.5 LTS) / x86_64 | ERROR | ||||||
| palomino4 | Windows Server 2022 Datacenter / x64 | ERROR | |||||||
| lconway | macOS 12.5.1 Monterey / x86_64 | ERROR | |||||||
| Package 25/28 | Hostname | OS / Arch | CHECK | ||||||
| rhdf5 2.42.1 (landing page) Mike Smith
| nebbiolo2 | Linux (Ubuntu 20.04.5 LTS) / x86_64 | OK | ||||||
| palomino4 | Windows Server 2022 Datacenter / x64 | OK | |||||||
| lconway | macOS 12.5.1 Monterey / x86_64 | OK | |||||||
| Package 26/28 | Hostname | OS / Arch | CHECK | ||||||
| SimBu 1.0.2 (landing page) Alexander Dietrich
| nebbiolo2 | Linux (Ubuntu 20.04.5 LTS) / x86_64 | ERROR | ||||||
| palomino4 | Windows Server 2022 Datacenter / x64 | ERROR | |||||||
| lconway | macOS 12.5.1 Monterey / x86_64 | ERROR | |||||||
| Package 27/28 | Hostname | OS / Arch | CHECK | ||||||
| xcms 3.20.0 (landing page) Steffen Neumann
| nebbiolo2 | Linux (Ubuntu 20.04.5 LTS) / x86_64 | ERROR | ||||||
| palomino4 | Windows Server 2022 Datacenter / x64 | ERROR | |||||||
| lconway | macOS 12.5.1 Monterey / x86_64 | ERROR | |||||||
| Package 28/28 | Hostname | OS / Arch | CHECK | ||||||
| zellkonverter 1.8.0 (landing page) Luke Zappia
| nebbiolo2 | Linux (Ubuntu 20.04.5 LTS) / x86_64 | OK | ||||||
| palomino4 | Windows Server 2022 Datacenter / x64 | ERROR | |||||||
| lconway | macOS 12.5.1 Monterey / x86_64 | OK | |||||||