| Back to Long Tests report for BioC 3.16 |
This page was generated on 2023-04-15 21:30:03 -0400 (Sat, 15 Apr 2023).
| QUICK STATS | OS / Arch | CHECK | |||||||
| nebbiolo2 | Linux (Ubuntu 20.04.5 LTS) / x86_64 |
| |||||||
| palomino4 | Windows Server 2022 Datacenter / x64 |
| |||||||
| lconway | macOS 12.5.1 Monterey / x86_64 |
| |||||||
| Package | Maintainer | CHECK | |||||||
| 1/28 | APAlyzer 1.12.0 (landing page) | Ruijia Wang | ERROR | ||||||
| 2/28 | autonomics 1.6.0 (landing page) | Aditya Bhagwat | ERROR | ||||||
| 3/28 | beachmat 2.14.2 (landing page) | Aaron Lun | ERROR | ||||||
| 4/28 | biodb 1.6.1 (landing page) | Pierrick Roger | ERROR | ||||||
| 5/28 | biodbChebi 1.4.0 (landing page) | Pierrick Roger | OK | ||||||
| 6/28 | biodbExpasy 1.2.0 (landing page) | Pierrick Roger | OK | ||||||
| 7/28 | biodbHmdb 1.4.0 (landing page) | Pierrick Roger | OK | ||||||
| 8/28 | biodbKegg 1.4.0 (landing page) | Pierrick Roger | OK | ||||||
| 9/28 | biodbLipidmaps 1.4.1 (landing page) | Pierrick Roger | OK | ||||||
| 10/28 | biodbMirbase 1.2.2 (landing page) | Pierrick Roger | OK | ||||||
| 11/28 | biodbNcbi 1.2.0 (landing page) | Pierrick Roger | WARNINGS | ||||||
| 12/28 | biodbNci 1.2.0 (landing page) | Pierrick Roger | OK | ||||||
| 13/28 | biodbUniprot 1.4.0 (landing page) | Pierrick Roger | OK | ||||||
| 14/28 | cBioPortalData 2.10.3 (landing page) | Marcel Ramos | ERROR | ||||||
| 15/28 | ChromSCape 1.8.0 (landing page) | Pacome Prompsy | ERROR | ||||||
| 16/28 | clusterExperiment 2.18.2 (landing page) | Elizabeth Purdom | ERROR | ||||||
| 17/28 | crisprScore 1.2.0 (landing page) | Jean-Philippe Fortin | OK | ||||||
| 18/28 | DelayedMatrixStats 1.20.0 (landing page) | Peter Hickey | OK | ||||||
| 19/28 | DropletUtils 1.18.1 (landing page) | Jonathan Griffiths | OK | ||||||
| 20/28 | EpiMix 1.0.2 (landing page) | Yuanning Zheng | WARNINGS | ||||||
| 21/28 | extraChIPs 1.2.4 (landing page) | Stephen Pederson | OK | ||||||
| 22/28 | GenomicFeatures 1.50.4 (landing page) | H. Pagès | WARNINGS | ||||||
| 23/28 | HDF5Array 1.26.0 (landing page) | Hervé Pagès | ERROR | ||||||
| 24/28 | midasHLA 1.6.0 (landing page) | Maciej Migdał | ERROR | ||||||
| 25/28 | rhdf5 2.42.1 (landing page) | Mike Smith | OK | ||||||
| 26/28 | SimBu 1.0.2 (landing page) | Alexander Dietrich | ERROR | ||||||
| 27/28 | xcms 3.20.0 (landing page) | Steffen Neumann | ERROR | ||||||
| 28/28 | zellkonverter 1.8.0 (landing page) | Luke Zappia | ERROR | ||||||