| Back to Multiple platform build/check report for BioC 3.16: simplified long |
|
This page was generated on 2023-04-12 11:05:22 -0400 (Wed, 12 Apr 2023).
| Hostname | OS | Arch (*) | R version | Installed pkgs |
|---|---|---|---|---|
| nebbiolo2 | Linux (Ubuntu 20.04.5 LTS) | x86_64 | 4.2.3 (2023-03-15) -- "Shortstop Beagle" | 4502 |
| palomino4 | Windows Server 2022 Datacenter | x64 | 4.2.3 (2023-03-15 ucrt) -- "Shortstop Beagle" | 4282 |
| lconway | macOS 12.5.1 Monterey | x86_64 | 4.2.3 (2023-03-15) -- "Shortstop Beagle" | 4310 |
| Click on any hostname to see more info about the system (e.g. compilers) (*) as reported by 'uname -p', except on Windows and Mac OS X | ||||
|
To the developers/maintainers of the twoddpcr package: - Please allow up to 24 hours (and sometimes 48 hours) for your latest push to git@git.bioconductor.org:packages/twoddpcr.git to reflect on this report. See How and When does the builder pull? When will my changes propagate? for more information. - Make sure to use the following settings in order to reproduce any error or warning you see on this page. |
| Package 2113/2183 | Hostname | OS / Arch | INSTALL | BUILD | CHECK | BUILD BIN | ||||||||
| twoddpcr 1.22.0 (landing page) Anthony Chiu
| nebbiolo2 | Linux (Ubuntu 20.04.5 LTS) / x86_64 | OK | OK | OK | |||||||||
| palomino4 | Windows Server 2022 Datacenter / x64 | OK | OK | OK | OK | |||||||||
| lconway | macOS 12.5.1 Monterey / x86_64 | OK | OK | OK | OK | |||||||||
| Package: twoddpcr |
| Version: 1.22.0 |
| Command: /home/biocbuild/bbs-3.16-bioc/R/bin/R CMD check --install=check:twoddpcr.install-out.txt --library=/home/biocbuild/bbs-3.16-bioc/R/site-library --timings twoddpcr_1.22.0.tar.gz |
| StartedAt: 2023-04-11 00:42:50 -0400 (Tue, 11 Apr 2023) |
| EndedAt: 2023-04-11 00:46:57 -0400 (Tue, 11 Apr 2023) |
| EllapsedTime: 247.6 seconds |
| RetCode: 0 |
| Status: OK |
| CheckDir: twoddpcr.Rcheck |
| Warnings: 0 |
##############################################################################
##############################################################################
###
### Running command:
###
### /home/biocbuild/bbs-3.16-bioc/R/bin/R CMD check --install=check:twoddpcr.install-out.txt --library=/home/biocbuild/bbs-3.16-bioc/R/site-library --timings twoddpcr_1.22.0.tar.gz
###
##############################################################################
##############################################################################
* using log directory ‘/home/biocbuild/bbs-3.16-bioc/meat/twoddpcr.Rcheck’
* using R version 4.2.3 (2023-03-15)
* using platform: x86_64-pc-linux-gnu (64-bit)
* using session charset: UTF-8
* checking for file ‘twoddpcr/DESCRIPTION’ ... OK
* this is package ‘twoddpcr’ version ‘1.22.0’
* checking package namespace information ... OK
* checking package dependencies ... OK
* checking if this is a source package ... OK
* checking if there is a namespace ... OK
* checking for hidden files and directories ... OK
* checking for portable file names ... OK
* checking for sufficient/correct file permissions ... OK
* checking whether package ‘twoddpcr’ can be installed ... OK
* checking installed package size ... OK
* checking package directory ... OK
* checking ‘build’ directory ... OK
* checking DESCRIPTION meta-information ... OK
* checking top-level files ... OK
* checking for left-over files ... OK
* checking index information ... OK
* checking package subdirectories ... OK
* checking R files for non-ASCII characters ... OK
* checking R files for syntax errors ... OK
* checking whether the package can be loaded ... OK
* checking whether the package can be loaded with stated dependencies ... OK
* checking whether the package can be unloaded cleanly ... OK
* checking whether the namespace can be loaded with stated dependencies ... OK
* checking whether the namespace can be unloaded cleanly ... OK
* checking loading without being on the library search path ... OK
* checking dependencies in R code ... OK
* checking S3 generic/method consistency ... OK
* checking replacement functions ... OK
* checking foreign function calls ... OK
* checking R code for possible problems ... OK
* checking Rd files ... OK
* checking Rd metadata ... OK
* checking Rd cross-references ... OK
* checking for missing documentation entries ... OK
* checking for code/documentation mismatches ... OK
* checking Rd \usage sections ... OK
* checking Rd contents ... OK
* checking for unstated dependencies in examples ... OK
* checking contents of ‘data’ directory ... OK
* checking data for non-ASCII characters ... OK
* checking LazyData ... OK
* checking data for ASCII and uncompressed saves ... OK
* checking files in ‘vignettes’ ... OK
* checking examples ... OK
Examples with CPU (user + system) or elapsed time > 5s
user system elapsed
knnClassify 6.943 0.047 6.991
ggplot.well 6.619 0.112 6.733
* checking for unstated dependencies in ‘tests’ ... OK
* checking tests ...
Running ‘testthat.R’
OK
* checking for unstated dependencies in vignettes ... OK
* checking package vignettes in ‘inst/doc’ ... OK
* checking running R code from vignettes ...
‘twoddpcr.Rmd’ using ‘UTF-8’... OK
NONE
* checking re-building of vignette outputs ... OK
* checking PDF version of manual ... OK
* DONE
Status: OK
twoddpcr.Rcheck/00install.out
############################################################################## ############################################################################## ### ### Running command: ### ### /home/biocbuild/bbs-3.16-bioc/R/bin/R CMD INSTALL twoddpcr ### ############################################################################## ############################################################################## * installing to library ‘/home/biocbuild/bbs-3.16-bioc/R/site-library’ * installing *source* package ‘twoddpcr’ ... ** using staged installation ** R ** data *** moving datasets to lazyload DB ** inst ** byte-compile and prepare package for lazy loading ** help *** installing help indices ** building package indices ** installing vignettes ** testing if installed package can be loaded from temporary location ** testing if installed package can be loaded from final location ** testing if installed package keeps a record of temporary installation path * DONE (twoddpcr)
twoddpcr.Rcheck/tests/testthat.Rout
R version 4.2.3 (2023-03-15) -- "Shortstop Beagle"
Copyright (C) 2023 The R Foundation for Statistical Computing
Platform: x86_64-pc-linux-gnu (64-bit)
R is free software and comes with ABSOLUTELY NO WARRANTY.
You are welcome to redistribute it under certain conditions.
Type 'license()' or 'licence()' for distribution details.
R is a collaborative project with many contributors.
Type 'contributors()' for more information and
'citation()' on how to cite R or R packages in publications.
Type 'demo()' for some demos, 'help()' for on-line help, or
'help.start()' for an HTML browser interface to help.
Type 'q()' to quit R.
> library(testthat)
> library(twoddpcr)
>
> test_check("twoddpcr")
[ FAIL 0 | WARN 2 | SKIP 0 | PASS 155 ]
[ FAIL 0 | WARN 2 | SKIP 0 | PASS 155 ]
>
> proc.time()
user system elapsed
6.889 0.443 7.318
twoddpcr.Rcheck/twoddpcr-Ex.timings
| name | user | system | elapsed | |
| amplitudes | 0.313 | 0.037 | 0.348 | |
| basicsSummary | 0.005 | 0.000 | 0.005 | |
| castSummary | 0.018 | 0.000 | 0.017 | |
| classCov | 0.052 | 0.000 | 0.052 | |
| classMeans | 0.065 | 0.000 | 0.065 | |
| classStats | 0.067 | 0.000 | 0.067 | |
| clusterCentres | 0.712 | 0.019 | 0.732 | |
| copiesSummary | 0.005 | 0.001 | 0.004 | |
| ddpcrPlate-class | 0.29 | 0.00 | 0.29 | |
| ddpcrWell-class | 0.025 | 0.000 | 0.024 | |
| ddpcrWell-methods | 0.256 | 0.000 | 0.256 | |
| dropletPlot | 4.338 | 0.051 | 4.391 | |
| exportTable | 0.112 | 0.019 | 0.131 | |
| extractPlateName | 0.000 | 0.000 | 0.001 | |
| extractWellNames | 0 | 0 | 0 | |
| facetPlot | 1.986 | 0.084 | 2.070 | |
| flatPlot | 4.322 | 0.088 | 4.411 | |
| fullCopiesSummary | 0.006 | 0.000 | 0.007 | |
| fullCountsSummary | 0.017 | 0.008 | 0.026 | |
| ggplot.well | 6.619 | 0.112 | 6.733 | |
| gridClassify | 4.597 | 0.092 | 4.689 | |
| heatPlot | 1.565 | 0.011 | 1.577 | |
| kmeansClassify | 1.008 | 0.000 | 1.008 | |
| knnClassify | 6.943 | 0.047 | 6.991 | |
| mahalanobisRain | 0.641 | 0.008 | 0.649 | |
| mutantCopiesSummary | 0.004 | 0.000 | 0.004 | |
| numDroplets | 0.263 | 0.002 | 0.266 | |
| parseClusterCounts | 0.010 | 0.001 | 0.010 | |
| plateClassification | 1.076 | 0.000 | 1.076 | |
| plateClassificationMethod | 0.346 | 0.000 | 0.346 | |
| plateSummary | 2.178 | 0.000 | 2.178 | |
| positiveCounts | 0.056 | 0.000 | 0.056 | |
| readCSVDataFrame | 0.01 | 0.00 | 0.01 | |
| relabelClasses | 0.065 | 0.000 | 0.065 | |
| removeDropletClasses | 0.691 | 0.000 | 0.691 | |
| renormalisePlate | 3.176 | 0.012 | 3.188 | |
| sdRain | 3.303 | 0.032 | 3.335 | |
| setChannelNames | 0.001 | 0.000 | 0.001 | |
| setDropletVolume | 0 | 0 | 0 | |
| sortDataFrame | 0.000 | 0.001 | 0.002 | |
| sortWells | 0.278 | 0.004 | 0.282 | |
| thresholdClassify | 1.632 | 0.009 | 1.640 | |
| wellClassification | 0.02 | 0.00 | 0.02 | |
| wellClassificationMethod | 0.021 | 0.000 | 0.022 | |
| whiteTheme | 1.406 | 0.015 | 1.422 | |
| wildTypeCopiesSummary | 0.003 | 0.000 | 0.004 | |