| Back to Multiple platform build/check report for BioC 3.16: simplified long |
|
This page was generated on 2023-04-12 11:05:54 -0400 (Wed, 12 Apr 2023).
| Hostname | OS | Arch (*) | R version | Installed pkgs |
|---|---|---|---|---|
| nebbiolo2 | Linux (Ubuntu 20.04.5 LTS) | x86_64 | 4.2.3 (2023-03-15) -- "Shortstop Beagle" | 4502 |
| palomino4 | Windows Server 2022 Datacenter | x64 | 4.2.3 (2023-03-15 ucrt) -- "Shortstop Beagle" | 4282 |
| lconway | macOS 12.5.1 Monterey | x86_64 | 4.2.3 (2023-03-15) -- "Shortstop Beagle" | 4310 |
| Click on any hostname to see more info about the system (e.g. compilers) (*) as reported by 'uname -p', except on Windows and Mac OS X | ||||
|
To the developers/maintainers of the struct package: - Please allow up to 24 hours (and sometimes 48 hours) for your latest push to git@git.bioconductor.org:packages/struct.git to reflect on this report. See How and When does the builder pull? When will my changes propagate? for more information. - Make sure to use the following settings in order to reproduce any error or warning you see on this page. |
| Package 1984/2183 | Hostname | OS / Arch | INSTALL | BUILD | CHECK | BUILD BIN | ||||||||
| struct 1.10.0 (landing page) Gavin Rhys Lloyd
| nebbiolo2 | Linux (Ubuntu 20.04.5 LTS) / x86_64 | OK | OK | OK | |||||||||
| palomino4 | Windows Server 2022 Datacenter / x64 | OK | OK | OK | OK | |||||||||
| lconway | macOS 12.5.1 Monterey / x86_64 | OK | OK | OK | OK | |||||||||
| Package: struct |
| Version: 1.10.0 |
| Command: F:\biocbuild\bbs-3.16-bioc\R\bin\R.exe CMD check --no-multiarch --install=check:struct.install-out.txt --library=F:\biocbuild\bbs-3.16-bioc\R\library --no-vignettes --timings struct_1.10.0.tar.gz |
| StartedAt: 2023-04-11 06:32:35 -0400 (Tue, 11 Apr 2023) |
| EndedAt: 2023-04-11 06:35:27 -0400 (Tue, 11 Apr 2023) |
| EllapsedTime: 171.4 seconds |
| RetCode: 0 |
| Status: OK |
| CheckDir: struct.Rcheck |
| Warnings: 0 |
############################################################################## ############################################################################## ### ### Running command: ### ### F:\biocbuild\bbs-3.16-bioc\R\bin\R.exe CMD check --no-multiarch --install=check:struct.install-out.txt --library=F:\biocbuild\bbs-3.16-bioc\R\library --no-vignettes --timings struct_1.10.0.tar.gz ### ############################################################################## ############################################################################## * using log directory 'F:/biocbuild/bbs-3.16-bioc/meat/struct.Rcheck' * using R version 4.2.3 (2023-03-15 ucrt) * using platform: x86_64-w64-mingw32 (64-bit) * using session charset: UTF-8 * using option '--no-vignettes' * checking for file 'struct/DESCRIPTION' ... OK * checking extension type ... Package * this is package 'struct' version '1.10.0' * package encoding: UTF-8 * checking package namespace information ... OK * checking package dependencies ... OK * checking if this is a source package ... OK * checking if there is a namespace ... OK * checking for hidden files and directories ... OK * checking for portable file names ... OK * checking whether package 'struct' can be installed ... OK * checking installed package size ... OK * checking package directory ... OK * checking 'build' directory ... OK * checking DESCRIPTION meta-information ... OK * checking top-level files ... OK * checking for left-over files ... OK * checking index information ... OK * checking package subdirectories ... OK * checking R files for non-ASCII characters ... OK * checking R files for syntax errors ... OK * checking whether the package can be loaded ... OK * checking whether the package can be loaded with stated dependencies ... OK * checking whether the package can be unloaded cleanly ... OK * checking whether the namespace can be loaded with stated dependencies ... OK * checking whether the namespace can be unloaded cleanly ... OK * checking dependencies in R code ... OK * checking S3 generic/method consistency ... OK * checking replacement functions ... OK * checking foreign function calls ... OK * checking R code for possible problems ... OK * checking Rd files ... OK * checking Rd metadata ... OK * checking Rd cross-references ... OK * checking for missing documentation entries ... OK * checking for code/documentation mismatches ... OK * checking Rd \usage sections ... OK * checking Rd contents ... OK * checking for unstated dependencies in examples ... OK * checking files in 'vignettes' ... OK * checking examples ... OK * checking for unstated dependencies in 'tests' ... OK * checking tests ... Running 'testthat.R' OK * checking for unstated dependencies in vignettes ... OK * checking package vignettes in 'inst/doc' ... OK * checking running R code from vignettes ... SKIPPED * checking re-building of vignette outputs ... SKIPPED * checking PDF version of manual ... OK * DONE Status: OK
struct.Rcheck/00install.out
############################################################################## ############################################################################## ### ### Running command: ### ### F:\biocbuild\bbs-3.16-bioc\R\bin\R.exe CMD INSTALL struct ### ############################################################################## ############################################################################## * installing to library 'F:/biocbuild/bbs-3.16-bioc/R/library' * installing *source* package 'struct' ... ** using staged installation ** R ** inst ** byte-compile and prepare package for lazy loading ** help *** installing help indices ** building package indices ** installing vignettes ** testing if installed package can be loaded from temporary location ** testing if installed package can be loaded from final location ** testing if installed package keeps a record of temporary installation path * DONE (struct)
struct.Rcheck/tests/testthat.Rout
R version 4.2.3 (2023-03-15 ucrt) -- "Shortstop Beagle"
Copyright (C) 2023 The R Foundation for Statistical Computing
Platform: x86_64-w64-mingw32/x64 (64-bit)
R is free software and comes with ABSOLUTELY NO WARRANTY.
You are welcome to redistribute it under certain conditions.
Type 'license()' or 'licence()' for distribution details.
R is a collaborative project with many contributors.
Type 'contributors()' for more information and
'citation()' on how to cite R or R packages in publications.
Type 'demo()' for some demos, 'help()' for on-line help, or
'help.start()' for an HTML browser interface to help.
Type 'q()' to quit R.
> library(testthat)
> library(struct)
> library(SummarizedExperiment)
Loading required package: MatrixGenerics
Loading required package: matrixStats
Attaching package: 'MatrixGenerics'
The following objects are masked from 'package:matrixStats':
colAlls, colAnyNAs, colAnys, colAvgsPerRowSet, colCollapse,
colCounts, colCummaxs, colCummins, colCumprods, colCumsums,
colDiffs, colIQRDiffs, colIQRs, colLogSumExps, colMadDiffs,
colMads, colMaxs, colMeans2, colMedians, colMins, colOrderStats,
colProds, colQuantiles, colRanges, colRanks, colSdDiffs, colSds,
colSums2, colTabulates, colVarDiffs, colVars, colWeightedMads,
colWeightedMeans, colWeightedMedians, colWeightedSds,
colWeightedVars, rowAlls, rowAnyNAs, rowAnys, rowAvgsPerColSet,
rowCollapse, rowCounts, rowCummaxs, rowCummins, rowCumprods,
rowCumsums, rowDiffs, rowIQRDiffs, rowIQRs, rowLogSumExps,
rowMadDiffs, rowMads, rowMaxs, rowMeans2, rowMedians, rowMins,
rowOrderStats, rowProds, rowQuantiles, rowRanges, rowRanks,
rowSdDiffs, rowSds, rowSums2, rowTabulates, rowVarDiffs, rowVars,
rowWeightedMads, rowWeightedMeans, rowWeightedMedians,
rowWeightedSds, rowWeightedVars
Loading required package: GenomicRanges
Loading required package: stats4
Loading required package: BiocGenerics
Attaching package: 'BiocGenerics'
The following objects are masked from 'package:stats':
IQR, mad, sd, var, xtabs
The following objects are masked from 'package:base':
Filter, Find, Map, Position, Reduce, anyDuplicated, aperm, append,
as.data.frame, basename, cbind, colnames, dirname, do.call,
duplicated, eval, evalq, get, grep, grepl, intersect, is.unsorted,
lapply, mapply, match, mget, order, paste, pmax, pmax.int, pmin,
pmin.int, rank, rbind, rownames, sapply, setdiff, sort, table,
tapply, union, unique, unsplit, which.max, which.min
Loading required package: S4Vectors
Attaching package: 'S4Vectors'
The following objects are masked from 'package:base':
I, expand.grid, unname
Loading required package: IRanges
Attaching package: 'IRanges'
The following object is masked from 'package:grDevices':
windows
Loading required package: GenomeInfoDb
Loading required package: Biobase
Welcome to Bioconductor
Vignettes contain introductory material; view with
'browseVignettes()'. To cite Bioconductor, see
'citation("Biobase")', and for packages 'citation("pkgname")'.
Attaching package: 'Biobase'
The following object is masked from 'package:MatrixGenerics':
rowMedians
The following objects are masked from 'package:matrixStats':
anyMissing, rowMedians
>
> test_check("struct")
[ FAIL 0 | WARN 1 | SKIP 0 | PASS 150 ]
[ FAIL 0 | WARN 1 | SKIP 0 | PASS 150 ]
>
>
>
> proc.time()
user system elapsed
12.67 1.15 18.48
struct.Rcheck/struct-Ex.timings
| name | user | system | elapsed | |
| as.code | 0.01 | 0.03 | 0.05 | |
| cash-ontology_list-method | 0 | 0 | 0 | |
| cash-ontology_term-method | 0 | 0 | 0 | |
| cash-set-struct_class-method | 0.00 | 0.02 | 0.01 | |
| cash-struct_class-method | 0.02 | 0.00 | 0.02 | |
| chart | 0 | 0 | 0 | |
| chart_example | 0.01 | 0.00 | 0.01 | |
| chart_names | 0.02 | 0.00 | 0.02 | |
| chart_plot | 0.06 | 0.00 | 0.06 | |
| citations | 0.11 | 0.06 | 0.17 | |
| entity | 0.01 | 0.00 | 0.02 | |
| entity_stato | 0 | 0 | 0 | |
| enum | 0 | 0 | 0 | |
| enum_stato | 0.02 | 0.00 | 0.02 | |
| example_iterator | 0.02 | 0.02 | 0.03 | |
| example_model | 0.07 | 0.06 | 0.14 | |
| export_data | 0 | 0 | 0 | |
| iris_DatasetExperiment | 0.02 | 0.00 | 0.02 | |
| is_output | 0 | 0 | 0 | |
| is_param | 0 | 0 | 0 | |
| iterator | 0.07 | 0.03 | 0.11 | |
| libraries | 0.02 | 0.00 | 0.02 | |
| metric | 0 | 0 | 0 | |
| model | 0.2 | 0.0 | 0.2 | |
| model_apply | 0.13 | 0.00 | 0.13 | |
| model_reverse | 0.03 | 0.00 | 0.03 | |
| model_seq | 0.44 | 0.02 | 0.45 | |
| models | 0.01 | 0.00 | 0.02 | |
| new_struct | 0 | 0 | 0 | |
| ontology | 0 | 0 | 0 | |
| optimiser | 0 | 0 | 0 | |
| output_ids | 0 | 0 | 0 | |
| output_list | 0.04 | 0.00 | 0.05 | |
| output_name | 0 | 0 | 0 | |
| output_obj | 0.02 | 0.00 | 0.02 | |
| output_value | 0.06 | 0.02 | 0.07 | |
| param_ids | 0 | 0 | 0 | |
| param_list | 0.02 | 0.00 | 0.02 | |
| param_name | 0 | 0 | 0 | |
| param_obj | 0 | 0 | 0 | |
| param_value | 0 | 0 | 0 | |
| predict | 0.04 | 0.00 | 0.05 | |
| predicted | 0.15 | 0.00 | 0.14 | |
| predicted_name | 0.01 | 0.00 | 0.02 | |
| preprocessing | 0.02 | 0.00 | 0.01 | |
| resampler | 0 | 0 | 0 | |
| result | 0.03 | 0.00 | 0.03 | |
| result_name | 0 | 0 | 0 | |
| seq_in | 0 | 0 | 0 | |
| set_obj_method | 0 | 0 | 0 | |
| set_obj_show | 0.02 | 0.00 | 0.02 | |
| stato | 1.11 | 0.00 | 1.14 | |
| struct_class-class | 0 | 0 | 0 | |
| struct_template | 0 | 0 | 0 | |
| test_metric | 0 | 0 | 0 | |
| train | 0.08 | 0.00 | 0.07 | |