| Back to Multiple platform build/check report for BioC 3.16: simplified long |
|
This page was generated on 2023-04-12 11:05:19 -0400 (Wed, 12 Apr 2023).
| Hostname | OS | Arch (*) | R version | Installed pkgs |
|---|---|---|---|---|
| nebbiolo2 | Linux (Ubuntu 20.04.5 LTS) | x86_64 | 4.2.3 (2023-03-15) -- "Shortstop Beagle" | 4502 |
| palomino4 | Windows Server 2022 Datacenter | x64 | 4.2.3 (2023-03-15 ucrt) -- "Shortstop Beagle" | 4282 |
| lconway | macOS 12.5.1 Monterey | x86_64 | 4.2.3 (2023-03-15) -- "Shortstop Beagle" | 4310 |
| Click on any hostname to see more info about the system (e.g. compilers) (*) as reported by 'uname -p', except on Windows and Mac OS X | ||||
|
To the developers/maintainers of the signatureSearch package: - Please allow up to 24 hours (and sometimes 48 hours) for your latest push to git@git.bioconductor.org:packages/signatureSearch.git to reflect on this report. See How and When does the builder pull? When will my changes propagate? for more information. - Make sure to use the following settings in order to reproduce any error or warning you see on this page. |
| Package 1869/2183 | Hostname | OS / Arch | INSTALL | BUILD | CHECK | BUILD BIN | ||||||||
| signatureSearch 1.12.0 (landing page) Brendan Gongol
| nebbiolo2 | Linux (Ubuntu 20.04.5 LTS) / x86_64 | OK | OK | OK | |||||||||
| palomino4 | Windows Server 2022 Datacenter / x64 | OK | OK | OK | OK | |||||||||
| lconway | macOS 12.5.1 Monterey / x86_64 | OK | OK | OK | OK | |||||||||
| Package: signatureSearch |
| Version: 1.12.0 |
| Command: /home/biocbuild/bbs-3.16-bioc/R/bin/R CMD check --install=check:signatureSearch.install-out.txt --library=/home/biocbuild/bbs-3.16-bioc/R/site-library --timings signatureSearch_1.12.0.tar.gz |
| StartedAt: 2023-04-11 00:01:39 -0400 (Tue, 11 Apr 2023) |
| EndedAt: 2023-04-11 00:14:35 -0400 (Tue, 11 Apr 2023) |
| EllapsedTime: 776.4 seconds |
| RetCode: 0 |
| Status: OK |
| CheckDir: signatureSearch.Rcheck |
| Warnings: 0 |
##############################################################################
##############################################################################
###
### Running command:
###
### /home/biocbuild/bbs-3.16-bioc/R/bin/R CMD check --install=check:signatureSearch.install-out.txt --library=/home/biocbuild/bbs-3.16-bioc/R/site-library --timings signatureSearch_1.12.0.tar.gz
###
##############################################################################
##############################################################################
* using log directory ‘/home/biocbuild/bbs-3.16-bioc/meat/signatureSearch.Rcheck’
* using R version 4.2.3 (2023-03-15)
* using platform: x86_64-pc-linux-gnu (64-bit)
* using session charset: UTF-8
* checking for file ‘signatureSearch/DESCRIPTION’ ... OK
* this is package ‘signatureSearch’ version ‘1.12.0’
* package encoding: UTF-8
* checking package namespace information ... OK
* checking package dependencies ... OK
* checking if this is a source package ... OK
* checking if there is a namespace ... OK
* checking for hidden files and directories ... NOTE
Found the following hidden files and directories:
inst/extdata/.batchtools.conf.R
These were most likely included in error. See section ‘Package
structure’ in the ‘Writing R Extensions’ manual.
* checking for portable file names ... OK
* checking for sufficient/correct file permissions ... OK
* checking whether package ‘signatureSearch’ can be installed ... OK
* checking installed package size ... NOTE
installed size is 89.5Mb
sub-directories of 1Mb or more:
R 82.8Mb
data 2.9Mb
extdata 1.5Mb
libs 2.1Mb
* checking package directory ... OK
* checking ‘build’ directory ... OK
* checking DESCRIPTION meta-information ... OK
* checking top-level files ... OK
* checking for left-over files ... OK
* checking index information ... OK
* checking package subdirectories ... OK
* checking R files for non-ASCII characters ... OK
* checking R files for syntax errors ... OK
* checking whether the package can be loaded ... OK
* checking whether the package can be loaded with stated dependencies ... OK
* checking whether the package can be unloaded cleanly ... OK
* checking whether the namespace can be loaded with stated dependencies ... OK
* checking whether the namespace can be unloaded cleanly ... OK
* checking loading without being on the library search path ... OK
* checking dependencies in R code ... OK
* checking S3 generic/method consistency ... OK
* checking replacement functions ... OK
* checking foreign function calls ... OK
* checking R code for possible problems ... OK
* checking Rd files ... OK
* checking Rd metadata ... OK
* checking Rd cross-references ... OK
* checking for missing documentation entries ... OK
* checking for code/documentation mismatches ... OK
* checking Rd \usage sections ... OK
* checking Rd contents ... OK
* checking for unstated dependencies in examples ... OK
* checking contents of ‘data’ directory ... OK
* checking data for non-ASCII characters ... NOTE
Note: found 147 marked UTF-8 strings
* checking LazyData ... OK
* checking data for ASCII and uncompressed saves ... OK
* checking R/sysdata.rda ... OK
* checking line endings in C/C++/Fortran sources/headers ... OK
* checking compiled code ... NOTE
Note: information on .o files is not available
* checking files in ‘vignettes’ ... OK
* checking examples ... OK
Examples with CPU (user + system) or elapsed time > 5s
user system elapsed
set_readable 37.907 0.951 39.259
runWF 30.662 2.851 45.224
rand_query_ES 5.749 3.862 11.505
addGESSannot 4.501 0.459 5.512
* checking for unstated dependencies in ‘tests’ ... OK
* checking tests ...
Running ‘testthat.R’
OK
* checking for unstated dependencies in vignettes ... OK
* checking package vignettes in ‘inst/doc’ ... OK
* checking running R code from vignettes ...
‘signatureSearch.Rmd’ using ‘UTF-8’... OK
NONE
* checking re-building of vignette outputs ... OK
* checking PDF version of manual ... OK
* DONE
Status: 4 NOTEs
See
‘/home/biocbuild/bbs-3.16-bioc/meat/signatureSearch.Rcheck/00check.log’
for details.
signatureSearch.Rcheck/00install.out
##############################################################################
##############################################################################
###
### Running command:
###
### /home/biocbuild/bbs-3.16-bioc/R/bin/R CMD INSTALL signatureSearch
###
##############################################################################
##############################################################################
* installing to library ‘/home/biocbuild/bbs-3.16-bioc/R/site-library’
* installing *source* package ‘signatureSearch’ ...
** using staged installation
** libs
g++ -std=gnu++11 -I"/home/biocbuild/bbs-3.16-bioc/R/include" -DNDEBUG -I'/home/biocbuild/bbs-3.16-bioc/R/site-library/Rcpp/include' -I/usr/local/include -fpic -g -O2 -Wall -c RcppExports.cpp -o RcppExports.o
g++ -std=gnu++11 -I"/home/biocbuild/bbs-3.16-bioc/R/include" -DNDEBUG -I'/home/biocbuild/bbs-3.16-bioc/R/site-library/Rcpp/include' -I/usr/local/include -fpic -g -O2 -Wall -c fastGSEA.cpp -o fastGSEA.o
fastGSEA.cpp: In function ‘Rcpp::NumericVector calcGseaStatBatchCpp(const NumericVector&, const List&, const IntegerVector&)’:
fastGSEA.cpp:444:27: warning: comparison of integer expressions of different signedness: ‘int’ and ‘std::vector<int>::size_type’ {aka ‘long unsigned int’} [-Wsign-compare]
444 | for (int j = 0; j < S.size(); ++j) {
| ~~^~~~~~~~~~
gcc -I"/home/biocbuild/bbs-3.16-bioc/R/include" -DNDEBUG -I'/home/biocbuild/bbs-3.16-bioc/R/site-library/Rcpp/include' -I/usr/local/include -fpic -g -O2 -Wall -c fgsea_init.c -o fgsea_init.o
g++ -std=gnu++11 -shared -L/home/biocbuild/bbs-3.16-bioc/R/lib -L/usr/local/lib -o signatureSearch.so RcppExports.o fastGSEA.o fgsea_init.o -L/home/biocbuild/bbs-3.16-bioc/R/lib -lR
installing to /home/biocbuild/bbs-3.16-bioc/R/site-library/00LOCK-signatureSearch/00new/signatureSearch/libs
** R
** data
*** moving datasets to lazyload DB
** inst
** byte-compile and prepare package for lazy loading
** help
*** installing help indices
** building package indices
** installing vignettes
** testing if installed package can be loaded from temporary location
** checking absolute paths in shared objects and dynamic libraries
** testing if installed package can be loaded from final location
** testing if installed package keeps a record of temporary installation path
* DONE (signatureSearch)
signatureSearch.Rcheck/tests/testthat.Rout
R version 4.2.3 (2023-03-15) -- "Shortstop Beagle"
Copyright (C) 2023 The R Foundation for Statistical Computing
Platform: x86_64-pc-linux-gnu (64-bit)
R is free software and comes with ABSOLUTELY NO WARRANTY.
You are welcome to redistribute it under certain conditions.
Type 'license()' or 'licence()' for distribution details.
R is a collaborative project with many contributors.
Type 'contributors()' for more information and
'citation()' on how to cite R or R packages in publications.
Type 'demo()' for some demos, 'help()' for on-line help, or
'help.start()' for an HTML browser interface to help.
Type 'q()' to quit R.
> # library(testthat)
> # library(signatureSearch)
> #
> # test_check("signatureSearch")
>
> proc.time()
user system elapsed
0.223 0.023 0.231
signatureSearch.Rcheck/signatureSearch-Ex.timings
| name | user | system | elapsed | |
| addGESSannot | 4.501 | 0.459 | 5.512 | |
| addMOA | 0.239 | 0.024 | 0.263 | |
| add_pcid | 0.000 | 0.001 | 0.001 | |
| append2H5 | 0.059 | 0.002 | 0.061 | |
| build_custom_db | 0.254 | 0.016 | 0.270 | |
| cellNtestPlot | 0.690 | 0.076 | 1.053 | |
| cell_info | 0.02 | 0.00 | 0.02 | |
| cell_info2 | 0.029 | 0.003 | 0.033 | |
| chembl_moa_list | 0.004 | 0.000 | 0.004 | |
| clue_moa_list | 0.004 | 0.001 | 0.004 | |
| comp_fea_res | 0.171 | 0.000 | 0.171 | |
| create_empty_h5 | 0.017 | 0.000 | 0.017 | |
| dim-methods | 0.006 | 0.000 | 0.006 | |
| drug_cell_ranks | 0.008 | 0.000 | 0.008 | |
| drugs-methods | 0.002 | 0.000 | 0.002 | |
| drugs10 | 0.001 | 0.000 | 0.001 | |
| dtnetplot | 1.929 | 0.164 | 2.465 | |
| enrichGO2 | 0 | 0 | 0 | |
| enrichKEGG2 | 0 | 0 | 0 | |
| enrichMOA | 0.036 | 0.002 | 0.038 | |
| enrichReactome | 0.001 | 0.000 | 0.000 | |
| fea | 0.002 | 0.000 | 0.002 | |
| feaResult | 0.002 | 0.000 | 0.002 | |
| gctx2h5 | 0.424 | 0.108 | 0.533 | |
| gess | 0.000 | 0.001 | 0.000 | |
| gessResult | 0.000 | 0.002 | 0.002 | |
| gess_res_vis | 0.278 | 0.019 | 0.297 | |
| getSig | 1.303 | 0.099 | 1.949 | |
| getTreats | 0.472 | 0.040 | 0.789 | |
| get_targets | 2.331 | 0.133 | 2.746 | |
| gmt2h5 | 0.081 | 0.005 | 0.086 | |
| gseGO2 | 0.000 | 0.001 | 0.002 | |
| gseKEGG2 | 0.007 | 0.003 | 0.009 | |
| gseReactome | 0.009 | 0.000 | 0.009 | |
| head-methods | 0.006 | 0.000 | 0.006 | |
| lincs_expr_inst_info | 0.030 | 0.004 | 0.034 | |
| lincs_pert_info | 1.034 | 0.136 | 1.170 | |
| lincs_pert_info2 | 0.222 | 0.024 | 0.245 | |
| lincs_sig_info | 0.035 | 0.000 | 0.035 | |
| list2df | 0.002 | 0.000 | 0.002 | |
| list_rev | 0.001 | 0.000 | 0.001 | |
| mabsGO | 0.001 | 0.000 | 0.001 | |
| mabsKEGG | 0.005 | 0.004 | 0.009 | |
| mabsReactome | 0.008 | 0.000 | 0.008 | |
| matrix2h5 | 0.043 | 0.000 | 0.043 | |
| meanExpr2h5 | 0.406 | 0.032 | 0.438 | |
| moa_conn | 0.018 | 0.004 | 0.022 | |
| parse_gctx | 0.064 | 0.004 | 0.068 | |
| qSig | 1.107 | 0.063 | 1.718 | |
| rand_query_ES | 5.749 | 3.862 | 11.505 | |
| read_gmt | 0.003 | 0.000 | 0.003 | |
| result-methods | 0.045 | 0.008 | 0.053 | |
| runWF | 30.662 | 2.851 | 45.224 | |
| set_readable | 37.907 | 0.951 | 39.259 | |
| show-methods | 0.04 | 0.00 | 0.04 | |
| sim_score_grp | 0.014 | 0.000 | 0.013 | |
| tail-methods | 0.007 | 0.000 | 0.008 | |
| tarReduce | 0 | 0 | 0 | |
| targetList | 0.001 | 0.002 | 0.004 | |
| vec_char_redu | 0 | 0 | 0 | |