| Back to Multiple platform build/check report for BioC 3.16: simplified long |
|
This page was generated on 2023-04-12 11:06:25 -0400 (Wed, 12 Apr 2023).
| Hostname | OS | Arch (*) | R version | Installed pkgs |
|---|---|---|---|---|
| nebbiolo2 | Linux (Ubuntu 20.04.5 LTS) | x86_64 | 4.2.3 (2023-03-15) -- "Shortstop Beagle" | 4502 |
| palomino4 | Windows Server 2022 Datacenter | x64 | 4.2.3 (2023-03-15 ucrt) -- "Shortstop Beagle" | 4282 |
| lconway | macOS 12.5.1 Monterey | x86_64 | 4.2.3 (2023-03-15) -- "Shortstop Beagle" | 4310 |
| Click on any hostname to see more info about the system (e.g. compilers) (*) as reported by 'uname -p', except on Windows and Mac OS X | ||||
|
To the developers/maintainers of the scHOT package: - Please allow up to 24 hours (and sometimes 48 hours) for your latest push to git@git.bioconductor.org:packages/scHOT.git to reflect on this report. See How and When does the builder pull? When will my changes propagate? for more information. - Make sure to use the following settings in order to reproduce any error or warning you see on this page. |
| Package 1801/2183 | Hostname | OS / Arch | INSTALL | BUILD | CHECK | BUILD BIN | ||||||||
| scHOT 1.10.0 (landing page) Shila Ghazanfar
| nebbiolo2 | Linux (Ubuntu 20.04.5 LTS) / x86_64 | OK | OK | OK | |||||||||
| palomino4 | Windows Server 2022 Datacenter / x64 | OK | OK | OK | OK | |||||||||
| lconway | macOS 12.5.1 Monterey / x86_64 | OK | OK | OK | OK | |||||||||
| Package: scHOT |
| Version: 1.10.0 |
| Command: /Library/Frameworks/R.framework/Resources/bin/R CMD check --install=check:scHOT.install-out.txt --library=/Library/Frameworks/R.framework/Resources/library --no-vignettes --timings scHOT_1.10.0.tar.gz |
| StartedAt: 2023-04-10 22:30:23 -0400 (Mon, 10 Apr 2023) |
| EndedAt: 2023-04-10 22:36:03 -0400 (Mon, 10 Apr 2023) |
| EllapsedTime: 339.8 seconds |
| RetCode: 0 |
| Status: OK |
| CheckDir: scHOT.Rcheck |
| Warnings: 0 |
##############################################################################
##############################################################################
###
### Running command:
###
### /Library/Frameworks/R.framework/Resources/bin/R CMD check --install=check:scHOT.install-out.txt --library=/Library/Frameworks/R.framework/Resources/library --no-vignettes --timings scHOT_1.10.0.tar.gz
###
##############################################################################
##############################################################################
* using log directory ‘/Users/biocbuild/bbs-3.16-bioc/meat/scHOT.Rcheck’
* using R version 4.2.3 (2023-03-15)
* using platform: x86_64-apple-darwin17.0 (64-bit)
* using session charset: UTF-8
* using option ‘--no-vignettes’
* checking for file ‘scHOT/DESCRIPTION’ ... OK
* checking extension type ... Package
* this is package ‘scHOT’ version ‘1.10.0’
* package encoding: UTF-8
* checking package namespace information ... OK
* checking package dependencies ... OK
* checking if this is a source package ... OK
* checking if there is a namespace ... OK
* checking for hidden files and directories ... OK
* checking for portable file names ... OK
* checking for sufficient/correct file permissions ... OK
* checking whether package ‘scHOT’ can be installed ... OK
* checking installed package size ... OK
* checking package directory ... OK
* checking ‘build’ directory ... OK
* checking DESCRIPTION meta-information ... OK
* checking top-level files ... OK
* checking for left-over files ... OK
* checking index information ... OK
* checking package subdirectories ... OK
* checking R files for non-ASCII characters ... OK
* checking R files for syntax errors ... OK
* checking whether the package can be loaded ... OK
* checking whether the package can be loaded with stated dependencies ... OK
* checking whether the package can be unloaded cleanly ... OK
* checking whether the namespace can be loaded with stated dependencies ... OK
* checking whether the namespace can be unloaded cleanly ... OK
* checking dependencies in R code ... OK
* checking S3 generic/method consistency ... OK
* checking replacement functions ... OK
* checking foreign function calls ... OK
* checking R code for possible problems ... OK
* checking Rd files ... OK
* checking Rd metadata ... OK
* checking Rd cross-references ... OK
* checking for missing documentation entries ... OK
* checking for code/documentation mismatches ... OK
* checking Rd \usage sections ... OK
* checking Rd contents ... OK
* checking for unstated dependencies in examples ... OK
* checking contents of ‘data’ directory ... OK
* checking data for non-ASCII characters ... OK
* checking LazyData ... OK
* checking data for ASCII and uncompressed saves ... OK
* checking files in ‘vignettes’ ... OK
* checking examples ... OK
Examples with CPU (user + system) or elapsed time > 5s
user system elapsed
scHOT 58.412 1.289 59.874
scHOT_performPermutationTest 56.263 1.244 57.713
scHOT_estimatePvalues 56.172 1.163 57.617
* checking for unstated dependencies in vignettes ... OK
* checking package vignettes in ‘inst/doc’ ... OK
* checking running R code from vignettes ... SKIPPED
* checking re-building of vignette outputs ... SKIPPED
* checking PDF version of manual ... OK
* DONE
Status: OK
scHOT.Rcheck/00install.out
############################################################################## ############################################################################## ### ### Running command: ### ### /Library/Frameworks/R.framework/Resources/bin/R CMD INSTALL scHOT ### ############################################################################## ############################################################################## * installing to library ‘/Library/Frameworks/R.framework/Versions/4.2/Resources/library’ * installing *source* package ‘scHOT’ ... ** using staged installation ** R ** data *** moving datasets to lazyload DB ** byte-compile and prepare package for lazy loading ** help *** installing help indices ** building package indices ** installing vignettes ** testing if installed package can be loaded from temporary location ** testing if installed package can be loaded from final location ** testing if installed package keeps a record of temporary installation path * DONE (scHOT)
scHOT.Rcheck/scHOT-Ex.timings
| name | user | system | elapsed | |
| params-set | 0.828 | 0.011 | 0.838 | |
| plotColouredExpression | 0.871 | 0.081 | 0.954 | |
| plotHigherOrderSequence | 1.835 | 0.072 | 1.927 | |
| positionColData-set | 0.167 | 0.003 | 0.170 | |
| positionType-set | 0.142 | 0.002 | 0.143 | |
| scHOT | 58.412 | 1.289 | 59.874 | |
| scHOT_addTestingScaffold | 0.157 | 0.002 | 0.160 | |
| scHOT_buildFromMatrix | 0.128 | 0.007 | 0.135 | |
| scHOT_buildFromSCE | 0.410 | 0.022 | 0.432 | |
| scHOT_calculateGlobalHigherOrderFunction | 0.186 | 0.003 | 0.189 | |
| scHOT_calculateHigherOrderTestStatistics | 0.769 | 0.012 | 0.783 | |
| scHOT_estimatePvalues | 56.172 | 1.163 | 57.617 | |
| scHOT_output-set | 0.123 | 0.002 | 0.125 | |
| scHOT_performPermutationTest | 56.263 | 1.244 | 57.713 | |
| scHOT_setPermutationScaffold | 0.185 | 0.003 | 0.197 | |
| scHOT_setWeightMatrix | 0.213 | 0.003 | 0.224 | |
| scHOT_stripOutput | 0.157 | 0.002 | 0.160 | |
| spatialWeightMatrix | 0.004 | 0.000 | 0.011 | |
| testingScaffold-set | 0.158 | 0.012 | 0.174 | |
| thin | 0.007 | 0.001 | 0.008 | |
| trajectoryWeightMatrix | 0.002 | 0.000 | 0.002 | |
| weightMatrix-set | 0.288 | 0.012 | 0.301 | |
| weightedPearson | 0 | 0 | 0 | |
| weightedSpearman | 0.000 | 0.000 | 0.001 | |
| weightedVariance | 0.001 | 0.000 | 0.001 | |
| weightedZIKendall | 0.001 | 0.000 | 0.002 | |
| weightedZISpearman | 0.000 | 0.000 | 0.001 | |