| Back to Multiple platform build/check report for BioC 3.16 |
|
This page was generated on 2022-09-30 11:08:10 -0400 (Fri, 30 Sep 2022).
| Hostname | OS | Arch (*) | R version | Installed pkgs |
|---|---|---|---|---|
| nebbiolo2 | Linux (Ubuntu 20.04.5 LTS) | x86_64 | 4.2.1 (2022-06-23) -- "Funny-Looking Kid" | 4428 |
| palomino4 | Windows Server 2022 Datacenter | x64 | 4.2.1 (2022-06-23 ucrt) -- "Funny-Looking Kid" | 4206 |
| lconway | macOS 12.5.1 Monterey | x86_64 | 4.2.1 Patched (2022-07-09 r82577) -- "Funny-Looking Kid" | 4222 |
| Click on any hostname to see more info about the system (e.g. compilers) (*) as reported by 'uname -p', except on Windows and Mac OS X | ||||
|
To the developers/maintainers of the rifi package: - Please allow up to 24 hours (and sometimes 48 hours) for your latest push to git@git.bioconductor.org:packages/rifi.git to reflect on this report. See How and When does the builder pull? When will my changes propagate? for more information. - Make sure to use the following settings in order to reproduce any error or warning you see on this page. |
| Package 1666/2157 | Hostname | OS / Arch | INSTALL | BUILD | CHECK | BUILD BIN | ||||||||
| rifi 1.1.1 (landing page) Jens Georg
| nebbiolo2 | Linux (Ubuntu 20.04.5 LTS) / x86_64 | OK | OK | OK | |||||||||
| palomino4 | Windows Server 2022 Datacenter / x64 | ERROR | ERROR | skipped | skipped | |||||||||
| lconway | macOS 12.5.1 Monterey / x86_64 | OK | OK | OK | OK | |||||||||
| Package: rifi |
| Version: 1.1.1 |
| Command: chmod a+r rifi -R && F:\biocbuild\bbs-3.16-bioc\R\bin\R.exe CMD build --keep-empty-dirs --no-resave-data rifi |
| StartedAt: 2022-09-29 21:06:42 -0400 (Thu, 29 Sep 2022) |
| EndedAt: 2022-09-29 21:06:46 -0400 (Thu, 29 Sep 2022) |
| EllapsedTime: 4.0 seconds |
| RetCode: 1 |
| Status: ERROR |
| PackageFile: rifi_1.1.1.tar.gz |
| PackageFileSize: 4.045 MiB |
##############################################################################
##############################################################################
###
### Running command:
###
### chmod a+r rifi -R && F:\biocbuild\bbs-3.16-bioc\R\bin\R.exe CMD build --keep-empty-dirs --no-resave-data rifi
###
##############################################################################
##############################################################################
* checking for file 'rifi/DESCRIPTION' ... OK
* preparing 'rifi':
* checking DESCRIPTION meta-information ... OK
* installing the package to build vignettes
-----------------------------------
ERROR: dependency 'doMC' is not available for package 'rifi'
* removing 'F:/biocbuild/bbs-3.16-bioc/tmpdir/Rtmp461EsE/Rinst3dc814f56aab/rifi'
-----------------------------------
ERROR: package installation failed