| Back to Multiple platform build/check report for BioC 3.16: simplified long |
|
This page was generated on 2023-04-12 11:05:11 -0400 (Wed, 12 Apr 2023).
| Hostname | OS | Arch (*) | R version | Installed pkgs |
|---|---|---|---|---|
| nebbiolo2 | Linux (Ubuntu 20.04.5 LTS) | x86_64 | 4.2.3 (2023-03-15) -- "Shortstop Beagle" | 4502 |
| palomino4 | Windows Server 2022 Datacenter | x64 | 4.2.3 (2023-03-15 ucrt) -- "Shortstop Beagle" | 4282 |
| lconway | macOS 12.5.1 Monterey | x86_64 | 4.2.3 (2023-03-15) -- "Shortstop Beagle" | 4310 |
| Click on any hostname to see more info about the system (e.g. compilers) (*) as reported by 'uname -p', except on Windows and Mac OS X | ||||
|
To the developers/maintainers of the motifcounter package: - Please allow up to 24 hours (and sometimes 48 hours) for your latest push to git@git.bioconductor.org:packages/motifcounter.git to reflect on this report. See How and When does the builder pull? When will my changes propagate? for more information. - Make sure to use the following settings in order to reproduce any error or warning you see on this page. |
| Package 1255/2183 | Hostname | OS / Arch | INSTALL | BUILD | CHECK | BUILD BIN | ||||||||
| motifcounter 1.22.0 (landing page) Wolfgang Kopp
| nebbiolo2 | Linux (Ubuntu 20.04.5 LTS) / x86_64 | OK | OK | OK | |||||||||
| palomino4 | Windows Server 2022 Datacenter / x64 | OK | OK | ERROR | OK | |||||||||
| lconway | macOS 12.5.1 Monterey / x86_64 | OK | OK | OK | OK | |||||||||
| Package: motifcounter |
| Version: 1.22.0 |
| Command: /home/biocbuild/bbs-3.16-bioc/R/bin/R CMD check --install=check:motifcounter.install-out.txt --library=/home/biocbuild/bbs-3.16-bioc/R/site-library --timings motifcounter_1.22.0.tar.gz |
| StartedAt: 2023-04-10 22:07:46 -0400 (Mon, 10 Apr 2023) |
| EndedAt: 2023-04-10 22:12:09 -0400 (Mon, 10 Apr 2023) |
| EllapsedTime: 262.8 seconds |
| RetCode: 0 |
| Status: OK |
| CheckDir: motifcounter.Rcheck |
| Warnings: 0 |
##############################################################################
##############################################################################
###
### Running command:
###
### /home/biocbuild/bbs-3.16-bioc/R/bin/R CMD check --install=check:motifcounter.install-out.txt --library=/home/biocbuild/bbs-3.16-bioc/R/site-library --timings motifcounter_1.22.0.tar.gz
###
##############################################################################
##############################################################################
* using log directory ‘/home/biocbuild/bbs-3.16-bioc/meat/motifcounter.Rcheck’
* using R version 4.2.3 (2023-03-15)
* using platform: x86_64-pc-linux-gnu (64-bit)
* using session charset: UTF-8
* checking for file ‘motifcounter/DESCRIPTION’ ... OK
* checking extension type ... Package
* this is package ‘motifcounter’ version ‘1.22.0’
* checking package namespace information ... OK
* checking package dependencies ... OK
* checking if this is a source package ... OK
* checking if there is a namespace ... OK
* checking for hidden files and directories ... NOTE
Found the following hidden files and directories:
.zenodo.json
These were most likely included in error. See section ‘Package
structure’ in the ‘Writing R Extensions’ manual.
* checking for portable file names ... OK
* checking for sufficient/correct file permissions ... OK
* checking whether package ‘motifcounter’ can be installed ... OK
* checking installed package size ... OK
* checking package directory ... OK
* checking ‘build’ directory ... OK
* checking DESCRIPTION meta-information ... OK
* checking top-level files ... OK
* checking for left-over files ... OK
* checking index information ... OK
* checking package subdirectories ... OK
* checking R files for non-ASCII characters ... OK
* checking R files for syntax errors ... OK
* checking whether the package can be loaded ... OK
* checking whether the package can be loaded with stated dependencies ... OK
* checking whether the package can be unloaded cleanly ... OK
* checking whether the namespace can be loaded with stated dependencies ... OK
* checking whether the namespace can be unloaded cleanly ... OK
* checking loading without being on the library search path ... OK
* checking dependencies in R code ... OK
* checking S3 generic/method consistency ... OK
* checking replacement functions ... OK
* checking foreign function calls ... OK
* checking R code for possible problems ... OK
* checking Rd files ... OK
* checking Rd metadata ... OK
* checking Rd cross-references ... OK
* checking for missing documentation entries ... OK
* checking for code/documentation mismatches ... OK
* checking Rd \usage sections ... OK
* checking Rd contents ... OK
* checking for unstated dependencies in examples ... OK
* checking line endings in C/C++/Fortran sources/headers ... OK
* checking line endings in Makefiles ... OK
* checking compilation flags in Makevars ... OK
* checking for GNU extensions in Makefiles ... OK
* checking for portable use of $(BLAS_LIBS) and $(LAPACK_LIBS) ... OK
* checking use of PKG_*FLAGS in Makefiles ... OK
* checking compiled code ... NOTE
Note: information on .o files is not available
* checking files in ‘vignettes’ ... OK
* checking examples ... OK
Examples with CPU (user + system) or elapsed time > 5s
user system elapsed
simulateClumpSizeDist 9.758 0.136 9.895
* checking for unstated dependencies in ‘tests’ ... OK
* checking tests ...
Running ‘testthat.R’
OK
* checking for unstated dependencies in vignettes ... OK
* checking package vignettes in ‘inst/doc’ ... OK
* checking running R code from vignettes ...
‘motifcounter.Rmd’ using ‘UTF-8’... OK
NONE
* checking re-building of vignette outputs ... OK
* checking PDF version of manual ... OK
* DONE
Status: 2 NOTEs
See
‘/home/biocbuild/bbs-3.16-bioc/meat/motifcounter.Rcheck/00check.log’
for details.
motifcounter.Rcheck/00install.out
##############################################################################
##############################################################################
###
### Running command:
###
### /home/biocbuild/bbs-3.16-bioc/R/bin/R CMD INSTALL motifcounter
###
##############################################################################
##############################################################################
* installing to library ‘/home/biocbuild/bbs-3.16-bioc/R/site-library’
* installing *source* package ‘motifcounter’ ...
** using staged installation
** libs
gcc -I"/home/biocbuild/bbs-3.16-bioc/R/include" -DNDEBUG -I/usr/local/include -fopenmp -DIN_R -fpic -g -O2 -Wall -c Rbackground.c -o Rbackground.o
gcc -I"/home/biocbuild/bbs-3.16-bioc/R/include" -DNDEBUG -I/usr/local/include -fopenmp -DIN_R -fpic -g -O2 -Wall -c Rcombinatorial.c -o Rcombinatorial.o
gcc -I"/home/biocbuild/bbs-3.16-bioc/R/include" -DNDEBUG -I/usr/local/include -fopenmp -DIN_R -fpic -g -O2 -Wall -c Rcompoundpoisson.c -o Rcompoundpoisson.o
gcc -I"/home/biocbuild/bbs-3.16-bioc/R/include" -DNDEBUG -I/usr/local/include -fopenmp -DIN_R -fpic -g -O2 -Wall -c Rminmaxscore.c -o Rminmaxscore.o
gcc -I"/home/biocbuild/bbs-3.16-bioc/R/include" -DNDEBUG -I/usr/local/include -fopenmp -DIN_R -fpic -g -O2 -Wall -c Roption.c -o Roption.o
gcc -I"/home/biocbuild/bbs-3.16-bioc/R/include" -DNDEBUG -I/usr/local/include -fopenmp -DIN_R -fpic -g -O2 -Wall -c Roverlap.c -o Roverlap.o
gcc -I"/home/biocbuild/bbs-3.16-bioc/R/include" -DNDEBUG -I/usr/local/include -fopenmp -DIN_R -fpic -g -O2 -Wall -c Rscore1d.c -o Rscore1d.o
gcc -I"/home/biocbuild/bbs-3.16-bioc/R/include" -DNDEBUG -I/usr/local/include -fopenmp -DIN_R -fpic -g -O2 -Wall -c Rsequence.c -o Rsequence.o
Rsequence.c: In function ‘RscoreHistogram’:
Rsequence.c:143:21: warning: unused variable ‘noscores’ [-Wunused-variable]
143 | int mins, maxs, noscores;
| ^~~~~~~~
gcc -I"/home/biocbuild/bbs-3.16-bioc/R/include" -DNDEBUG -I/usr/local/include -fopenmp -DIN_R -fpic -g -O2 -Wall -c Rsimulate.c -o Rsimulate.o
gcc -I"/home/biocbuild/bbs-3.16-bioc/R/include" -DNDEBUG -I/usr/local/include -fopenmp -DIN_R -fpic -g -O2 -Wall -c background.c -o background.o
gcc -I"/home/biocbuild/bbs-3.16-bioc/R/include" -DNDEBUG -I/usr/local/include -fopenmp -DIN_R -fpic -g -O2 -Wall -c combinatorial.c -o combinatorial.o
gcc -I"/home/biocbuild/bbs-3.16-bioc/R/include" -DNDEBUG -I/usr/local/include -fopenmp -DIN_R -fpic -g -O2 -Wall -c compoundpoisson.c -o compoundpoisson.o
gcc -I"/home/biocbuild/bbs-3.16-bioc/R/include" -DNDEBUG -I/usr/local/include -fopenmp -DIN_R -fpic -g -O2 -Wall -c markovchain.c -o markovchain.o
gcc -I"/home/biocbuild/bbs-3.16-bioc/R/include" -DNDEBUG -I/usr/local/include -fopenmp -DIN_R -fpic -g -O2 -Wall -c markovchain_single.c -o markovchain_single.o
gcc -I"/home/biocbuild/bbs-3.16-bioc/R/include" -DNDEBUG -I/usr/local/include -fopenmp -DIN_R -fpic -g -O2 -Wall -c matrix.c -o matrix.o
gcc -I"/home/biocbuild/bbs-3.16-bioc/R/include" -DNDEBUG -I/usr/local/include -fopenmp -DIN_R -fpic -g -O2 -Wall -c mdist_register.c -o mdist_register.o
gcc -I"/home/biocbuild/bbs-3.16-bioc/R/include" -DNDEBUG -I/usr/local/include -fopenmp -DIN_R -fpic -g -O2 -Wall -c minmaxscore.c -o minmaxscore.o
gcc -I"/home/biocbuild/bbs-3.16-bioc/R/include" -DNDEBUG -I/usr/local/include -fopenmp -DIN_R -fpic -g -O2 -Wall -c overlap.c -o overlap.o
gcc -I"/home/biocbuild/bbs-3.16-bioc/R/include" -DNDEBUG -I/usr/local/include -fopenmp -DIN_R -fpic -g -O2 -Wall -c score1d.c -o score1d.o
gcc -I"/home/biocbuild/bbs-3.16-bioc/R/include" -DNDEBUG -I/usr/local/include -fopenmp -DIN_R -fpic -g -O2 -Wall -c score2d.c -o score2d.o
gcc -I"/home/biocbuild/bbs-3.16-bioc/R/include" -DNDEBUG -I/usr/local/include -fopenmp -DIN_R -fpic -g -O2 -Wall -c scorefunctions.c -o scorefunctions.o
scorefunctions.c: In function ‘getPositionWeights’:
scorefunctions.c:84:22: warning: unused variable ‘cindex’ [-Wunused-variable]
84 | int j, i, index, cindex, ds;
| ^~~~~~
scorefunctions.c: In function ‘hitSequence’:
scorefunctions.c:119:17: warning: unused variable ‘cindex’ [-Wunused-variable]
119 | int s, index, cindex;
| ^~~~~~
scorefunctions.c: In function ‘scoreSequence’:
scorefunctions.c:159:19: warning: unused variable ‘cindex’ [-Wunused-variable]
159 | int s, index, cindex;
| ^~~~~~
gcc -I"/home/biocbuild/bbs-3.16-bioc/R/include" -DNDEBUG -I/usr/local/include -fopenmp -DIN_R -fpic -g -O2 -Wall -c sequence.c -o sequence.o
gcc -I"/home/biocbuild/bbs-3.16-bioc/R/include" -DNDEBUG -I/usr/local/include -fopenmp -DIN_R -fpic -g -O2 -Wall -c simulate.c -o simulate.o
gcc -shared -L/home/biocbuild/bbs-3.16-bioc/R/lib -L/usr/local/lib -o motifcounter.so Rbackground.o Rcombinatorial.o Rcompoundpoisson.o Rminmaxscore.o Roption.o Roverlap.o Rscore1d.o Rsequence.o Rsimulate.o background.o combinatorial.o compoundpoisson.o markovchain.o markovchain_single.o matrix.o mdist_register.o minmaxscore.o overlap.o score1d.o score2d.o scorefunctions.o sequence.o simulate.o -fopenmp -L/home/biocbuild/bbs-3.16-bioc/R/lib -lR
installing to /home/biocbuild/bbs-3.16-bioc/R/site-library/00LOCK-motifcounter/00new/motifcounter/libs
** R
** inst
** byte-compile and prepare package for lazy loading
** help
*** installing help indices
** building package indices
** installing vignettes
** testing if installed package can be loaded from temporary location
** checking absolute paths in shared objects and dynamic libraries
** testing if installed package can be loaded from final location
** testing if installed package keeps a record of temporary installation path
* DONE (motifcounter)
motifcounter.Rcheck/tests/testthat.Rout
R version 4.2.3 (2023-03-15) -- "Shortstop Beagle"
Copyright (C) 2023 The R Foundation for Statistical Computing
Platform: x86_64-pc-linux-gnu (64-bit)
R is free software and comes with ABSOLUTELY NO WARRANTY.
You are welcome to redistribute it under certain conditions.
Type 'license()' or 'licence()' for distribution details.
R is a collaborative project with many contributors.
Type 'contributors()' for more information and
'citation()' on how to cite R or R packages in publications.
Type 'demo()' for some demos, 'help()' for on-line help, or
'help.start()' for an HTML browser interface to help.
Type 'q()' to quit R.
> library(testthat)
> library(motifcounter)
>
> test_check("motifcounter")
[ FAIL 0 | WARN 1 | SKIP 0 | PASS 841 ]
[ FAIL 0 | WARN 1 | SKIP 0 | PASS 841 ]
>
> proc.time()
user system elapsed
122.593 4.622 128.779
motifcounter.Rcheck/motifcounter-Ex.timings
| name | user | system | elapsed | |
| clumpSizeDist | 0.136 | 0.000 | 0.136 | |
| combinatorialDist | 0.271 | 0.004 | 0.275 | |
| compoundPoissonDist | 0.141 | 0.012 | 0.153 | |
| computeClumpStartProb | 0.118 | 0.004 | 0.121 | |
| generateDNAString | 0.067 | 0.000 | 0.068 | |
| generateDNAStringSet | 0.103 | 0.000 | 0.103 | |
| hitStrand | 0.065 | 0.004 | 0.067 | |
| lenSequences | 0.057 | 0.000 | 0.058 | |
| markovModel | 0.095 | 0.000 | 0.095 | |
| motifAndBackgroundValid | 0.065 | 0.000 | 0.066 | |
| motifEnrichment | 2.282 | 0.004 | 2.287 | |
| motifHitProfile | 0.057 | 0.004 | 0.061 | |
| motifHits | 0.064 | 0.000 | 0.065 | |
| motifValid | 0.001 | 0.000 | 0.001 | |
| motifcounter-package | 0.885 | 0.004 | 0.888 | |
| motifcounterOptions | 0 | 0 | 0 | |
| normalizeMotif | 0.002 | 0.000 | 0.001 | |
| numMotifHits | 0.452 | 0.000 | 0.451 | |
| probOverlapHit | 0.116 | 0.008 | 0.123 | |
| readBackground | 0.066 | 0.000 | 0.066 | |
| revcompMotif | 0.001 | 0.000 | 0.002 | |
| scoreDist | 0.067 | 0.000 | 0.066 | |
| scoreDistBf | 0.082 | 0.000 | 0.081 | |
| scoreDistEmpirical | 1.969 | 0.016 | 1.985 | |
| scoreHistogram | 0.163 | 0.000 | 0.163 | |
| scoreHistogramSingleSeq | 0.067 | 0.000 | 0.068 | |
| scoreProfile | 0.360 | 0.000 | 0.361 | |
| scoreSequence | 0.067 | 0.000 | 0.066 | |
| scoreStrand | 0.064 | 0.000 | 0.064 | |
| scoreThreshold | 0.073 | 0.000 | 0.073 | |
| sigLevel | 0.001 | 0.000 | 0.000 | |
| simulateClumpSizeDist | 9.758 | 0.136 | 9.895 | |
| simulateNumHitsDist | 1.549 | 0.008 | 1.557 | |