| Back to Multiple platform build/check report for BioC 3.16: simplified long |
|
This page was generated on 2023-04-12 11:05:10 -0400 (Wed, 12 Apr 2023).
| Hostname | OS | Arch (*) | R version | Installed pkgs |
|---|---|---|---|---|
| nebbiolo2 | Linux (Ubuntu 20.04.5 LTS) | x86_64 | 4.2.3 (2023-03-15) -- "Shortstop Beagle" | 4502 |
| palomino4 | Windows Server 2022 Datacenter | x64 | 4.2.3 (2023-03-15 ucrt) -- "Shortstop Beagle" | 4282 |
| lconway | macOS 12.5.1 Monterey | x86_64 | 4.2.3 (2023-03-15) -- "Shortstop Beagle" | 4310 |
| Click on any hostname to see more info about the system (e.g. compilers) (*) as reported by 'uname -p', except on Windows and Mac OS X | ||||
|
To the developers/maintainers of the mistyR package: - Please allow up to 24 hours (and sometimes 48 hours) for your latest push to git@git.bioconductor.org:packages/mistyR.git to reflect on this report. See How and When does the builder pull? When will my changes propagate? for more information. - Make sure to use the following settings in order to reproduce any error or warning you see on this page. |
| Package 1227/2183 | Hostname | OS / Arch | INSTALL | BUILD | CHECK | BUILD BIN | ||||||||
| mistyR 1.6.1 (landing page) Jovan Tanevski
| nebbiolo2 | Linux (Ubuntu 20.04.5 LTS) / x86_64 | OK | OK | OK | |||||||||
| palomino4 | Windows Server 2022 Datacenter / x64 | OK | OK | OK | OK | |||||||||
| lconway | macOS 12.5.1 Monterey / x86_64 | OK | OK | OK | OK | |||||||||
| Package: mistyR |
| Version: 1.6.1 |
| Command: /home/biocbuild/bbs-3.16-bioc/R/bin/R CMD check --install=check:mistyR.install-out.txt --library=/home/biocbuild/bbs-3.16-bioc/R/site-library --timings mistyR_1.6.1.tar.gz |
| StartedAt: 2023-04-10 22:03:08 -0400 (Mon, 10 Apr 2023) |
| EndedAt: 2023-04-10 22:16:47 -0400 (Mon, 10 Apr 2023) |
| EllapsedTime: 819.7 seconds |
| RetCode: 0 |
| Status: OK |
| CheckDir: mistyR.Rcheck |
| Warnings: 0 |
##############################################################################
##############################################################################
###
### Running command:
###
### /home/biocbuild/bbs-3.16-bioc/R/bin/R CMD check --install=check:mistyR.install-out.txt --library=/home/biocbuild/bbs-3.16-bioc/R/site-library --timings mistyR_1.6.1.tar.gz
###
##############################################################################
##############################################################################
* using log directory ‘/home/biocbuild/bbs-3.16-bioc/meat/mistyR.Rcheck’
* using R version 4.2.3 (2023-03-15)
* using platform: x86_64-pc-linux-gnu (64-bit)
* using session charset: UTF-8
* checking for file ‘mistyR/DESCRIPTION’ ... OK
* checking extension type ... Package
* this is package ‘mistyR’ version ‘1.6.1’
* package encoding: UTF-8
* checking package namespace information ... OK
* checking package dependencies ... OK
* checking if this is a source package ... OK
* checking if there is a namespace ... OK
* checking for hidden files and directories ... OK
* checking for portable file names ... OK
* checking for sufficient/correct file permissions ... OK
* checking whether package ‘mistyR’ can be installed ... OK
* checking installed package size ... OK
* checking package directory ... OK
* checking ‘build’ directory ... OK
* checking DESCRIPTION meta-information ... OK
* checking top-level files ... OK
* checking for left-over files ... OK
* checking index information ... OK
* checking package subdirectories ... OK
* checking R files for non-ASCII characters ... OK
* checking R files for syntax errors ... OK
* checking whether the package can be loaded ... OK
* checking whether the package can be loaded with stated dependencies ... OK
* checking whether the package can be unloaded cleanly ... OK
* checking whether the namespace can be loaded with stated dependencies ... OK
* checking whether the namespace can be unloaded cleanly ... OK
* checking loading without being on the library search path ... OK
* checking dependencies in R code ... OK
* checking S3 generic/method consistency ... OK
* checking replacement functions ... OK
* checking foreign function calls ... OK
* checking R code for possible problems ... NOTE
aggregate_results: no visible binding for global variable ‘.data’
aggregate_results_subset: no visible binding for global variable
‘.data’
bagged_mars_model: no visible binding for global variable ‘.data’
collect_results : <anonymous>: no visible binding for global variable
‘.data’
collect_results: no visible binding for global variable ‘.data’
collect_results : <anonymous> : <anonymous>: no visible binding for
global variable ‘.data’
extract_signature: no visible binding for global variable ‘.data’
extract_signature : <anonymous>: no visible binding for global variable
‘.data’
gradient_boosting_model: no visible binding for global variable ‘.data’
linear_model: no visible binding for global variable ‘.data’
mars_model: no visible binding for global variable ‘.data’
mlp_model: no visible binding for global variable ‘.data’
plot_contrast_heatmap: no visible binding for global variable ‘.data’
plot_contrast_results: no visible binding for global variable ‘.data’
plot_contrast_results : <anonymous>: no visible binding for global
variable ‘.data’
plot_improvement_stats: no visible binding for global variable ‘.data’
plot_interaction_communities: no visible binding for global variable
‘.data’
plot_interaction_heatmap: no visible binding for global variable
‘.data’
plot_view_contributions: no visible binding for global variable ‘.data’
run_misty : <anonymous>: no visible binding for global variable ‘.data’
svm_model: no visible binding for global variable ‘.data’
Undefined global functions or variables:
.data
* checking Rd files ... OK
* checking Rd metadata ... OK
* checking Rd cross-references ... OK
* checking for missing documentation entries ... OK
* checking for code/documentation mismatches ... OK
* checking Rd \usage sections ... OK
* checking Rd contents ... OK
* checking for unstated dependencies in examples ... OK
* checking contents of ‘data’ directory ... OK
* checking data for non-ASCII characters ... OK
* checking data for ASCII and uncompressed saves ... OK
* checking files in ‘vignettes’ ... OK
* checking examples ... OK
Examples with CPU (user + system) or elapsed time > 5s
user system elapsed
collect_results 136.559 6.082 142.042
reexports 46.291 1.876 48.000
run_misty 46.001 2.032 47.872
remove_views 25.937 0.210 26.147
add_paraview 22.674 0.148 22.822
add_juxtaview 6.286 0.128 6.414
create_view 5.564 0.016 5.580
plot_improvement_stats 4.992 0.443 5.192
* checking for unstated dependencies in ‘tests’ ... OK
* checking tests ...
Running ‘testthat.R’
OK
* checking for unstated dependencies in vignettes ... OK
* checking package vignettes in ‘inst/doc’ ... OK
* checking running R code from vignettes ...
‘mistyR.Rmd’ using ‘UTF-8’... OK
NONE
* checking re-building of vignette outputs ... OK
* checking PDF version of manual ... OK
* DONE
Status: 1 NOTE
See
‘/home/biocbuild/bbs-3.16-bioc/meat/mistyR.Rcheck/00check.log’
for details.
mistyR.Rcheck/00install.out
############################################################################## ############################################################################## ### ### Running command: ### ### /home/biocbuild/bbs-3.16-bioc/R/bin/R CMD INSTALL mistyR ### ############################################################################## ############################################################################## * installing to library ‘/home/biocbuild/bbs-3.16-bioc/R/site-library’ * installing *source* package ‘mistyR’ ... ** using staged installation ** R ** data ** inst ** byte-compile and prepare package for lazy loading ** help *** installing help indices ** building package indices ** installing vignettes ** testing if installed package can be loaded from temporary location ** testing if installed package can be loaded from final location ** testing if installed package keeps a record of temporary installation path * DONE (mistyR)
mistyR.Rcheck/tests/testthat.Rout
R version 4.2.3 (2023-03-15) -- "Shortstop Beagle"
Copyright (C) 2023 The R Foundation for Statistical Computing
Platform: x86_64-pc-linux-gnu (64-bit)
R is free software and comes with ABSOLUTELY NO WARRANTY.
You are welcome to redistribute it under certain conditions.
Type 'license()' or 'licence()' for distribution details.
R is a collaborative project with many contributors.
Type 'contributors()' for more information and
'citation()' on how to cite R or R packages in publications.
Type 'demo()' for some demos, 'help()' for on-line help, or
'help.start()' for an HTML browser interface to help.
Type 'q()' to quit R.
> library(testthat)
> library(mistyR)
mistyR is able to run computationally intensive functions
in parallel. Please consider specifying a future::plan(). For example by running
future::plan(future::multisession) before calling mistyR functions.
>
> test_check("mistyR")
Generating paraview
Attaching package: 'purrr'
The following object is masked from 'package:testthat':
is_null
Training models
Training models
Training models
Training models
Training models
Training models
Collecting improvements
Collecting contributions
Collecting importances
Aggregating
Collecting improvements
Collecting contributions
Collecting importances
Aggregating
Training models
Training models
Training models
Training models
Collecting improvements
Collecting contributions
Collecting importances
Aggregating
Training models
Collecting improvements
Collecting contributions
Collecting importances
Aggregating
Training models
Collecting improvements
Collecting contributions
Collecting importances
Aggregating
Training models
Collecting improvements
Collecting contributions
Collecting importances
Aggregating
Training models
Collecting improvements
Collecting contributions
Collecting importances
Aggregating
Training models
Collecting improvements
Collecting contributions
Collecting importances
Aggregating
Training models
Collecting improvements
Collecting contributions
Collecting importances
Aggregating
Generating paraview
Training models
Generating paraview
Training models
Training models
Training models
Training models
Training models
Training models
Training models
Training models
Training models
Training models
Training models
Training models
Training models
Training models
Training models
Training models
Training models
Training models
Training models
Training models
Training models
Training models
Training models
Training models
Training models
Training models
Training models
Training models
Training models
Training models
Training models
Training models
Training models
Training models
Collecting improvements
Collecting contributions
Collecting importances
Aggregating
Training models
Collecting improvements
Collecting contributions
Collecting importances
Aggregating
Training models
Collecting improvements
Collecting contributions
Collecting importances
Aggregating
Training models
Collecting improvements
Collecting contributions
Collecting importances
Aggregating
Training models
Collecting improvements
Collecting contributions
Collecting importances
Aggregating
Training models
Collecting improvements
Collecting contributions
Collecting importances
Aggregating
Training models
Collecting improvements
Collecting contributions
Collecting importances
Aggregating
Generating paraview
Training models
Training models
Training models
Training models
Training models
Training models
Training models
Training models
Training models
Training models
Training models
Training models
Training models
Training models
Training models
Training models
Training models
Training models
Training models
Training models
Training models
Generating paraview
Training models
Collecting improvements
Collecting contributions
Collecting importances
Aggregating
Generating paraview
Training models
Collecting improvements
Collecting contributions
Collecting importances
Aggregating
Generating paraview
Generating paraview
Training models
Generating paraview
Training models
Generating paraview
Training models
Collecting improvements
Collecting contributions
Collecting importances
Aggregating
Aggregating subset
Generating paraview
Training models
Generating paraview
Training models
Generating paraview
Training models
Collecting improvements
Collecting contributions
Collecting importances
Aggregating
Computing triangulation
Generating juxtaview
Generating paraview
Generating paraview using 20 nearest neighbors per unit
Approximating RBF matrix using the Nystrom method
Computing triangulation
Generating juxtaview
Generating paraview
Computing triangulation
Generating juxtaview
Generating paraview
Computing triangulation
Generating paraview
Generating paraview
Generating paraview using 2 nearest neighbors per unit
Generating paraview
Generating paraview
[ FAIL 0 | WARN 74 | SKIP 0 | PASS 173 ]
[ FAIL 0 | WARN 74 | SKIP 0 | PASS 173 ]
>
> proc.time()
user system elapsed
337.996 3.683 342.718
mistyR.Rcheck/mistyR-Ex.timings
| name | user | system | elapsed | |
| add_juxtaview | 6.286 | 0.128 | 6.414 | |
| add_paraview | 22.674 | 0.148 | 22.822 | |
| add_views | 0.011 | 0.000 | 0.011 | |
| clear_cache | 0.003 | 0.000 | 0.003 | |
| collect_results | 136.559 | 6.082 | 142.042 | |
| create_initial_view | 0.363 | 0.008 | 0.371 | |
| create_view | 5.564 | 0.016 | 5.580 | |
| extract_signature | 2.335 | 0.256 | 2.484 | |
| filter_views | 1.221 | 0.000 | 1.222 | |
| plot_contrast_heatmap | 2.955 | 0.256 | 3.098 | |
| plot_contrast_results | 3.465 | 0.276 | 3.662 | |
| plot_improvement_stats | 4.992 | 0.443 | 5.192 | |
| plot_interaction_communities | 2.497 | 0.224 | 2.595 | |
| plot_interaction_heatmap | 2.837 | 0.236 | 2.957 | |
| plot_view_contributions | 2.580 | 0.215 | 2.672 | |
| reexports | 46.291 | 1.876 | 48.000 | |
| remove_views | 25.937 | 0.210 | 26.147 | |
| rename_view | 0.013 | 0.000 | 0.013 | |
| run_misty | 46.001 | 2.032 | 47.872 | |
| select_markers | 0.314 | 0.004 | 0.317 | |