| Back to Multiple platform build/check report for BioC 3.16: simplified long |
|
This page was generated on 2023-04-12 11:05:10 -0400 (Wed, 12 Apr 2023).
| Hostname | OS | Arch (*) | R version | Installed pkgs |
|---|---|---|---|---|
| nebbiolo2 | Linux (Ubuntu 20.04.5 LTS) | x86_64 | 4.2.3 (2023-03-15) -- "Shortstop Beagle" | 4502 |
| palomino4 | Windows Server 2022 Datacenter | x64 | 4.2.3 (2023-03-15 ucrt) -- "Shortstop Beagle" | 4282 |
| lconway | macOS 12.5.1 Monterey | x86_64 | 4.2.3 (2023-03-15) -- "Shortstop Beagle" | 4310 |
| Click on any hostname to see more info about the system (e.g. compilers) (*) as reported by 'uname -p', except on Windows and Mac OS X | ||||
|
To the developers/maintainers of the mia package: - Please allow up to 24 hours (and sometimes 48 hours) for your latest push to git@git.bioconductor.org:packages/mia.git to reflect on this report. See How and When does the builder pull? When will my changes propagate? for more information. - Make sure to use the following settings in order to reproduce any error or warning you see on this page. |
| Package 1189/2183 | Hostname | OS / Arch | INSTALL | BUILD | CHECK | BUILD BIN | ||||||||
| mia 1.6.0 (landing page) Tuomas Borman
| nebbiolo2 | Linux (Ubuntu 20.04.5 LTS) / x86_64 | OK | OK | OK | |||||||||
| palomino4 | Windows Server 2022 Datacenter / x64 | OK | OK | OK | OK | |||||||||
| lconway | macOS 12.5.1 Monterey / x86_64 | OK | OK | OK | OK | |||||||||
| Package: mia |
| Version: 1.6.0 |
| Command: /home/biocbuild/bbs-3.16-bioc/R/bin/R CMD check --install=check:mia.install-out.txt --library=/home/biocbuild/bbs-3.16-bioc/R/site-library --timings mia_1.6.0.tar.gz |
| StartedAt: 2023-04-10 21:56:09 -0400 (Mon, 10 Apr 2023) |
| EndedAt: 2023-04-10 22:15:19 -0400 (Mon, 10 Apr 2023) |
| EllapsedTime: 1150.2 seconds |
| RetCode: 0 |
| Status: OK |
| CheckDir: mia.Rcheck |
| Warnings: 0 |
##############################################################################
##############################################################################
###
### Running command:
###
### /home/biocbuild/bbs-3.16-bioc/R/bin/R CMD check --install=check:mia.install-out.txt --library=/home/biocbuild/bbs-3.16-bioc/R/site-library --timings mia_1.6.0.tar.gz
###
##############################################################################
##############################################################################
* using log directory ‘/home/biocbuild/bbs-3.16-bioc/meat/mia.Rcheck’
* using R version 4.2.3 (2023-03-15)
* using platform: x86_64-pc-linux-gnu (64-bit)
* using session charset: UTF-8
* checking for file ‘mia/DESCRIPTION’ ... OK
* checking extension type ... Package
* this is package ‘mia’ version ‘1.6.0’
* package encoding: UTF-8
* checking package namespace information ... OK
* checking package dependencies ... OK
* checking if this is a source package ... OK
* checking if there is a namespace ... OK
* checking for hidden files and directories ... OK
* checking for portable file names ... OK
* checking for sufficient/correct file permissions ... OK
* checking whether package ‘mia’ can be installed ... OK
* checking installed package size ... OK
* checking package directory ... OK
* checking ‘build’ directory ... OK
* checking DESCRIPTION meta-information ... OK
* checking top-level files ... OK
* checking for left-over files ... OK
* checking index information ... OK
* checking package subdirectories ... OK
* checking R files for non-ASCII characters ... OK
* checking R files for syntax errors ... OK
* checking whether the package can be loaded ... OK
* checking whether the package can be loaded with stated dependencies ... OK
* checking whether the package can be unloaded cleanly ... OK
* checking whether the namespace can be loaded with stated dependencies ... OK
* checking whether the namespace can be unloaded cleanly ... OK
* checking loading without being on the library search path ... OK
* checking dependencies in R code ... OK
* checking S3 generic/method consistency ... OK
* checking replacement functions ... OK
* checking foreign function calls ... OK
* checking R code for possible problems ... OK
* checking Rd files ... OK
* checking Rd metadata ... OK
* checking Rd cross-references ... OK
* checking for missing documentation entries ... OK
* checking for code/documentation mismatches ... OK
* checking Rd \usage sections ... OK
* checking Rd contents ... OK
* checking for unstated dependencies in examples ... OK
* checking contents of ‘data’ directory ... OK
* checking data for non-ASCII characters ... NOTE
Note: found 101 marked UTF-8 strings
* checking data for ASCII and uncompressed saves ... OK
* checking files in ‘vignettes’ ... OK
* checking examples ... OK
Examples with CPU (user + system) or elapsed time > 5s
user system elapsed
splitOn 174.159 3.032 177.204
taxonomy-methods 17.119 0.280 17.399
agglomerate-methods 13.246 0.172 13.419
estimateDiversity 9.512 0.080 9.591
splitByRanks 8.585 0.000 8.585
getPrevalence 7.844 0.028 7.873
makeTreeSEFromDADA2 6.901 0.044 6.946
* checking for unstated dependencies in ‘tests’ ... OK
* checking tests ...
Running ‘testthat.R’
OK
* checking for unstated dependencies in vignettes ... OK
* checking package vignettes in ‘inst/doc’ ... OK
* checking running R code from vignettes ...
‘mia.Rmd’ using ‘UTF-8’... OK
NONE
* checking re-building of vignette outputs ... OK
* checking PDF version of manual ... OK
* DONE
Status: 1 NOTE
See
‘/home/biocbuild/bbs-3.16-bioc/meat/mia.Rcheck/00check.log’
for details.
mia.Rcheck/00install.out
############################################################################## ############################################################################## ### ### Running command: ### ### /home/biocbuild/bbs-3.16-bioc/R/bin/R CMD INSTALL mia ### ############################################################################## ############################################################################## * installing to library ‘/home/biocbuild/bbs-3.16-bioc/R/site-library’ * installing *source* package ‘mia’ ... ** using staged installation ** R ** data ** inst ** byte-compile and prepare package for lazy loading ** help *** installing help indices ** building package indices ** installing vignettes ** testing if installed package can be loaded from temporary location ** testing if installed package can be loaded from final location ** testing if installed package keeps a record of temporary installation path * DONE (mia)
mia.Rcheck/tests/testthat.Rout
R version 4.2.3 (2023-03-15) -- "Shortstop Beagle"
Copyright (C) 2023 The R Foundation for Statistical Computing
Platform: x86_64-pc-linux-gnu (64-bit)
R is free software and comes with ABSOLUTELY NO WARRANTY.
You are welcome to redistribute it under certain conditions.
Type 'license()' or 'licence()' for distribution details.
R is a collaborative project with many contributors.
Type 'contributors()' for more information and
'citation()' on how to cite R or R packages in publications.
Type 'demo()' for some demos, 'help()' for on-line help, or
'help.start()' for an HTML browser interface to help.
Type 'q()' to quit R.
> library(testthat)
> library(mia)
Loading required package: SummarizedExperiment
Loading required package: MatrixGenerics
Loading required package: matrixStats
Attaching package: 'MatrixGenerics'
The following objects are masked from 'package:matrixStats':
colAlls, colAnyNAs, colAnys, colAvgsPerRowSet, colCollapse,
colCounts, colCummaxs, colCummins, colCumprods, colCumsums,
colDiffs, colIQRDiffs, colIQRs, colLogSumExps, colMadDiffs,
colMads, colMaxs, colMeans2, colMedians, colMins, colOrderStats,
colProds, colQuantiles, colRanges, colRanks, colSdDiffs, colSds,
colSums2, colTabulates, colVarDiffs, colVars, colWeightedMads,
colWeightedMeans, colWeightedMedians, colWeightedSds,
colWeightedVars, rowAlls, rowAnyNAs, rowAnys, rowAvgsPerColSet,
rowCollapse, rowCounts, rowCummaxs, rowCummins, rowCumprods,
rowCumsums, rowDiffs, rowIQRDiffs, rowIQRs, rowLogSumExps,
rowMadDiffs, rowMads, rowMaxs, rowMeans2, rowMedians, rowMins,
rowOrderStats, rowProds, rowQuantiles, rowRanges, rowRanks,
rowSdDiffs, rowSds, rowSums2, rowTabulates, rowVarDiffs, rowVars,
rowWeightedMads, rowWeightedMeans, rowWeightedMedians,
rowWeightedSds, rowWeightedVars
Loading required package: GenomicRanges
Loading required package: stats4
Loading required package: BiocGenerics
Attaching package: 'BiocGenerics'
The following objects are masked from 'package:stats':
IQR, mad, sd, var, xtabs
The following objects are masked from 'package:base':
Filter, Find, Map, Position, Reduce, anyDuplicated, aperm, append,
as.data.frame, basename, cbind, colnames, dirname, do.call,
duplicated, eval, evalq, get, grep, grepl, intersect, is.unsorted,
lapply, mapply, match, mget, order, paste, pmax, pmax.int, pmin,
pmin.int, rank, rbind, rownames, sapply, setdiff, sort, table,
tapply, union, unique, unsplit, which.max, which.min
Loading required package: S4Vectors
Attaching package: 'S4Vectors'
The following objects are masked from 'package:base':
I, expand.grid, unname
Loading required package: IRanges
Loading required package: GenomeInfoDb
Loading required package: Biobase
Welcome to Bioconductor
Vignettes contain introductory material; view with
'browseVignettes()'. To cite Bioconductor, see
'citation("Biobase")', and for packages 'citation("pkgname")'.
Attaching package: 'Biobase'
The following object is masked from 'package:MatrixGenerics':
rowMedians
The following objects are masked from 'package:matrixStats':
anyMissing, rowMedians
Loading required package: SingleCellExperiment
Loading required package: TreeSummarizedExperiment
Loading required package: Biostrings
Loading required package: XVector
Attaching package: 'Biostrings'
The following object is masked from 'package:base':
strsplit
Loading required package: MultiAssayExperiment
>
> test_check("mia")
================================================================================
Time difference of 8.83 secs
Initializing error rates to maximum possible estimate.
selfConsist step 1 .
selfConsist step 2
selfConsist step 3
selfConsist step 4
Convergence after 4 rounds.
Initializing error rates to maximum possible estimate.
selfConsist step 1 .
selfConsist step 2
selfConsist step 3
selfConsist step 4
Convergence after 4 rounds.
initial value 0.383462
iter 5 value 0.161655
iter 10 value 0.113278
final value 0.003270
converged
initial value 0.000000
final value 0.000000
converged
initial value 0.000000
final value 0.000000
converged
initial value 0.000000
final value 0.000000
converged
[ FAIL 0 | WARN 0 | SKIP 0 | PASS 901 ]
>
> proc.time()
user system elapsed
546.508 5.319 553.160
mia.Rcheck/mia-Ex.timings
| name | user | system | elapsed | |
| agglomerate-methods | 13.246 | 0.172 | 13.419 | |
| calculateDMN | 1.174 | 0.004 | 1.178 | |
| calculateJSD | 4.486 | 0.144 | 4.636 | |
| calculateOverlap | 0.165 | 0.000 | 0.165 | |
| calculateUnifrac | 0.339 | 0.016 | 0.355 | |
| estimateDivergence | 2.255 | 0.040 | 2.295 | |
| estimateDiversity | 9.512 | 0.080 | 9.591 | |
| estimateDominance | 0.271 | 0.004 | 0.275 | |
| estimateEvenness | 0.070 | 0.012 | 0.082 | |
| estimateRichness | 0.354 | 0.004 | 0.359 | |
| getAbundance | 0.384 | 0.028 | 0.413 | |
| getExperimentCrossAssociation | 3.661 | 0.064 | 3.726 | |
| getPrevalence | 7.844 | 0.028 | 7.873 | |
| isContaminant | 0.352 | 0.008 | 0.360 | |
| loadFromMetaphlan | 1.278 | 0.000 | 1.278 | |
| loadFromMothur | 0.263 | 0.008 | 0.272 | |
| loadFromQIIME2 | 0.907 | 0.028 | 0.943 | |
| makePhyloseqFromTreeSE | 1.785 | 0.020 | 1.804 | |
| makeTreeSEFromBiom | 0.465 | 0.004 | 0.469 | |
| makeTreeSEFromDADA2 | 6.901 | 0.044 | 6.946 | |
| makeTreeSEFromPhyloseq | 1.373 | 0.100 | 1.474 | |
| meltAssay | 0.745 | 0.056 | 0.802 | |
| merge-methods | 1.342 | 0.004 | 1.347 | |
| mergeSEs | 4.509 | 0.016 | 4.525 | |
| perSampleDominantTaxa | 2.201 | 0.004 | 2.205 | |
| relabundance | 0.389 | 0.004 | 0.393 | |
| runCCA | 2.162 | 0.044 | 2.206 | |
| runDPCoA | 0.418 | 0.000 | 0.419 | |
| runNMDS | 0.336 | 0.000 | 0.336 | |
| splitByRanks | 8.585 | 0.000 | 8.585 | |
| splitOn | 174.159 | 3.032 | 177.204 | |
| subsampleCounts | 1.366 | 0.008 | 1.373 | |
| subsetSamples | 0.817 | 0.004 | 0.821 | |
| summaries | 3.077 | 0.004 | 3.081 | |
| taxonomy-methods | 17.119 | 0.280 | 17.399 | |
| transformCounts | 0.383 | 0.000 | 0.383 | |