| Back to Multiple platform build/check report for BioC 3.16: simplified long |
|
This page was generated on 2023-04-12 11:05:05 -0400 (Wed, 12 Apr 2023).
| Hostname | OS | Arch (*) | R version | Installed pkgs |
|---|---|---|---|---|
| nebbiolo2 | Linux (Ubuntu 20.04.5 LTS) | x86_64 | 4.2.3 (2023-03-15) -- "Shortstop Beagle" | 4502 |
| palomino4 | Windows Server 2022 Datacenter | x64 | 4.2.3 (2023-03-15 ucrt) -- "Shortstop Beagle" | 4282 |
| lconway | macOS 12.5.1 Monterey | x86_64 | 4.2.3 (2023-03-15) -- "Shortstop Beagle" | 4310 |
| Click on any hostname to see more info about the system (e.g. compilers) (*) as reported by 'uname -p', except on Windows and Mac OS X | ||||
|
To the developers/maintainers of the genefu package: - Please allow up to 24 hours (and sometimes 48 hours) for your latest push to git@git.bioconductor.org:packages/genefu.git to reflect on this report. See How and When does the builder pull? When will my changes propagate? for more information. - Make sure to use the following settings in order to reproduce any error or warning you see on this page. |
| Package 757/2183 | Hostname | OS / Arch | INSTALL | BUILD | CHECK | BUILD BIN | ||||||||
| genefu 2.30.0 (landing page) Benjamin Haibe-Kains
| nebbiolo2 | Linux (Ubuntu 20.04.5 LTS) / x86_64 | OK | OK | OK | |||||||||
| palomino4 | Windows Server 2022 Datacenter / x64 | OK | OK | OK | OK | |||||||||
| lconway | macOS 12.5.1 Monterey / x86_64 | OK | OK | OK | OK | |||||||||
| Package: genefu |
| Version: 2.30.0 |
| Command: /home/biocbuild/bbs-3.16-bioc/R/bin/R CMD check --install=check:genefu.install-out.txt --library=/home/biocbuild/bbs-3.16-bioc/R/site-library --timings genefu_2.30.0.tar.gz |
| StartedAt: 2023-04-10 20:52:09 -0400 (Mon, 10 Apr 2023) |
| EndedAt: 2023-04-10 20:55:43 -0400 (Mon, 10 Apr 2023) |
| EllapsedTime: 214.3 seconds |
| RetCode: 0 |
| Status: OK |
| CheckDir: genefu.Rcheck |
| Warnings: 0 |
##############################################################################
##############################################################################
###
### Running command:
###
### /home/biocbuild/bbs-3.16-bioc/R/bin/R CMD check --install=check:genefu.install-out.txt --library=/home/biocbuild/bbs-3.16-bioc/R/site-library --timings genefu_2.30.0.tar.gz
###
##############################################################################
##############################################################################
* using log directory ‘/home/biocbuild/bbs-3.16-bioc/meat/genefu.Rcheck’
* using R version 4.2.3 (2023-03-15)
* using platform: x86_64-pc-linux-gnu (64-bit)
* using session charset: UTF-8
* checking for file ‘genefu/DESCRIPTION’ ... OK
* checking extension type ... Package
* this is package ‘genefu’ version ‘2.30.0’
* package encoding: UTF-8
* checking package namespace information ... OK
* checking package dependencies ... OK
* checking if this is a source package ... OK
* checking if there is a namespace ... OK
* checking for hidden files and directories ... OK
* checking for portable file names ... OK
* checking for sufficient/correct file permissions ... OK
* checking whether package ‘genefu’ can be installed ... OK
* checking installed package size ... NOTE
installed size is 5.2Mb
sub-directories of 1Mb or more:
data 4.0Mb
* checking package directory ... OK
* checking ‘build’ directory ... OK
* checking DESCRIPTION meta-information ... OK
* checking top-level files ... OK
* checking for left-over files ... OK
* checking index information ... OK
* checking package subdirectories ... OK
* checking R files for non-ASCII characters ... OK
* checking R files for syntax errors ... OK
* checking whether the package can be loaded ... OK
* checking whether the package can be loaded with stated dependencies ... OK
* checking whether the package can be unloaded cleanly ... OK
* checking whether the namespace can be loaded with stated dependencies ... OK
* checking whether the namespace can be unloaded cleanly ... OK
* checking loading without being on the library search path ... OK
* checking dependencies in R code ... NOTE
Packages in Depends field not imported from:
‘AIMS’ ‘biomaRt’ ‘iC10’
These packages need to be imported from (in the NAMESPACE file)
for when this namespace is loaded but not attached.
Unexported objects imported by ':::' calls:
‘mclust:::grid1’ ‘mclust:::grid2’
See the note in ?`:::` about the use of this operator.
* checking S3 generic/method consistency ... OK
* checking replacement functions ... OK
* checking foreign function calls ... OK
* checking R code for possible problems ... OK
* checking Rd files ... OK
* checking Rd metadata ... OK
* checking Rd cross-references ... OK
* checking for missing documentation entries ... OK
* checking for code/documentation mismatches ... OK
* checking Rd \usage sections ... OK
* checking Rd contents ... OK
* checking for unstated dependencies in examples ... OK
* checking contents of ‘data’ directory ... OK
* checking data for non-ASCII characters ... OK
* checking data for ASCII and uncompressed saves ... OK
* checking files in ‘vignettes’ ... OK
* checking examples ... OK
* checking for unstated dependencies in vignettes ... OK
* checking package vignettes in ‘inst/doc’ ... OK
* checking running R code from vignettes ...
‘genefu.Rmd’ using ‘UTF-8’... OK
NONE
* checking re-building of vignette outputs ... OK
* checking PDF version of manual ... OK
* DONE
Status: 2 NOTEs
See
‘/home/biocbuild/bbs-3.16-bioc/meat/genefu.Rcheck/00check.log’
for details.
genefu.Rcheck/00install.out
############################################################################## ############################################################################## ### ### Running command: ### ### /home/biocbuild/bbs-3.16-bioc/R/bin/R CMD INSTALL genefu ### ############################################################################## ############################################################################## * installing to library ‘/home/biocbuild/bbs-3.16-bioc/R/site-library’ * installing *source* package ‘genefu’ ... ** using staged installation ** R ** data ** inst ** byte-compile and prepare package for lazy loading ** help *** installing help indices ** building package indices ** installing vignettes ** testing if installed package can be loaded from temporary location ** testing if installed package can be loaded from final location ** testing if installed package keeps a record of temporary installation path * DONE (genefu)
genefu.Rcheck/genefu-Ex.timings
| name | user | system | elapsed | |
| bimod | 0.203 | 0.008 | 0.211 | |
| boxplotplus2 | 0.008 | 0.000 | 0.008 | |
| claudinLow | 0.720 | 0.016 | 0.736 | |
| compareProtoCor | 2.049 | 0.040 | 2.090 | |
| compute.pairw.cor.meta | 1.409 | 0.008 | 1.417 | |
| compute.proto.cor.meta | 1.372 | 0.048 | 1.421 | |
| cordiff.dep | 0.098 | 0.004 | 0.102 | |
| endoPredict | 0.103 | 0.000 | 0.103 | |
| fuzzy.ttest | 0.086 | 0.000 | 0.086 | |
| gene70 | 0.227 | 0.004 | 0.231 | |
| gene76 | 0.111 | 0.004 | 0.115 | |
| geneid.map | 0.122 | 0.000 | 0.122 | |
| genius | 0.162 | 0.008 | 0.170 | |
| ggi | 0.090 | 0.012 | 0.102 | |
| ihc4 | 0.109 | 0.004 | 0.113 | |
| intrinsic.cluster | 0.332 | 0.020 | 0.333 | |
| intrinsic.cluster.predict | 0.139 | 0.016 | 0.155 | |
| map.datasets | 1.013 | 0.028 | 1.041 | |
| molecular.subtyping | 1.761 | 0.024 | 1.786 | |
| npi | 0.100 | 0.002 | 0.103 | |
| oncotypedx | 0.111 | 0.001 | 0.112 | |
| ovcAngiogenic | 0.115 | 0.000 | 0.115 | |
| ovcCrijns | 0.104 | 0.008 | 0.112 | |
| ovcTCGA | 0.234 | 0.000 | 0.234 | |
| ovcYoshihara | 0.124 | 0.004 | 0.128 | |
| pik3cags | 0.119 | 0.004 | 0.123 | |
| power.cor | 0.001 | 0.000 | 0.001 | |
| ps.cluster | 0.859 | 0.052 | 0.892 | |
| read.m.file | 0.018 | 0.000 | 0.018 | |
| rename.duplicate | 0.001 | 0.000 | 0.001 | |
| rescale | 0.216 | 0.004 | 0.220 | |
| rorS | 0.150 | 0.004 | 0.154 | |
| setcolclass.df | 0.001 | 0.000 | 0.001 | |
| sig.score | 0.107 | 0.000 | 0.107 | |
| spearmanCI | 0.000 | 0.000 | 0.001 | |
| st.gallen | 0.091 | 0.004 | 0.095 | |
| stab.fs | 0.078 | 0.000 | 0.079 | |
| stab.fs.ranking | 0.502 | 0.048 | 0.551 | |
| strescR | 0.000 | 0.000 | 0.001 | |
| subtype.cluster | 0.616 | 0.016 | 0.633 | |
| subtype.cluster.predict | 0.244 | 0.012 | 0.256 | |
| tamr13 | 0.120 | 0.000 | 0.121 | |
| tbrm | 0 | 0 | 0 | |
| weighted.meanvar | 0.000 | 0.000 | 0.001 | |
| write.m.file | 0.000 | 0.003 | 0.003 | |