| Back to Multiple platform build/check report for BioC 3.16: simplified long | 
 | 
This page was generated on 2023-04-12 11:04:34 -0400 (Wed, 12 Apr 2023).
| Hostname | OS | Arch (*) | R version | Installed pkgs | 
|---|---|---|---|---|
| nebbiolo2 | Linux (Ubuntu 20.04.5 LTS) | x86_64 | 4.2.3 (2023-03-15) -- "Shortstop Beagle" | 4502 | 
| palomino4 | Windows Server 2022 Datacenter | x64 | 4.2.3 (2023-03-15 ucrt) -- "Shortstop Beagle" | 4282 | 
| lconway | macOS 12.5.1 Monterey | x86_64 | 4.2.3 (2023-03-15) -- "Shortstop Beagle" | 4310 | 
| Click on any hostname to see more info about the system (e.g. compilers) (*) as reported by 'uname -p', except on Windows and Mac OS X | ||||
| To the developers/maintainers of the genefilter package: - Please allow up to 24 hours (and sometimes 48 hours) for your latest push to git@git.bioconductor.org:packages/genefilter.git to reflect on this report. See How and When does the builder pull? When will my changes propagate? for more information. - Make sure to use the following settings in order to reproduce any error or warning you see on this page. | 
| Package 756/2183 | Hostname | OS / Arch | INSTALL | BUILD | CHECK | BUILD BIN | ||||||||
| genefilter 1.80.3  (landing page) Bioconductor Package Maintainer 
 | nebbiolo2 | Linux (Ubuntu 20.04.5 LTS) / x86_64 | OK | OK | WARNINGS |  | ||||||||
| palomino4 | Windows Server 2022 Datacenter / x64 | OK | OK | WARNINGS | OK |  | ||||||||
| lconway | macOS 12.5.1 Monterey / x86_64 | OK | OK | OK | OK |  | ||||||||
| QUICK STATS | OS / Arch | INSTALL | BUILD | CHECK | BUILD BIN | |||||||||||||||||
| nebbiolo2 | Linux (Ubuntu 20.04.5 LTS) / x86_64 | 
 | 
 | 
 | ||||||||||||||||||
| palomino4 | Windows Server 2022 Datacenter / x64 | 
 | 
 | 
 | 
 | |||||||||||||||||
| lconway | macOS 12.5.1 Monterey / x86_64 | 
 | 
 | 
 | 
 | |||||||||||||||||
| Package 1/36 | Hostname | OS / Arch | INSTALL | BUILD | CHECK | BUILD BIN | ||||||||||||||||
| a4Base 1.46.0  (landing page) Laure Cougnaud 
 | nebbiolo2 | Linux (Ubuntu 20.04.5 LTS) / x86_64 | OK | OK | OK |  | ||||||||||||||||
| palomino4 | Windows Server 2022 Datacenter / x64 | OK | OK | OK | OK |  | ||||||||||||||||
| lconway | macOS 12.5.1 Monterey / x86_64 | OK | OK | OK | OK |  | ||||||||||||||||
| Package 2/36 | Hostname | OS / Arch | INSTALL | BUILD | CHECK | BUILD BIN | ||||||||||||||||
| annmap 1.40.0  (landing page) Chris Wirth 
 | nebbiolo2 | Linux (Ubuntu 20.04.5 LTS) / x86_64 | OK | OK | WARNINGS |  | ||||||||||||||||
| palomino4 | Windows Server 2022 Datacenter / x64 | ... NOT SUPPORTED ... | ||||||||||||||||||||
| lconway | macOS 12.5.1 Monterey / x86_64 | OK | OK | WARNINGS | OK |  | ||||||||||||||||
| Package 3/36 | Hostname | OS / Arch | INSTALL | BUILD | CHECK | BUILD BIN | ||||||||||||||||
| arrayQualityMetrics 3.54.0  (landing page) Mike Smith 
 | nebbiolo2 | Linux (Ubuntu 20.04.5 LTS) / x86_64 | OK | OK | OK |  | ||||||||||||||||
| palomino4 | Windows Server 2022 Datacenter / x64 | OK | OK | OK | OK |  | ||||||||||||||||
| lconway | macOS 12.5.1 Monterey / x86_64 | OK | OK | OK | OK |  | ||||||||||||||||
| Package 4/36 | Hostname | OS / Arch | INSTALL | BUILD | CHECK | BUILD BIN | ||||||||||||||||
| Category 2.64.0  (landing page) Bioconductor Package Maintainer 
 | nebbiolo2 | Linux (Ubuntu 20.04.5 LTS) / x86_64 | OK | OK | OK |  | ||||||||||||||||
| palomino4 | Windows Server 2022 Datacenter / x64 | OK | OK | OK | OK |  | ||||||||||||||||
| lconway | macOS 12.5.1 Monterey / x86_64 | OK | OK | OK | OK |  | ||||||||||||||||
| Package 5/36 | Hostname | OS / Arch | INSTALL | BUILD | CHECK | BUILD BIN | ||||||||||||||||
| cbaf 1.20.1  (landing page) Arman Shahrisa 
 | nebbiolo2 | Linux (Ubuntu 20.04.5 LTS) / x86_64 | OK | OK | OK |  | ||||||||||||||||
| palomino4 | Windows Server 2022 Datacenter / x64 | ERROR | OK | ERROR | OK | |||||||||||||||||
| lconway | macOS 12.5.1 Monterey / x86_64 | OK | OK | OK | OK |  | ||||||||||||||||
| Package 6/36 | Hostname | OS / Arch | INSTALL | BUILD | CHECK | BUILD BIN | ||||||||||||||||
| cellHTS2 2.62.0  (landing page) Joseph Barry 
 | nebbiolo2 | Linux (Ubuntu 20.04.5 LTS) / x86_64 | OK | OK | OK |  | ||||||||||||||||
| palomino4 | Windows Server 2022 Datacenter / x64 | OK | OK | OK | OK |  | ||||||||||||||||
| lconway | macOS 12.5.1 Monterey / x86_64 | OK | OK | OK | OK |  | ||||||||||||||||
| Package 7/36 | Hostname | OS / Arch | INSTALL | BUILD | CHECK | BUILD BIN | ||||||||||||||||
| ClassifyR 3.2.7  (landing page) Dario Strbenac 
 | nebbiolo2 | Linux (Ubuntu 20.04.5 LTS) / x86_64 | OK | OK | OK |  | ||||||||||||||||
| palomino4 | Windows Server 2022 Datacenter / x64 | OK | OK | OK | OK |  | ||||||||||||||||
| lconway | macOS 12.5.1 Monterey / x86_64 | OK | OK | WARNINGS | OK |  | ||||||||||||||||
| Package 8/36 | Hostname | OS / Arch | INSTALL | BUILD | CHECK | BUILD BIN | ||||||||||||||||
| CNTools 1.54.0  (landing page) J. Zhang 
 | nebbiolo2 | Linux (Ubuntu 20.04.5 LTS) / x86_64 | OK | OK | OK |  | ||||||||||||||||
| palomino4 | Windows Server 2022 Datacenter / x64 | OK | OK | OK | OK |  | ||||||||||||||||
| lconway | macOS 12.5.1 Monterey / x86_64 | OK | OK | OK | OK |  | ||||||||||||||||
| Package 9/36 | Hostname | OS / Arch | INSTALL | BUILD | CHECK | BUILD BIN | ||||||||||||||||
| countsimQC 1.16.1  (landing page) Charlotte Soneson 
 | nebbiolo2 | Linux (Ubuntu 20.04.5 LTS) / x86_64 | OK | OK | OK |  | ||||||||||||||||
| palomino4 | Windows Server 2022 Datacenter / x64 | OK | OK | OK | OK |  | ||||||||||||||||
| lconway | macOS 12.5.1 Monterey / x86_64 | OK | OK | OK | OK |  | ||||||||||||||||
| Package 10/36 | Hostname | OS / Arch | INSTALL | BUILD | CHECK | BUILD BIN | ||||||||||||||||
| covRNA 1.24.0  (landing page) Lara Urban 
 | nebbiolo2 | Linux (Ubuntu 20.04.5 LTS) / x86_64 | OK | OK | OK |  | ||||||||||||||||
| palomino4 | Windows Server 2022 Datacenter / x64 | OK | OK | OK | OK |  | ||||||||||||||||
| lconway | macOS 12.5.1 Monterey / x86_64 | OK | OK | OK | OK |  | ||||||||||||||||
| Package 11/36 | Hostname | OS / Arch | INSTALL | BUILD | CHECK | BUILD BIN | ||||||||||||||||
| DEXSeq 1.44.0  (landing page) Alejandro Reyes 
 | nebbiolo2 | Linux (Ubuntu 20.04.5 LTS) / x86_64 | OK | OK | OK |  | ||||||||||||||||
| palomino4 | Windows Server 2022 Datacenter / x64 | OK | OK | OK | OK |  | ||||||||||||||||
| lconway | macOS 12.5.1 Monterey / x86_64 | OK | OK | OK | OK |  | ||||||||||||||||
| Package 12/36 | Hostname | OS / Arch | INSTALL | BUILD | CHECK | BUILD BIN | ||||||||||||||||
| ENmix 1.34.02  (landing page) Zongli Xu 
 | nebbiolo2 | Linux (Ubuntu 20.04.5 LTS) / x86_64 | OK | OK | OK |  | ||||||||||||||||
| palomino4 | Windows Server 2022 Datacenter / x64 | OK | OK | OK | OK |  | ||||||||||||||||
| lconway | macOS 12.5.1 Monterey / x86_64 | OK | OK | OK | OK |  | ||||||||||||||||
| Package 13/36 | Hostname | OS / Arch | INSTALL | BUILD | CHECK | BUILD BIN | ||||||||||||||||
| GeneMeta 1.70.0  (landing page) Bioconductor Package Maintainer 
 | nebbiolo2 | Linux (Ubuntu 20.04.5 LTS) / x86_64 | OK | OK | OK |  | ||||||||||||||||
| palomino4 | Windows Server 2022 Datacenter / x64 | OK | OK | OK | OK |  | ||||||||||||||||
| lconway | macOS 12.5.1 Monterey / x86_64 | OK | OK | OK | OK |  | ||||||||||||||||
| Package 14/36 | Hostname | OS / Arch | INSTALL | BUILD | CHECK | BUILD BIN | ||||||||||||||||
| GISPA 1.22.0  (landing page) Bhakti Dwivedi 
 | nebbiolo2 | Linux (Ubuntu 20.04.5 LTS) / x86_64 | OK | OK | OK |  | ||||||||||||||||
| palomino4 | Windows Server 2022 Datacenter / x64 | OK | OK | OK | OK |  | ||||||||||||||||
| lconway | macOS 12.5.1 Monterey / x86_64 | OK | OK | OK | OK |  | ||||||||||||||||
| Package 15/36 | Hostname | OS / Arch | INSTALL | BUILD | CHECK | BUILD BIN | ||||||||||||||||
| GSRI 2.46.0  (landing page) Julian Gehring 
 | nebbiolo2 | Linux (Ubuntu 20.04.5 LTS) / x86_64 | OK | OK | OK |  | ||||||||||||||||
| palomino4 | Windows Server 2022 Datacenter / x64 | OK | OK | OK | OK |  | ||||||||||||||||
| lconway | macOS 12.5.1 Monterey / x86_64 | OK | OK | OK | OK |  | ||||||||||||||||
| Package 16/36 | Hostname | OS / Arch | INSTALL | BUILD | CHECK | BUILD BIN | ||||||||||||||||
| metaseqR2 1.10.0  (landing page) Panagiotis Moulos 
 | nebbiolo2 | Linux (Ubuntu 20.04.5 LTS) / x86_64 | OK | OK | WARNINGS |  | ||||||||||||||||
| palomino4 | Windows Server 2022 Datacenter / x64 | OK | OK | WARNINGS | OK |  | ||||||||||||||||
| lconway | macOS 12.5.1 Monterey / x86_64 | OK | OK | WARNINGS | OK |  | ||||||||||||||||
| Package 17/36 | Hostname | OS / Arch | INSTALL | BUILD | CHECK | BUILD BIN | ||||||||||||||||
| methylCC 1.12.0  (landing page) Stephanie C. Hicks 
 | nebbiolo2 | Linux (Ubuntu 20.04.5 LTS) / x86_64 | OK | OK | OK |  | ||||||||||||||||
| palomino4 | Windows Server 2022 Datacenter / x64 | OK | OK | OK | OK |  | ||||||||||||||||
| lconway | macOS 12.5.1 Monterey / x86_64 | OK | OK | OK | OK |  | ||||||||||||||||
| Package 18/36 | Hostname | OS / Arch | INSTALL | BUILD | CHECK | BUILD BIN | ||||||||||||||||
| methylumi 2.44.0  (landing page) Sean Davis 
 | nebbiolo2 | Linux (Ubuntu 20.04.5 LTS) / x86_64 | OK | OK | OK |  | ||||||||||||||||
| palomino4 | Windows Server 2022 Datacenter / x64 | OK | OK | OK | OK |  | ||||||||||||||||
| lconway | macOS 12.5.1 Monterey / x86_64 | OK | OK | OK | OK |  | ||||||||||||||||
| Package 19/36 | Hostname | OS / Arch | INSTALL | BUILD | CHECK | BUILD BIN | ||||||||||||||||
| minfi 1.44.0  (landing page) Kasper Daniel Hansen 
 | nebbiolo2 | Linux (Ubuntu 20.04.5 LTS) / x86_64 | OK | OK | OK |  | ||||||||||||||||
| palomino4 | Windows Server 2022 Datacenter / x64 | OK | OK | OK | OK |  | ||||||||||||||||
| lconway | macOS 12.5.1 Monterey / x86_64 | OK | OK | OK | OK |  | ||||||||||||||||
| Package 20/36 | Hostname | OS / Arch | INSTALL | BUILD | CHECK | BUILD BIN | ||||||||||||||||
| MLInterfaces 1.78.0  (landing page) V. Carey 
 | nebbiolo2 | Linux (Ubuntu 20.04.5 LTS) / x86_64 | OK | OK | OK |  | ||||||||||||||||
| palomino4 | Windows Server 2022 Datacenter / x64 | OK | OK | OK | OK |  | ||||||||||||||||
| lconway | macOS 12.5.1 Monterey / x86_64 | OK | OK | OK | OK |  | ||||||||||||||||
| Package 21/36 | Hostname | OS / Arch | INSTALL | BUILD | CHECK | BUILD BIN | ||||||||||||||||
| mogsa 1.32.0  (landing page) Chen Meng 
 | nebbiolo2 | Linux (Ubuntu 20.04.5 LTS) / x86_64 | OK | OK | OK |  | ||||||||||||||||
| palomino4 | Windows Server 2022 Datacenter / x64 | OK | OK | OK | OK |  | ||||||||||||||||
| lconway | macOS 12.5.1 Monterey / x86_64 | OK | OK | OK | OK |  | ||||||||||||||||
| Package 22/36 | Hostname | OS / Arch | INSTALL | BUILD | CHECK | BUILD BIN | ||||||||||||||||
| NBAMSeq 1.14.0  (landing page) Xu Ren 
 | nebbiolo2 | Linux (Ubuntu 20.04.5 LTS) / x86_64 | OK | OK | OK |  | ||||||||||||||||
| palomino4 | Windows Server 2022 Datacenter / x64 | OK | OK | OK | OK |  | ||||||||||||||||
| lconway | macOS 12.5.1 Monterey / x86_64 | OK | OK | OK | OK |  | ||||||||||||||||
| Package 23/36 | Hostname | OS / Arch | INSTALL | BUILD | CHECK | BUILD BIN | ||||||||||||||||
| NxtIRFcore 1.4.0  (landing page) Alex Chit Hei Wong 
 | nebbiolo2 | Linux (Ubuntu 20.04.5 LTS) / x86_64 | OK | OK | OK |  | ||||||||||||||||
| palomino4 | Windows Server 2022 Datacenter / x64 | OK | OK | OK | OK |  | ||||||||||||||||
| lconway | macOS 12.5.1 Monterey / x86_64 | OK | OK | OK | OK |  | ||||||||||||||||
| Package 24/36 | Hostname | OS / Arch | INSTALL | BUILD | CHECK | BUILD BIN | ||||||||||||||||
| pcaExplorer 2.24.0  (landing page) Federico Marini 
 | nebbiolo2 | Linux (Ubuntu 20.04.5 LTS) / x86_64 | OK | OK | OK |  | ||||||||||||||||
| palomino4 | Windows Server 2022 Datacenter / x64 | OK | OK | OK | OK |  | ||||||||||||||||
| lconway | macOS 12.5.1 Monterey / x86_64 | OK | OK | OK | OK |  | ||||||||||||||||
| Package 25/36 | Hostname | OS / Arch | INSTALL | BUILD | CHECK | BUILD BIN | ||||||||||||||||
| PECA 1.34.0  (landing page) Tomi Suomi 
 | nebbiolo2 | Linux (Ubuntu 20.04.5 LTS) / x86_64 | OK | OK | OK |  | ||||||||||||||||
| palomino4 | Windows Server 2022 Datacenter / x64 | OK | OK | OK | OK |  | ||||||||||||||||
| lconway | macOS 12.5.1 Monterey / x86_64 | OK | OK | OK | OK |  | ||||||||||||||||
| Package 26/36 | Hostname | OS / Arch | INSTALL | BUILD | CHECK | BUILD BIN | ||||||||||||||||
| phenoTest 1.46.0  (landing page) Evarist Planet 
 | nebbiolo2 | Linux (Ubuntu 20.04.5 LTS) / x86_64 | OK | OK | WARNINGS |  | ||||||||||||||||
| palomino4 | Windows Server 2022 Datacenter / x64 | OK | OK | WARNINGS | OK |  | ||||||||||||||||
| lconway | macOS 12.5.1 Monterey / x86_64 | OK | OK | WARNINGS | OK |  | ||||||||||||||||
| Package 27/36 | Hostname | OS / Arch | INSTALL | BUILD | CHECK | BUILD BIN | ||||||||||||||||
| protGear 1.2.0  (landing page) Kennedy Mwai 
 | nebbiolo2 | Linux (Ubuntu 20.04.5 LTS) / x86_64 | OK | OK | OK |  | ||||||||||||||||
| palomino4 | Windows Server 2022 Datacenter / x64 | OK | OK | OK | OK |  | ||||||||||||||||
| lconway | macOS 12.5.1 Monterey / x86_64 | OK | OK | OK | OK |  | ||||||||||||||||
| Package 28/36 | Hostname | OS / Arch | INSTALL | BUILD | CHECK | BUILD BIN | ||||||||||||||||
| pwrEWAS 1.12.0  (landing page) Stefan Graw 
 | nebbiolo2 | Linux (Ubuntu 20.04.5 LTS) / x86_64 | OK | OK | OK |  | ||||||||||||||||
| palomino4 | Windows Server 2022 Datacenter / x64 | OK | OK | OK | OK |  | ||||||||||||||||
| lconway | macOS 12.5.1 Monterey / x86_64 | OK | OK | OK | OK |  | ||||||||||||||||
| Package 29/36 | Hostname | OS / Arch | INSTALL | BUILD | CHECK | BUILD BIN | ||||||||||||||||
| Ringo 1.62.0  (landing page) J. Toedling 
 | nebbiolo2 | Linux (Ubuntu 20.04.5 LTS) / x86_64 | OK | OK | OK |  | ||||||||||||||||
| palomino4 | Windows Server 2022 Datacenter / x64 | OK | OK | OK | OK |  | ||||||||||||||||
| lconway | macOS 12.5.1 Monterey / x86_64 | OK | OK | OK | OK |  | ||||||||||||||||
| Package 30/36 | Hostname | OS / Arch | INSTALL | BUILD | CHECK | BUILD BIN | ||||||||||||||||
| SISPA 1.28.0  (landing page) Bhakti Dwivedi 
 | nebbiolo2 | Linux (Ubuntu 20.04.5 LTS) / x86_64 | OK | OK | OK |  | ||||||||||||||||
| palomino4 | Windows Server 2022 Datacenter / x64 | OK | OK | OK | OK |  | ||||||||||||||||
| lconway | macOS 12.5.1 Monterey / x86_64 | OK | OK | OK | OK |  | ||||||||||||||||
| Package 31/36 | Hostname | OS / Arch | INSTALL | BUILD | CHECK | BUILD BIN | ||||||||||||||||
| spatialHeatmap 2.4.0  (landing page) Jianhai Zhang 
 | nebbiolo2 | Linux (Ubuntu 20.04.5 LTS) / x86_64 | OK | OK | OK |  | ||||||||||||||||
| palomino4 | Windows Server 2022 Datacenter / x64 | OK | OK | OK | OK |  | ||||||||||||||||
| lconway | macOS 12.5.1 Monterey / x86_64 | OK | OK | OK | OK |  | ||||||||||||||||
| Package 32/36 | Hostname | OS / Arch | INSTALL | BUILD | CHECK | BUILD BIN | ||||||||||||||||
| SpliceWiz 1.0.4  (landing page) Alex Chit Hei Wong 
 | nebbiolo2 | Linux (Ubuntu 20.04.5 LTS) / x86_64 | OK | OK | OK |  | ||||||||||||||||
| palomino4 | Windows Server 2022 Datacenter / x64 | OK | OK | OK | OK |  | ||||||||||||||||
| lconway | macOS 12.5.1 Monterey / x86_64 | OK | OK | OK | OK |  | ||||||||||||||||
| Package 33/36 | Hostname | OS / Arch | INSTALL | BUILD | CHECK | BUILD BIN | ||||||||||||||||
| sva 3.46.0  (landing page) Jeffrey T. Leek 
 | nebbiolo2 | Linux (Ubuntu 20.04.5 LTS) / x86_64 | OK | OK | OK |  | ||||||||||||||||
| palomino4 | Windows Server 2022 Datacenter / x64 | OK | OK | OK | OK |  | ||||||||||||||||
| lconway | macOS 12.5.1 Monterey / x86_64 | OK | OK | OK | OK |  | ||||||||||||||||
| Package 34/36 | Hostname | OS / Arch | INSTALL | BUILD | CHECK | BUILD BIN | ||||||||||||||||
| tilingArray 1.76.0  (landing page) Zhenyu Xu 
 | nebbiolo2 | Linux (Ubuntu 20.04.5 LTS) / x86_64 | OK | OK | OK |  | ||||||||||||||||
| palomino4 | Windows Server 2022 Datacenter / x64 | OK | OK | OK | OK |  | ||||||||||||||||
| lconway | macOS 12.5.1 Monterey / x86_64 | OK | OK | OK | OK |  | ||||||||||||||||
| Package 35/36 | Hostname | OS / Arch | INSTALL | BUILD | CHECK | BUILD BIN | ||||||||||||||||
| XDE 2.44.0  (landing page) Robert Scharpf 
 | nebbiolo2 | Linux (Ubuntu 20.04.5 LTS) / x86_64 | OK | OK | OK |  | ||||||||||||||||
| palomino4 | Windows Server 2022 Datacenter / x64 | OK | OK | OK | OK |  | ||||||||||||||||
| lconway | macOS 12.5.1 Monterey / x86_64 | OK | OK | OK | OK |  | ||||||||||||||||
| Package 36/36 | Hostname | OS / Arch | INSTALL | BUILD | CHECK | BUILD BIN | ||||||||||||||||
| zinbwave 1.20.0  (landing page) Davide Risso 
 | nebbiolo2 | Linux (Ubuntu 20.04.5 LTS) / x86_64 | OK | OK | OK |  | ||||||||||||||||
| palomino4 | Windows Server 2022 Datacenter / x64 | OK | OK | OK | OK |  | ||||||||||||||||
| lconway | macOS 12.5.1 Monterey / x86_64 | OK | OK | OK | OK |  | ||||||||||||||||