| Back to Multiple platform build/check report for BioC 3.16: simplified long |
|
This page was generated on 2023-04-12 11:06:08 -0400 (Wed, 12 Apr 2023).
| Hostname | OS | Arch (*) | R version | Installed pkgs |
|---|---|---|---|---|
| nebbiolo2 | Linux (Ubuntu 20.04.5 LTS) | x86_64 | 4.2.3 (2023-03-15) -- "Shortstop Beagle" | 4502 |
| palomino4 | Windows Server 2022 Datacenter | x64 | 4.2.3 (2023-03-15 ucrt) -- "Shortstop Beagle" | 4282 |
| lconway | macOS 12.5.1 Monterey | x86_64 | 4.2.3 (2023-03-15) -- "Shortstop Beagle" | 4310 |
| Click on any hostname to see more info about the system (e.g. compilers) (*) as reported by 'uname -p', except on Windows and Mac OS X | ||||
|
To the developers/maintainers of the geneRxCluster package: - Please allow up to 24 hours (and sometimes 48 hours) for your latest push to git@git.bioconductor.org:packages/geneRxCluster.git to reflect on this report. See How and When does the builder pull? When will my changes propagate? for more information. - Make sure to use the following settings in order to reproduce any error or warning you see on this page. |
| Package 767/2183 | Hostname | OS / Arch | INSTALL | BUILD | CHECK | BUILD BIN | ||||||||
| geneRxCluster 1.34.0 (landing page) Charles Berry
| nebbiolo2 | Linux (Ubuntu 20.04.5 LTS) / x86_64 | OK | OK | OK | |||||||||
| palomino4 | Windows Server 2022 Datacenter / x64 | OK | OK | OK | OK | |||||||||
| lconway | macOS 12.5.1 Monterey / x86_64 | OK | OK | OK | OK | |||||||||
| Package: geneRxCluster |
| Version: 1.34.0 |
| Command: rm -rf geneRxCluster.buildbin-libdir && mkdir geneRxCluster.buildbin-libdir && /Users/biocbuild/BBS/utils/build-universal.sh geneRxCluster_1.34.0.tar.gz /Library/Frameworks/R.framework/Resources/bin/R geneRxCluster.buildbin-libdir |
| StartedAt: 2023-04-10 23:44:53 -0400 (Mon, 10 Apr 2023) |
| EndedAt: 2023-04-10 23:45:08 -0400 (Mon, 10 Apr 2023) |
| EllapsedTime: 14.9 seconds |
| RetCode: 0 |
| Status: OK |
| PackageFile: geneRxCluster_1.34.0.tgz |
| PackageFileSize: 336.8 KiB |
##############################################################################
##############################################################################
###
### Running command:
###
### rm -rf geneRxCluster.buildbin-libdir && mkdir geneRxCluster.buildbin-libdir && /Users/biocbuild/BBS/utils/build-universal.sh geneRxCluster_1.34.0.tar.gz /Library/Frameworks/R.framework/Resources/bin/R geneRxCluster.buildbin-libdir
###
##############################################################################
##############################################################################
>>>>>>>
>>>>>>> INSTALLATION WITH 'R CMD INSTALL --preclean --no-multiarch --library=geneRxCluster.buildbin-libdir geneRxCluster_1.34.0.tar.gz'
>>>>>>>
* installing *source* package ‘geneRxCluster’ ...
** using staged installation
** libs
clang -mmacosx-version-min=10.13 -I"/Library/Frameworks/R.framework/Resources/include" -DNDEBUG -I/usr/local/include -fPIC -Wall -g -O2 -c cluster.c -o cluster.o
cluster.c:83:5: warning: add explicit braces to avoid dangling else [-Wdangling-else]
else if (*pvj==HITAIL)
^
1 warning generated.
clang -mmacosx-version-min=10.13 -dynamiclib -Wl,-headerpad_max_install_names -undefined dynamic_lookup -single_module -multiply_defined suppress -L/Library/Frameworks/R.framework/Resources/lib -L/usr/local/lib -o geneRxCluster.so cluster.o -F/Library/Frameworks/R.framework/.. -framework R -Wl,-framework -Wl,CoreFoundation
installing to /Users/biocbuild/bbs-3.16-bioc/meat/geneRxCluster.buildbin-libdir/00LOCK-geneRxCluster/00new/geneRxCluster/libs
** R
** inst
** byte-compile and prepare package for lazy loading
** help
*** installing help indices
** building package indices
** installing vignettes
** testing if installed package can be loaded from temporary location
** checking absolute paths in shared objects and dynamic libraries
** testing if installed package can be loaded from final location
** testing if installed package keeps a record of temporary installation path
* DONE (geneRxCluster)
>>>>>>>
>>>>>>> FIXING LINKS FOR geneRxCluster.buildbin-libdir/geneRxCluster/libs/geneRxCluster.so
>>>>>>>
install_name_tool -change "/usr/local/lib/libgcc_s.1.dylib" "/Library/Frameworks/R.framework/Versions/4.2/Resources/lib/libgcc_s.1.dylib" "geneRxCluster.buildbin-libdir/geneRxCluster/libs/geneRxCluster.so"
install_name_tool -change "/usr/local/lib/libgfortran.5.dylib" "/Library/Frameworks/R.framework/Versions/4.2/Resources/lib/libgfortran.5.dylib" "geneRxCluster.buildbin-libdir/geneRxCluster/libs/geneRxCluster.so"
install_name_tool -change "/usr/local/lib/libquadmath.0.dylib" "/Library/Frameworks/R.framework/Versions/4.2/Resources/lib/libquadmath.0.dylib" "geneRxCluster.buildbin-libdir/geneRxCluster/libs/geneRxCluster.so"