| Back to Multiple platform build/check report for BioC 3.16: simplified long |
|
This page was generated on 2023-04-12 11:05:04 -0400 (Wed, 12 Apr 2023).
| Hostname | OS | Arch (*) | R version | Installed pkgs |
|---|---|---|---|---|
| nebbiolo2 | Linux (Ubuntu 20.04.5 LTS) | x86_64 | 4.2.3 (2023-03-15) -- "Shortstop Beagle" | 4502 |
| palomino4 | Windows Server 2022 Datacenter | x64 | 4.2.3 (2023-03-15 ucrt) -- "Shortstop Beagle" | 4282 |
| lconway | macOS 12.5.1 Monterey | x86_64 | 4.2.3 (2023-03-15) -- "Shortstop Beagle" | 4310 |
| Click on any hostname to see more info about the system (e.g. compilers) (*) as reported by 'uname -p', except on Windows and Mac OS X | ||||
|
To the developers/maintainers of the flowMatch package: - Please allow up to 24 hours (and sometimes 48 hours) for your latest push to git@git.bioconductor.org:packages/flowMatch.git to reflect on this report. See How and When does the builder pull? When will my changes propagate? for more information. - Make sure to use the following settings in order to reproduce any error or warning you see on this page. |
| Package 698/2183 | Hostname | OS / Arch | INSTALL | BUILD | CHECK | BUILD BIN | ||||||||
| flowMatch 1.34.0 (landing page) Ariful Azad
| nebbiolo2 | Linux (Ubuntu 20.04.5 LTS) / x86_64 | OK | OK | OK | |||||||||
| palomino4 | Windows Server 2022 Datacenter / x64 | OK | OK | OK | OK | |||||||||
| lconway | macOS 12.5.1 Monterey / x86_64 | OK | OK | OK | OK | |||||||||
| Package: flowMatch |
| Version: 1.34.0 |
| Command: /home/biocbuild/bbs-3.16-bioc/R/bin/R CMD INSTALL flowMatch |
| StartedAt: 2023-04-10 15:17:42 -0400 (Mon, 10 Apr 2023) |
| EndedAt: 2023-04-10 15:18:15 -0400 (Mon, 10 Apr 2023) |
| EllapsedTime: 33.5 seconds |
| RetCode: 0 |
| Status: OK |
##############################################################################
##############################################################################
###
### Running command:
###
### /home/biocbuild/bbs-3.16-bioc/R/bin/R CMD INSTALL flowMatch
###
##############################################################################
##############################################################################
* installing to library ‘/home/biocbuild/bbs-3.16-bioc/R/site-library’
* installing *source* package ‘flowMatch’ ...
** using staged installation
** libs
g++ -std=gnu++14 -I"/home/biocbuild/bbs-3.16-bioc/R/include" -DNDEBUG -I'/home/biocbuild/bbs-3.16-bioc/R/site-library/Rcpp/include' -I/usr/local/include -fpic -g -O2 -Wall -c BipartiteGraph.cpp -o BipartiteGraph.o
g++ -std=gnu++14 -I"/home/biocbuild/bbs-3.16-bioc/R/include" -DNDEBUG -I'/home/biocbuild/bbs-3.16-bioc/R/site-library/Rcpp/include' -I/usr/local/include -fpic -g -O2 -Wall -c MinWghtEdgCoverBipartite.cpp -o MinWghtEdgCoverBipartite.o
MinWghtEdgCoverBipartite.cpp: In function ‘void update_height(mclust&, std::vector<std::vector<templatePair> >, std::vector<std::vector<BipartiteGraph> >, double)’:
MinWghtEdgCoverBipartite.cpp:271:16: warning: comparison of integer expressions of different signedness: ‘int’ and ‘std::vector<double>::size_type’ {aka ‘long unsigned int’} [-Wsign-compare]
271 | for(int i=0; i<tree.height.size(); i++)
| ~^~~~~~~~~~~~~~~~~~~
MinWghtEdgCoverBipartite.cpp: In function ‘void computeDegConsistencyNew(std::vector<std::vector<templatePair> >&, std::vector<std::vector<BipartiteGraph> >&, double, double)’:
MinWghtEdgCoverBipartite.cpp:487:10: warning: variable ‘delta_cx_cy’ set but not used [-Wunused-but-set-variable]
487 | int delta_cx_cy = 0;
| ^~~~~~~~~~~
g++ -std=gnu++14 -I"/home/biocbuild/bbs-3.16-bioc/R/include" -DNDEBUG -I'/home/biocbuild/bbs-3.16-bioc/R/site-library/Rcpp/include' -I/usr/local/include -fpic -g -O2 -Wall -c flowMatch.cpp -o flowMatch.o
flowMatch.cpp: In function ‘Rcpp::List computeMEC(Rcpp::NumericMatrix, double)’:
flowMatch.cpp:43:16: warning: comparison of integer expressions of different signedness: ‘int’ and ‘std::vector<std::vector<int> >::size_type’ {aka ‘long unsigned int’} [-Wsign-compare]
43 | for(int i=0; i<mec.sCoverVecVec.size(); i++)
| ~^~~~~~~~~~~~~~~~~~~~~~~~
flowMatch.cpp:45:17: warning: comparison of integer expressions of different signedness: ‘int’ and ‘std::vector<int>::size_type’ {aka ‘long unsigned int’} [-Wsign-compare]
45 | for(int j=0; j<mec.sCoverVecVec[i].size(); j++)
| ~^~~~~~~~~~~~~~~~~~~~~~~~~~~
flowMatch.cpp:53:16: warning: comparison of integer expressions of different signedness: ‘int’ and ‘std::vector<std::vector<int> >::size_type’ {aka ‘long unsigned int’} [-Wsign-compare]
53 | for(int i=0; i<mec.tCoverVecVec.size(); i++)
| ~^~~~~~~~~~~~~~~~~~~~~~~~
flowMatch.cpp:55:17: warning: comparison of integer expressions of different signedness: ‘int’ and ‘std::vector<int>::size_type’ {aka ‘long unsigned int’} [-Wsign-compare]
55 | for(int j=0; j<mec.tCoverVecVec[i].size(); j++)
| ~^~~~~~~~~~~~~~~~~~~~~~~~~~~
g++ -std=gnu++14 -shared -L/home/biocbuild/bbs-3.16-bioc/R/lib -L/usr/local/lib -o flowMatch.so BipartiteGraph.o MinWghtEdgCoverBipartite.o flowMatch.o -L/home/biocbuild/bbs-3.16-bioc/R/lib -lR
installing to /home/biocbuild/bbs-3.16-bioc/R/site-library/00LOCK-flowMatch/00new/flowMatch/libs
** R
** byte-compile and prepare package for lazy loading
** help
*** installing help indices
** building package indices
** installing vignettes
** testing if installed package can be loaded from temporary location
** checking absolute paths in shared objects and dynamic libraries
** testing if installed package can be loaded from final location
** testing if installed package keeps a record of temporary installation path
* DONE (flowMatch)