| Back to Multiple platform build/check report for BioC 3.16: simplified long |
|
This page was generated on 2023-04-12 11:06:03 -0400 (Wed, 12 Apr 2023).
| Hostname | OS | Arch (*) | R version | Installed pkgs |
|---|---|---|---|---|
| nebbiolo2 | Linux (Ubuntu 20.04.5 LTS) | x86_64 | 4.2.3 (2023-03-15) -- "Shortstop Beagle" | 4502 |
| palomino4 | Windows Server 2022 Datacenter | x64 | 4.2.3 (2023-03-15 ucrt) -- "Shortstop Beagle" | 4282 |
| lconway | macOS 12.5.1 Monterey | x86_64 | 4.2.3 (2023-03-15) -- "Shortstop Beagle" | 4310 |
| Click on any hostname to see more info about the system (e.g. compilers) (*) as reported by 'uname -p', except on Windows and Mac OS X | ||||
|
To the developers/maintainers of the cosmosR package: - Please allow up to 24 hours (and sometimes 48 hours) for your latest push to git@git.bioconductor.org:packages/cosmosR.git to reflect on this report. See How and When does the builder pull? When will my changes propagate? for more information. - Make sure to use the following settings in order to reproduce any error or warning you see on this page. |
| Package 423/2183 | Hostname | OS / Arch | INSTALL | BUILD | CHECK | BUILD BIN | ||||||||
| cosmosR 1.6.0 (landing page) Attila Gabor
| nebbiolo2 | Linux (Ubuntu 20.04.5 LTS) / x86_64 | OK | OK | OK | |||||||||
| palomino4 | Windows Server 2022 Datacenter / x64 | OK | OK | OK | OK | |||||||||
| lconway | macOS 12.5.1 Monterey / x86_64 | OK | OK | OK | OK | |||||||||
| Package: cosmosR |
| Version: 1.6.0 |
| Command: /Library/Frameworks/R.framework/Resources/bin/R CMD check --install=check:cosmosR.install-out.txt --library=/Library/Frameworks/R.framework/Resources/library --no-vignettes --timings cosmosR_1.6.0.tar.gz |
| StartedAt: 2023-04-10 19:37:37 -0400 (Mon, 10 Apr 2023) |
| EndedAt: 2023-04-10 19:38:40 -0400 (Mon, 10 Apr 2023) |
| EllapsedTime: 62.4 seconds |
| RetCode: 0 |
| Status: OK |
| CheckDir: cosmosR.Rcheck |
| Warnings: 0 |
############################################################################## ############################################################################## ### ### Running command: ### ### /Library/Frameworks/R.framework/Resources/bin/R CMD check --install=check:cosmosR.install-out.txt --library=/Library/Frameworks/R.framework/Resources/library --no-vignettes --timings cosmosR_1.6.0.tar.gz ### ############################################################################## ############################################################################## * using log directory ‘/Users/biocbuild/bbs-3.16-bioc/meat/cosmosR.Rcheck’ * using R version 4.2.3 (2023-03-15) * using platform: x86_64-apple-darwin17.0 (64-bit) * using session charset: UTF-8 * using option ‘--no-vignettes’ * checking for file ‘cosmosR/DESCRIPTION’ ... OK * checking extension type ... Package * this is package ‘cosmosR’ version ‘1.6.0’ * package encoding: UTF-8 * checking package namespace information ... OK * checking package dependencies ... OK * checking if this is a source package ... OK * checking if there is a namespace ... OK * checking for hidden files and directories ... OK * checking for portable file names ... OK * checking for sufficient/correct file permissions ... OK * checking whether package ‘cosmosR’ can be installed ... OK * checking installed package size ... OK * checking package directory ... OK * checking ‘build’ directory ... OK * checking DESCRIPTION meta-information ... OK * checking top-level files ... NOTE File LICENSE is not mentioned in the DESCRIPTION file. * checking for left-over files ... OK * checking index information ... OK * checking package subdirectories ... OK * checking R files for non-ASCII characters ... OK * checking R files for syntax errors ... OK * checking whether the package can be loaded ... OK * checking whether the package can be loaded with stated dependencies ... OK * checking whether the package can be unloaded cleanly ... OK * checking whether the namespace can be loaded with stated dependencies ... OK * checking whether the namespace can be unloaded cleanly ... OK * checking dependencies in R code ... OK * checking S3 generic/method consistency ... OK * checking replacement functions ... OK * checking foreign function calls ... OK * checking R code for possible problems ... NOTE format_COSMOS_res: no visible binding for global variable ‘HMDB_mapper_vec’ Undefined global functions or variables: HMDB_mapper_vec * checking Rd files ... OK * checking Rd metadata ... OK * checking Rd cross-references ... OK * checking for missing documentation entries ... OK * checking for code/documentation mismatches ... OK * checking Rd \usage sections ... OK * checking Rd contents ... OK * checking for unstated dependencies in examples ... OK * checking contents of ‘data’ directory ... OK * checking data for non-ASCII characters ... NOTE Note: found 1029 marked UTF-8 strings * checking data for ASCII and uncompressed saves ... OK * checking R/sysdata.rda ... OK * checking files in ‘vignettes’ ... OK * checking examples ... OK * checking for unstated dependencies in ‘tests’ ... OK * checking tests ... Running ‘testthat.R’ OK * checking for unstated dependencies in vignettes ... OK * checking package vignettes in ‘inst/doc’ ... OK * checking running R code from vignettes ... SKIPPED * checking re-building of vignette outputs ... SKIPPED * checking PDF version of manual ... OK * DONE Status: 3 NOTEs See ‘/Users/biocbuild/bbs-3.16-bioc/meat/cosmosR.Rcheck/00check.log’ for details.
cosmosR.Rcheck/00install.out
############################################################################## ############################################################################## ### ### Running command: ### ### /Library/Frameworks/R.framework/Resources/bin/R CMD INSTALL cosmosR ### ############################################################################## ############################################################################## * installing to library ‘/Library/Frameworks/R.framework/Versions/4.2/Resources/library’ * installing *source* package ‘cosmosR’ ... ** using staged installation ** R ** data ** inst ** byte-compile and prepare package for lazy loading ** help *** installing help indices *** copying figures ** building package indices ** installing vignettes ** testing if installed package can be loaded from temporary location ** testing if installed package can be loaded from final location ** testing if installed package keeps a record of temporary installation path * DONE (cosmosR)
cosmosR.Rcheck/tests/testthat.Rout
R version 4.2.3 (2023-03-15) -- "Shortstop Beagle"
Copyright (C) 2023 The R Foundation for Statistical Computing
Platform: x86_64-apple-darwin17.0 (64-bit)
R is free software and comes with ABSOLUTELY NO WARRANTY.
You are welcome to redistribute it under certain conditions.
Type 'license()' or 'licence()' for distribution details.
R is a collaborative project with many contributors.
Type 'contributors()' for more information and
'citation()' on how to cite R or R packages in publications.
Type 'demo()' for some demos, 'help()' for on-line help, or
'help.start()' for an HTML browser interface to help.
Type 'q()' to quit R.
> library(testthat)
> library(cosmosR)
>
> test_check("cosmosR")
[1] "COSMOS: all 3 signaling nodes from data were found in the meta PKN"
[1] "COSMOS: all 2 metabolic nodes from data were found in the meta PKN"
[1] "COSMOS: 2975 of the 9300 genes in expression data were found as transcription factor target"
[1] "COSMOS: 2975 of the 5321 transcription factor targets were found in expression data"
[1] "COSMOS: removing unexpressed nodes from PKN..."
[1] "COSMOS: 0 interactions removed"
[1] "COSMOS: removing nodes that are not reachable from inputs within 8 steps"
[1] "COSMOS: 26 from 101 interactions are removed from the PKN"
[1] "COSMOS: 1 input/measured nodes are not in PKN any more: Metab__HMDB0000190_c and 0 more."
[1] "COSMOS: removing nodes that are not observable by measurements within 8 steps"
[1] "COSMOS: 50 from 75 interactions are removed from the PKN"
[1] "COSMOS: 2 input/measured nodes are not in PKN any more: USF1, SRF and 0 more."
[1] "COSMOS: 0 interactions are removed from the PKN based on consistency check between TF activity and gene expression"
[1] "COSMOS: all 1 signaling nodes from data were found in the meta PKN"
[1] "COSMOS: all 1 metabolic nodes from data were found in the meta PKN"
[1] "COSMOS: 2975 of the 9300 genes in expression data were found as transcription factor target"
[1] "COSMOS: 2975 of the 5321 transcription factor targets were found in expression data"
[1] "COSMOS: all 3 signaling nodes from data were found in the meta PKN"
[1] "COSMOS: all 2 metabolic nodes from data were found in the meta PKN"
[1] "COSMOS: 2975 of the 9300 genes in expression data were found as transcription factor target"
[1] "COSMOS: 2975 of the 5321 transcription factor targets were found in expression data"
[1] "COSMOS: removing unexpressed nodes from PKN..."
[1] "COSMOS: 0 interactions removed"
[1] "COSMOS: removing nodes that are not reachable from inputs within 8 steps"
[1] "COSMOS: 0 from 101 interactions are removed from the PKN"
[1] "COSMOS: removing nodes that are not observable by measurements within 8 steps"
[1] "COSMOS: 54 from 101 interactions are removed from the PKN"
[1] "COSMOS: 1 input/measured nodes are not in PKN any more: Metab__HMDB0000190_c and 0 more."
[1] "COSMOS: 0 interactions are removed from the PKN based on consistency check between TF activity and gene expression"
[1] "COSMOS: all 3 signaling nodes from data were found in the meta PKN"
[1] "COSMOS: all 1 metabolic nodes from data were found in the meta PKN"
[1] "COSMOS: 2975 of the 9300 genes in expression data were found as transcription factor target"
[1] "COSMOS: 2975 of the 5321 transcription factor targets were found in expression data"
[1] "COSMOS: all 3 signaling nodes from data were found in the meta PKN"
[1] "COSMOS: all 2 metabolic nodes from data were found in the meta PKN"
[1] "COSMOS: 2975 of the 9300 genes in expression data were found as transcription factor target"
[1] "COSMOS: 2975 of the 5321 transcription factor targets were found in expression data"
[1] "COSMOS: removing nodes that are not reachable from inputs within 15 steps"
[1] "COSMOS: 0 from 101 interactions are removed from the PKN"
[1] "COSMOS: removing nodes that are not observable by measurements within 15 steps"
[1] "COSMOS: 54 from 101 interactions are removed from the PKN"
[1] "COSMOS: 1 input/measured nodes are not in PKN any more: Metab__HMDB0000190_c and 0 more."
[1] "COSMOS: 0 interactions are removed from the PKN based on consistency check between TF activity and gene expression"
[1] "COSMOS: all 3 signaling nodes from data were found in the meta PKN"
[1] "COSMOS: all 1 metabolic nodes from data were found in the meta PKN"
[1] "COSMOS: 2975 of the 9300 genes in expression data were found as transcription factor target"
[1] "COSMOS: 2975 of the 5321 transcription factor targets were found in expression data"
[1] "lpSolve does not scale well with large PKNs. This solver is mainly for testing purposes. To run COSMSO, we recommend using cplex, or cbc solvers."
[1] "lpSolve does not scale well with large PKNs. This solver is mainly for testing purposes. To run COSMSO, we recommend using cplex, or cbc solvers."
[1] "COSMOS: all 3 signaling nodes from data were found in the meta PKN"
[1] "COSMOS: all 2 metabolic nodes from data were found in the meta PKN"
[1] "COSMOS: 2975 of the 9300 genes in expression data were found as transcription factor target"
[1] "COSMOS: 2975 of the 5321 transcription factor targets were found in expression data"
[1] "COSMOS: removing nodes that are not reachable from inputs within 15 steps"
[1] "COSMOS: 0 from 101 interactions are removed from the PKN"
[1] "COSMOS: removing nodes that are not observable by measurements within 15 steps"
[1] "COSMOS: 52 from 101 interactions are removed from the PKN"
[1] "COSMOS: 2 input/measured nodes are not in PKN any more: USF1, SRF and 0 more."
[1] "COSMOS: 0 interactions are removed from the PKN based on consistency check between TF activity and gene expression"
[1] "COSMOS: all 1 signaling nodes from data were found in the meta PKN"
[1] "COSMOS: all 2 metabolic nodes from data were found in the meta PKN"
[1] "COSMOS: 2975 of the 9300 genes in expression data were found as transcription factor target"
[1] "COSMOS: 2975 of the 5321 transcription factor targets were found in expression data"
[1] "lpSolve does not scale well with large PKNs. This solver is mainly for testing purposes. To run COSMSO, we recommend using cplex, or cbc solvers."
[1] "lpSolve does not scale well with large PKNs. This solver is mainly for testing purposes. To run COSMSO, we recommend using cplex, or cbc solvers."
[ FAIL 0 | WARN 3 | SKIP 0 | PASS 34 ]
[ FAIL 0 | WARN 3 | SKIP 0 | PASS 34 ]
>
> proc.time()
user system elapsed
3.320 0.326 3.664
cosmosR.Rcheck/cosmosR-Ex.timings
| name | user | system | elapsed | |
| HMDB_mapper_vec | 0.292 | 0.011 | 0.303 | |
| default_CARNIVAL_options | 0.193 | 0.029 | 0.228 | |
| display_node_neighboorhood | 2.631 | 0.216 | 2.888 | |
| extract_nodes_for_ORA | 1.867 | 0.126 | 1.997 | |
| load_tf_regulon_dorothea | 0.039 | 0.001 | 0.039 | |
| meta_network | 0.137 | 0.001 | 0.138 | |
| preprocess_COSMOS_metabolism_to_signaling | 0.355 | 0.040 | 0.396 | |
| preprocess_COSMOS_signaling_to_metabolism | 0.744 | 0.036 | 0.782 | |
| run_COSMOS_metabolism_to_signaling | 0.787 | 0.101 | 0.891 | |
| run_COSMOS_signaling_to_metabolism | 1.355 | 0.066 | 1.425 | |
| toy_RNA | 0.013 | 0.001 | 0.014 | |
| toy_metabolic_input | 0.001 | 0.001 | 0.002 | |
| toy_network | 0.001 | 0.001 | 0.002 | |
| toy_signaling_input | 0.001 | 0.001 | 0.002 | |