| Back to Multiple platform build/check report for BioC 3.16: simplified long |
|
This page was generated on 2023-04-12 11:05:01 -0400 (Wed, 12 Apr 2023).
| Hostname | OS | Arch (*) | R version | Installed pkgs |
|---|---|---|---|---|
| nebbiolo2 | Linux (Ubuntu 20.04.5 LTS) | x86_64 | 4.2.3 (2023-03-15) -- "Shortstop Beagle" | 4502 |
| palomino4 | Windows Server 2022 Datacenter | x64 | 4.2.3 (2023-03-15 ucrt) -- "Shortstop Beagle" | 4282 |
| lconway | macOS 12.5.1 Monterey | x86_64 | 4.2.3 (2023-03-15) -- "Shortstop Beagle" | 4310 |
| Click on any hostname to see more info about the system (e.g. compilers) (*) as reported by 'uname -p', except on Windows and Mac OS X | ||||
|
To the developers/maintainers of the coMET package: - Please allow up to 24 hours (and sometimes 48 hours) for your latest push to git@git.bioconductor.org:packages/coMET.git to reflect on this report. See How and When does the builder pull? When will my changes propagate? for more information. - Make sure to use the following settings in order to reproduce any error or warning you see on this page. |
| Package 389/2183 | Hostname | OS / Arch | INSTALL | BUILD | CHECK | BUILD BIN | ||||||||
| coMET 1.30.0 (landing page) Tiphaine Martin
| nebbiolo2 | Linux (Ubuntu 20.04.5 LTS) / x86_64 | OK | OK | OK | |||||||||
| palomino4 | Windows Server 2022 Datacenter / x64 | OK | OK | OK | OK | |||||||||
| lconway | macOS 12.5.1 Monterey / x86_64 | OK | OK | OK | OK | |||||||||
| Package: coMET |
| Version: 1.30.0 |
| Command: /home/biocbuild/bbs-3.16-bioc/R/bin/R CMD check --install=check:coMET.install-out.txt --library=/home/biocbuild/bbs-3.16-bioc/R/site-library --timings coMET_1.30.0.tar.gz |
| StartedAt: 2023-04-10 19:52:48 -0400 (Mon, 10 Apr 2023) |
| EndedAt: 2023-04-10 20:02:09 -0400 (Mon, 10 Apr 2023) |
| EllapsedTime: 561.5 seconds |
| RetCode: 0 |
| Status: OK |
| CheckDir: coMET.Rcheck |
| Warnings: 0 |
##############################################################################
##############################################################################
###
### Running command:
###
### /home/biocbuild/bbs-3.16-bioc/R/bin/R CMD check --install=check:coMET.install-out.txt --library=/home/biocbuild/bbs-3.16-bioc/R/site-library --timings coMET_1.30.0.tar.gz
###
##############################################################################
##############################################################################
* using log directory ‘/home/biocbuild/bbs-3.16-bioc/meat/coMET.Rcheck’
* using R version 4.2.3 (2023-03-15)
* using platform: x86_64-pc-linux-gnu (64-bit)
* using session charset: UTF-8
* checking for file ‘coMET/DESCRIPTION’ ... OK
* checking extension type ... Package
* this is package ‘coMET’ version ‘1.30.0’
* checking package namespace information ... OK
* checking package dependencies ... OK
* checking if this is a source package ... OK
* checking if there is a namespace ... OK
* checking for hidden files and directories ... OK
* checking for portable file names ... OK
* checking for sufficient/correct file permissions ... OK
* checking whether package ‘coMET’ can be installed ... OK
* checking installed package size ... NOTE
installed size is 19.0Mb
sub-directories of 1Mb or more:
data 7.6Mb
extdata 10.7Mb
* checking package directory ... OK
* checking ‘build’ directory ... OK
* checking DESCRIPTION meta-information ... OK
* checking top-level files ... NOTE
File
LICENSE
is not mentioned in the DESCRIPTION file.
* checking for left-over files ... OK
* checking index information ... OK
* checking package subdirectories ... OK
* checking R files for non-ASCII characters ... OK
* checking R files for syntax errors ... OK
* checking whether the package can be loaded ... OK
* checking whether the package can be loaded with stated dependencies ... OK
* checking whether the package can be unloaded cleanly ... OK
* checking whether the namespace can be loaded with stated dependencies ... OK
* checking whether the namespace can be unloaded cleanly ... OK
* checking loading without being on the library search path ... OK
* checking dependencies in R code ... OK
* checking S3 generic/method consistency ... OK
* checking replacement functions ... OK
* checking foreign function calls ... OK
* checking R code for possible problems ... NOTE
draw.plot.annotation : <anonymous>: no visible global function
definition for 'ggplotGrob'
draw.plot.annotation: no visible global function definition for
'viewTracks'
draw.plot.annotation: no visible global function definition for
'trackList'
eQTL: no visible binding for global variable 'chromosome_stop'
eQTL: no visible binding for global variable 'chromosome_start'
eQTL: no visible binding for global variable 'chromosome_name'
eQTL_GTEx: no visible binding for global variable 'snp_pos'
eQTL_GTEx: no visible binding for global variable 'snp_chrom'
eQTL_GTEx: no visible binding for global variable 'gene_start'
eQTL_GTEx: no visible binding for global variable 'gene_stop'
eQTL_GTEx: no visible binding for global variable 'gene_chr'
geneExpression_GTEx: no visible global function definition for 'as'
metQTL: no visible binding for global variable 'chromosome_stop'
metQTL: no visible binding for global variable 'chromosome_start'
metQTL: no visible binding for global variable 'chromosome_name'
pizza: no visible global function definition for 'par'
pizza: no visible global function definition for 'plot.new'
pizza: no visible global function definition for 'plot.window'
pizza: no visible global function definition for 'polygon'
pizza: no visible global function definition for 'lines'
pizza: no visible global function definition for 'text'
psiQTL_GTEx: no visible binding for global variable 'pos_snp'
psiQTL_GTEx: no visible binding for global variable 'chr_snp'
psiQTL_GTEx: no visible binding for global variable 'pos_middle_exon'
psiQTL_GTEx: no visible binding for global variable 'chr_exon'
Undefined global functions or variables:
as chr_exon chr_snp chromosome_name chromosome_start chromosome_stop
gene_chr gene_start gene_stop ggplotGrob lines par plot.new
plot.window polygon pos_middle_exon pos_snp snp_chrom snp_pos text
trackList viewTracks
Consider adding
importFrom("graphics", "lines", "par", "plot.new", "plot.window",
"polygon", "text")
importFrom("methods", "as")
to your NAMESPACE file (and ensure that your DESCRIPTION Imports field
contains 'methods').
* checking Rd files ... OK
* checking Rd metadata ... OK
* checking Rd cross-references ... OK
* checking for missing documentation entries ... OK
* checking for code/documentation mismatches ... OK
* checking Rd \usage sections ... OK
* checking Rd contents ... OK
* checking for unstated dependencies in examples ... OK
* checking contents of ‘data’ directory ... OK
* checking data for non-ASCII characters ... OK
* checking data for ASCII and uncompressed saves ... OK
* checking files in ‘vignettes’ ... OK
* checking examples ... OK
Examples with CPU (user + system) or elapsed time > 5s
user system elapsed
comet.web 7.276 0.492 21.828
coMET-package 5.794 0.519 13.831
* checking for unstated dependencies in ‘tests’ ... OK
* checking tests ...
Running ‘runTests.R’
OK
* checking for unstated dependencies in vignettes ... OK
* checking package vignettes in ‘inst/doc’ ... OK
* checking running R code from vignettes ...
‘coMET.Rnw’... OK
NONE
* checking re-building of vignette outputs ... OK
* checking PDF version of manual ... OK
* DONE
Status: 3 NOTEs
See
‘/home/biocbuild/bbs-3.16-bioc/meat/coMET.Rcheck/00check.log’
for details.
coMET.Rcheck/00install.out
############################################################################## ############################################################################## ### ### Running command: ### ### /home/biocbuild/bbs-3.16-bioc/R/bin/R CMD INSTALL coMET ### ############################################################################## ############################################################################## * installing to library ‘/home/biocbuild/bbs-3.16-bioc/R/site-library’ * installing *source* package ‘coMET’ ... ** using staged installation ** R ** data ** inst ** byte-compile and prepare package for lazy loading ** help *** installing help indices ** building package indices ** installing vignettes ** testing if installed package can be loaded from temporary location ** testing if installed package can be loaded from final location ** testing if installed package keeps a record of temporary installation path * DONE (coMET)
coMET.Rcheck/tests/runTests.Rout
R version 4.2.3 (2023-03-15) -- "Shortstop Beagle"
Copyright (C) 2023 The R Foundation for Statistical Computing
Platform: x86_64-pc-linux-gnu (64-bit)
R is free software and comes with ABSOLUTELY NO WARRANTY.
You are welcome to redistribute it under certain conditions.
Type 'license()' or 'licence()' for distribution details.
R is a collaborative project with many contributors.
Type 'contributors()' for more information and
'citation()' on how to cite R or R packages in publications.
Type 'demo()' for some demos, 'help()' for on-line help, or
'help.start()' for an HTML browser interface to help.
Type 'q()' to quit R.
> require("coMET") || stop("unable to load Package:coMET")
Loading required package: coMET
Loading required package: grid
Loading required package: biomaRt
Loading required package: Gviz
Loading required package: S4Vectors
Loading required package: stats4
Loading required package: BiocGenerics
Attaching package: 'BiocGenerics'
The following objects are masked from 'package:stats':
IQR, mad, sd, var, xtabs
The following objects are masked from 'package:base':
Filter, Find, Map, Position, Reduce, anyDuplicated, aperm, append,
as.data.frame, basename, cbind, colnames, dirname, do.call,
duplicated, eval, evalq, get, grep, grepl, intersect, is.unsorted,
lapply, mapply, match, mget, order, paste, pmax, pmax.int, pmin,
pmin.int, rank, rbind, rownames, sapply, setdiff, sort, table,
tapply, union, unique, unsplit, which.max, which.min
Attaching package: 'S4Vectors'
The following objects are masked from 'package:base':
I, expand.grid, unname
Loading required package: IRanges
Loading required package: GenomicRanges
Loading required package: GenomeInfoDb
Loading required package: psych
Attaching package: 'psych'
The following object is masked from 'package:GenomicRanges':
distance
The following objects are masked from 'package:IRanges':
distance, reflect
[1] TRUE
> BiocGenerics:::testPackage("coMET")
RUNIT TEST PROTOCOL -- Mon Apr 10 20:00:29 2023
***********************************************
Number of test functions: 1
Number of errors: 0
Number of failures: 0
1 Test Suite :
coMET RUnit Tests - 1 test function, 0 errors, 0 failures
Number of test functions: 1
Number of errors: 0
Number of failures: 0
>
> proc.time()
user system elapsed
14.119 0.685 14.788
coMET.Rcheck/coMET-Ex.timings
| name | user | system | elapsed | |
| COSMIC_UCSC | 2.877 | 0.132 | 3.009 | |
| ChIPTF_ENCODE | 0.743 | 0.036 | 0.779 | |
| ClinVarCnv_UCSC | 0.399 | 0.036 | 0.434 | |
| ClinVarMain_UCSC | 0.424 | 0.000 | 0.423 | |
| CoreillCNV_UCSC | 0.444 | 0.000 | 0.444 | |
| DNAse_UCSC | 0.000 | 0.000 | 0.001 | |
| DNaseI_FANTOM | 0.660 | 0.012 | 0.672 | |
| DNaseI_RoadMap | 0.189 | 0.008 | 0.197 | |
| GAD_UCSC | 0.434 | 0.008 | 0.442 | |
| GWAScatalog_UCSC | 0.352 | 0.016 | 0.367 | |
| GeneReviews_UCSC | 0.55 | 0.00 | 0.55 | |
| HiCdata2matrix | 0.024 | 0.004 | 0.027 | |
| HistoneAll_UCSC | 4.399 | 0.044 | 4.443 | |
| HistoneOne_UCSC | 0.347 | 0.008 | 0.355 | |
| ISCA_UCSC | 0.447 | 0.008 | 0.455 | |
| TFBS_FANTOM | 0.435 | 0.000 | 0.435 | |
| bindingMotifsBiomart_ENSEMBL | 0.144 | 0.000 | 0.144 | |
| chrUCSC2ENSEMBL | 0.001 | 0.000 | 0.000 | |
| chromHMM_RoadMap | 0.642 | 0.004 | 0.646 | |
| chromatinHMMAll_UCSC | 4.442 | 0.008 | 4.450 | |
| chromatinHMMOne_UCSC | 0.449 | 0.004 | 0.453 | |
| coMET-package | 5.794 | 0.519 | 13.831 | |
| col2HSV | 0 | 0 | 0 | |
| comet | 2.998 | 0.184 | 3.184 | |
| comet.list | 0.657 | 0.056 | 0.713 | |
| comet.web | 7.276 | 0.492 | 21.828 | |
| complementary | 0.019 | 0.004 | 0.023 | |
| cpgIslands_UCSC | 0.139 | 0.008 | 0.147 | |
| dgfootprints_RoadMap | 0.800 | 0.052 | 0.853 | |
| eQTL | 1.390 | 0.032 | 1.422 | |
| eQTL_GTEx | 1.279 | 0.016 | 1.295 | |
| gcContent_UCSC | 1.642 | 0.172 | 1.813 | |
| genesName_ENSEMBL | 0.003 | 0.000 | 0.003 | |
| genes_ENSEMBL | 0.770 | 0.016 | 0.787 | |
| imprintedGenes_GTEx | 3.420 | 0.076 | 3.496 | |
| interestGenes_ENSEMBL | 0.782 | 0.020 | 0.801 | |
| interestTranscript_ENSEMBL | 0.787 | 0.031 | 0.820 | |
| knownGenes_UCSC | 0.843 | 0.025 | 0.867 | |
| metQTL | 1.220 | 0.000 | 1.221 | |
| miRNATargetRegionsBiomart_ENSEMBL | 0.048 | 0.000 | 0.048 | |
| otherRegulatoryRegionsBiomart_ENSEMBL | 0.094 | 0.000 | 0.093 | |
| pizza | 0.007 | 0.000 | 0.006 | |
| psiQTL_GTEx | 1.109 | 0.020 | 1.128 | |
| refGenes_UCSC | 0.862 | 0.003 | 0.865 | |
| regulationBiomart_ENSEMBL | 0.312 | 0.004 | 0.316 | |
| regulatoryEvidenceBiomart_ENSEMBL | 0.136 | 0.012 | 0.149 | |
| regulatoryFeaturesBiomart_ENSEMBL | 0.156 | 0.007 | 0.165 | |
| regulatorySegmentsBiomart_ENSEMBL | 0.133 | 0.008 | 0.141 | |
| repeatMasker_UCSC | 0.497 | 0.012 | 0.509 | |
| segmentalDups_UCSC | 0.440 | 0.000 | 0.439 | |
| setColors | 0.000 | 0.000 | 0.001 | |
| snpBiomart_ENSEMBL | 0.409 | 0.012 | 0.421 | |
| snpLocations_UCSC | 1.038 | 0.039 | 1.077 | |
| structureBiomart_ENSEMBL | 0.462 | 0.005 | 0.466 | |
| transcript_ENSEMBL | 1.249 | 0.007 | 1.257 | |
| xenorefGenes_UCSC | 0.611 | 0.007 | 0.620 | |