| Back to Multiple platform build/check report for BioC 3.16: simplified long |
|
This page was generated on 2023-04-12 11:05:01 -0400 (Wed, 12 Apr 2023).
| Hostname | OS | Arch (*) | R version | Installed pkgs |
|---|---|---|---|---|
| nebbiolo2 | Linux (Ubuntu 20.04.5 LTS) | x86_64 | 4.2.3 (2023-03-15) -- "Shortstop Beagle" | 4502 |
| palomino4 | Windows Server 2022 Datacenter | x64 | 4.2.3 (2023-03-15 ucrt) -- "Shortstop Beagle" | 4282 |
| lconway | macOS 12.5.1 Monterey | x86_64 | 4.2.3 (2023-03-15) -- "Shortstop Beagle" | 4310 |
| Click on any hostname to see more info about the system (e.g. compilers) (*) as reported by 'uname -p', except on Windows and Mac OS X | ||||
|
To the developers/maintainers of the cn.mops package: - Please allow up to 24 hours (and sometimes 48 hours) for your latest push to git@git.bioconductor.org:packages/cn.mops.git to reflect on this report. See How and When does the builder pull? When will my changes propagate? for more information. - Make sure to use the following settings in order to reproduce any error or warning you see on this page. |
| Package 359/2183 | Hostname | OS / Arch | INSTALL | BUILD | CHECK | BUILD BIN | ||||||||
| cn.mops 1.44.0 (landing page) Gundula Povysil
| nebbiolo2 | Linux (Ubuntu 20.04.5 LTS) / x86_64 | OK | OK | OK | |||||||||
| palomino4 | Windows Server 2022 Datacenter / x64 | OK | OK | OK | OK | |||||||||
| lconway | macOS 12.5.1 Monterey / x86_64 | OK | OK | OK | OK | |||||||||
| Package: cn.mops |
| Version: 1.44.0 |
| Command: /home/biocbuild/bbs-3.16-bioc/R/bin/R CMD check --install=check:cn.mops.install-out.txt --library=/home/biocbuild/bbs-3.16-bioc/R/site-library --timings cn.mops_1.44.0.tar.gz |
| StartedAt: 2023-04-10 19:48:49 -0400 (Mon, 10 Apr 2023) |
| EndedAt: 2023-04-10 19:52:32 -0400 (Mon, 10 Apr 2023) |
| EllapsedTime: 223.0 seconds |
| RetCode: 0 |
| Status: OK |
| CheckDir: cn.mops.Rcheck |
| Warnings: 0 |
##############################################################################
##############################################################################
###
### Running command:
###
### /home/biocbuild/bbs-3.16-bioc/R/bin/R CMD check --install=check:cn.mops.install-out.txt --library=/home/biocbuild/bbs-3.16-bioc/R/site-library --timings cn.mops_1.44.0.tar.gz
###
##############################################################################
##############################################################################
* using log directory ‘/home/biocbuild/bbs-3.16-bioc/meat/cn.mops.Rcheck’
* using R version 4.2.3 (2023-03-15)
* using platform: x86_64-pc-linux-gnu (64-bit)
* using session charset: UTF-8
* checking for file ‘cn.mops/DESCRIPTION’ ... OK
* checking extension type ... Package
* this is package ‘cn.mops’ version ‘1.44.0’
* checking package namespace information ... OK
* checking package dependencies ... OK
* checking if this is a source package ... OK
* checking if there is a namespace ... OK
* checking for hidden files and directories ... OK
* checking for portable file names ... OK
* checking for sufficient/correct file permissions ... OK
* checking whether package ‘cn.mops’ can be installed ... OK
* checking installed package size ... OK
* checking package directory ... OK
* checking ‘build’ directory ... OK
* checking DESCRIPTION meta-information ... OK
* checking top-level files ... OK
* checking for left-over files ... OK
* checking index information ... OK
* checking package subdirectories ... OK
* checking R files for non-ASCII characters ... OK
* checking R files for syntax errors ... OK
* checking whether the package can be loaded ... OK
* checking whether the package can be loaded with stated dependencies ... OK
* checking whether the package can be unloaded cleanly ... OK
* checking whether the namespace can be loaded with stated dependencies ... OK
* checking whether the namespace can be unloaded cleanly ... OK
* checking loading without being on the library search path ... OK
* checking dependencies in R code ... OK
* checking S3 generic/method consistency ... OK
* checking replacement functions ... OK
* checking foreign function calls ... OK
* checking R code for possible problems ... OK
* checking Rd files ... OK
* checking Rd metadata ... OK
* checking Rd cross-references ... OK
* checking for missing documentation entries ... OK
* checking for code/documentation mismatches ... OK
* checking Rd \usage sections ... OK
* checking Rd contents ... OK
* checking for unstated dependencies in examples ... OK
* checking contents of ‘data’ directory ... OK
* checking data for non-ASCII characters ... OK
* checking data for ASCII and uncompressed saves ... OK
* checking line endings in C/C++/Fortran sources/headers ... OK
* checking compiled code ... NOTE
Note: information on .o files is not available
* checking files in ‘vignettes’ ... OK
* checking examples ... OK
Examples with CPU (user + system) or elapsed time > 5s
user system elapsed
referencecn.mops 7.680 0.036 17.183
cn.mops 5.411 0.025 16.323
calcFractionalCopyNumbers-CNVDetectionResult-method 5.146 0.028 5.175
calcFractionalCopyNumbers 5.108 0.060 5.169
haplocn.mops 1.218 0.035 11.196
getReadCountsFromBAM 0.405 0.018 5.565
getSegmentReadCountsFromBAM 0.380 0.004 6.214
* checking for unstated dependencies in vignettes ... OK
* checking package vignettes in ‘inst/doc’ ... OK
* checking running R code from vignettes ...
‘cn.mops.Rnw’... OK
OK
* checking re-building of vignette outputs ... OK
* checking PDF version of manual ... OK
* DONE
Status: 1 NOTE
See
‘/home/biocbuild/bbs-3.16-bioc/meat/cn.mops.Rcheck/00check.log’
for details.
cn.mops.Rcheck/00install.out
##############################################################################
##############################################################################
###
### Running command:
###
### /home/biocbuild/bbs-3.16-bioc/R/bin/R CMD INSTALL cn.mops
###
##############################################################################
##############################################################################
* installing to library ‘/home/biocbuild/bbs-3.16-bioc/R/site-library’
* installing *source* package ‘cn.mops’ ...
** using staged installation
** libs
gcc -I"/home/biocbuild/bbs-3.16-bioc/R/include" -DNDEBUG -I/usr/local/include -fpic -g -O2 -Wall -c R_init_cnmops.c -o R_init_cnmops.o
g++ -std=gnu++14 -I"/home/biocbuild/bbs-3.16-bioc/R/include" -DNDEBUG -I/usr/local/include -fpic -g -O2 -Wall -c cnmops.cpp -o cnmops.o
g++ -std=gnu++14 -I"/home/biocbuild/bbs-3.16-bioc/R/include" -DNDEBUG -I/usr/local/include -fpic -g -O2 -Wall -c segment.cpp -o segment.o
segment.cpp: In function ‘SEXPREC* segment(SEXP, SEXP, SEXP, SEXP, SEXP, SEXP)’:
segment.cpp:59:20: warning: variable ‘globalSd’ set but not used [-Wunused-but-set-variable]
59 | double globalMean,globalSd,diff,M2,globalVariance;
| ^~~~~~~~
segment.cpp:60:9: warning: variable ‘oldStatistic’ set but not used [-Wunused-but-set-variable]
60 | double oldStatistic, meanLeft,meanRight,varLeft,varRight;
| ^~~~~~~~~~~~
segment.cpp:61:31: warning: variable ‘maxStatistic’ set but not used [-Wunused-but-set-variable]
61 | double newStatistic,meanDiff,maxStatistic,DOF,a,b,eps1;
| ^~~~~~~~~~~~
segment.cpp:62:40: warning: variable ‘maxIdx’ set but not used [-Wunused-but-set-variable]
62 | double newPValue, maxPValue,oldPValue,maxIdx;
| ^~~~~~
In file included from segment.cpp:10:
/home/biocbuild/bbs-3.16-bioc/R/include/Rmath.h:210:15: warning: unused variable ‘Rf_beta’ [-Wunused-variable]
210 | #define beta Rf_beta
| ^~~~~~~
segment.cpp:64:9: note: in expansion of macro ‘beta’
64 | double beta,nn;
| ^~~~
g++ -std=gnu++14 -shared -L/home/biocbuild/bbs-3.16-bioc/R/lib -L/usr/local/lib -o cn.mops.so R_init_cnmops.o cnmops.o segment.o -L/home/biocbuild/bbs-3.16-bioc/R/lib -lR
installing to /home/biocbuild/bbs-3.16-bioc/R/site-library/00LOCK-cn.mops/00new/cn.mops/libs
** R
** data
** inst
** byte-compile and prepare package for lazy loading
** help
*** installing help indices
** building package indices
** installing vignettes
** testing if installed package can be loaded from temporary location
** checking absolute paths in shared objects and dynamic libraries
** testing if installed package can be loaded from final location
** testing if installed package keeps a record of temporary installation path
* DONE (cn.mops)
cn.mops.Rcheck/cn.mops-Ex.timings
| name | user | system | elapsed | |
| CNVDetectionResult | 0.001 | 0.000 | 0.001 | |
| calcFractionalCopyNumbers-CNVDetectionResult-method | 5.146 | 0.028 | 5.175 | |
| calcFractionalCopyNumbers | 5.108 | 0.060 | 5.169 | |
| calcIntegerCopyNumbers-CNVDetectionResult-method | 0.397 | 0.008 | 0.405 | |
| calcIntegerCopyNumbers | 0.329 | 0.004 | 0.334 | |
| cn.mops | 5.411 | 0.025 | 16.323 | |
| cnvr-CNVDetectionResult-method | 0.207 | 0.000 | 0.207 | |
| cnvr | 0.203 | 0.004 | 0.206 | |
| cnvs-CNVDetectionResult-method | 0.188 | 0.000 | 0.188 | |
| cnvs | 0.182 | 0.000 | 0.182 | |
| exomecn.mops | 2.777 | 0.028 | 2.805 | |
| getReadCountsFromBAM | 0.405 | 0.018 | 5.565 | |
| getSegmentReadCountsFromBAM | 0.380 | 0.004 | 6.214 | |
| gr-CNVDetectionResult-method | 0.316 | 0.044 | 0.360 | |
| gr | 0.315 | 0.007 | 0.323 | |
| haplocn.mops | 1.218 | 0.035 | 11.196 | |
| individualCall-CNVDetectionResult-method | 0.242 | 0.000 | 0.242 | |
| individualCall | 0.209 | 0.004 | 0.213 | |
| iniCall-CNVDetectionResult-method | 0.219 | 0.007 | 0.227 | |
| iniCall | 0.217 | 0.008 | 0.225 | |
| integerCopyNumber-CNVDetectionResult-method | 0.204 | 0.000 | 0.203 | |
| integerCopyNumber | 0.214 | 0.004 | 0.218 | |
| localAssessments-CNVDetectionResult-method | 0.211 | 0.000 | 0.212 | |
| localAssessments | 0.207 | 0.004 | 0.211 | |
| makeRobustCNVR | 0.361 | 0.004 | 0.365 | |
| normalizeChromosomes | 0.147 | 0.004 | 0.151 | |
| normalizeGenome | 0.160 | 0.004 | 0.164 | |
| normalizedData-CNVDetectionResult-method | 0.209 | 0.012 | 0.221 | |
| normalizedData | 0.23 | 0.00 | 0.23 | |
| params-CNVDetectionResult-method | 0.218 | 0.004 | 0.222 | |
| params | 0.213 | 0.004 | 0.217 | |
| posteriorProbs-CNVDetectionResult-method | 0.224 | 0.000 | 0.223 | |
| posteriorProbs | 0.211 | 0.008 | 0.219 | |
| referencecn.mops | 7.680 | 0.036 | 17.183 | |
| sampleNames-CNVDetectionResult-method | 0.258 | 0.000 | 0.257 | |
| sampleNames | 0.207 | 0.004 | 0.210 | |
| segment | 0.019 | 0.000 | 0.018 | |
| segmentation-CNVDetectionResult-method | 0.219 | 0.000 | 0.220 | |
| segmentation | 0.211 | 0.000 | 0.210 | |
| segplot-CNVDetectionResult-method | 0.853 | 0.008 | 0.861 | |
| segplot | 0.894 | 0.008 | 0.902 | |
| singlecn.mops | 0.585 | 0.000 | 0.586 | |