| Back to Multiple platform build/check report for BioC 3.16: simplified long |
|
This page was generated on 2023-03-20 11:04:53 -0400 (Mon, 20 Mar 2023).
| Hostname | OS | Arch (*) | R version | Installed pkgs |
|---|---|---|---|---|
| nebbiolo2 | Linux (Ubuntu 20.04.5 LTS) | x86_64 | 4.2.2 (2022-10-31) -- "Innocent and Trusting" | 4516 |
| palomino4 | Windows Server 2022 Datacenter | x64 | 4.2.2 (2022-10-31 ucrt) -- "Innocent and Trusting" | 4295 |
| lconway | macOS 12.5.1 Monterey | x86_64 | 4.2.2 (2022-10-31) -- "Innocent and Trusting" | 4324 |
| Click on any hostname to see more info about the system (e.g. compilers) (*) as reported by 'uname -p', except on Windows and Mac OS X | ||||
|
To the developers/maintainers of the amplican package: - Please allow up to 24 hours (and sometimes 48 hours) for your latest push to git@git.bioconductor.org:packages/amplican.git to reflect on this report. See How and When does the builder pull? When will my changes propagate? for more information. - Make sure to use the following settings in order to reproduce any error or warning you see on this page. |
| Package 47/2183 | Hostname | OS / Arch | INSTALL | BUILD | CHECK | BUILD BIN | ||||||||
| amplican 1.20.0 (landing page) Eivind Valen
| nebbiolo2 | Linux (Ubuntu 20.04.5 LTS) / x86_64 | OK | OK | OK | |||||||||
| palomino4 | Windows Server 2022 Datacenter / x64 | OK | OK | OK | OK | |||||||||
| lconway | macOS 12.5.1 Monterey / x86_64 | OK | OK | OK | OK | |||||||||
| Package: amplican |
| Version: 1.20.0 |
| Command: /home/biocbuild/bbs-3.16-bioc/R/bin/R CMD check --install=check:amplican.install-out.txt --library=/home/biocbuild/bbs-3.16-bioc/R/library --timings amplican_1.20.0.tar.gz |
| StartedAt: 2023-03-17 19:03:29 -0400 (Fri, 17 Mar 2023) |
| EndedAt: 2023-03-17 19:06:45 -0400 (Fri, 17 Mar 2023) |
| EllapsedTime: 196.0 seconds |
| RetCode: 0 |
| Status: OK |
| CheckDir: amplican.Rcheck |
| Warnings: 0 |
##############################################################################
##############################################################################
###
### Running command:
###
### /home/biocbuild/bbs-3.16-bioc/R/bin/R CMD check --install=check:amplican.install-out.txt --library=/home/biocbuild/bbs-3.16-bioc/R/library --timings amplican_1.20.0.tar.gz
###
##############################################################################
##############################################################################
* using log directory ‘/home/biocbuild/bbs-3.16-bioc/meat/amplican.Rcheck’
* using R version 4.2.2 (2022-10-31)
* using platform: x86_64-pc-linux-gnu (64-bit)
* using session charset: UTF-8
* checking for file ‘amplican/DESCRIPTION’ ... OK
* checking extension type ... Package
* this is package ‘amplican’ version ‘1.20.0’
* package encoding: UTF-8
* checking package namespace information ... OK
* checking package dependencies ... OK
* checking if this is a source package ... OK
* checking if there is a namespace ... OK
* checking for hidden files and directories ... OK
* checking for portable file names ... OK
* checking for sufficient/correct file permissions ... OK
* checking whether package ‘amplican’ can be installed ... OK
* checking installed package size ... OK
* checking package directory ... OK
* checking ‘build’ directory ... OK
* checking DESCRIPTION meta-information ... OK
* checking top-level files ... OK
* checking for left-over files ... OK
* checking index information ... OK
* checking package subdirectories ... OK
* checking R files for non-ASCII characters ... OK
* checking R files for syntax errors ... OK
* checking whether the package can be loaded ... OK
* checking whether the package can be loaded with stated dependencies ... OK
* checking whether the package can be unloaded cleanly ... OK
* checking whether the namespace can be loaded with stated dependencies ... OK
* checking whether the namespace can be unloaded cleanly ... OK
* checking dependencies in R code ... OK
* checking S3 generic/method consistency ... OK
* checking replacement functions ... OK
* checking foreign function calls ... OK
* checking R code for possible problems ... OK
* checking Rd files ... OK
* checking Rd metadata ... OK
* checking Rd cross-references ... OK
* checking for missing documentation entries ... OK
* checking for code/documentation mismatches ... OK
* checking Rd \usage sections ... OK
* checking Rd contents ... OK
* checking for unstated dependencies in examples ... OK
* checking line endings in C/C++/Fortran sources/headers ... OK
* checking compiled code ... NOTE
Note: information on .o files is not available
* checking files in ‘vignettes’ ... OK
* checking examples ... OK
Examples with CPU (user + system) or elapsed time > 5s
user system elapsed
amplicanAlign 5.791 0.308 6.099
amplicanPipeline 4.922 0.163 5.066
* checking for unstated dependencies in ‘tests’ ... OK
* checking tests ...
Running ‘testthat.R’
OK
* checking for unstated dependencies in vignettes ... OK
* checking package vignettes in ‘inst/doc’ ... OK
* checking running R code from vignettes ...
‘amplicanFAQ.Rmd’ using ‘UTF-8’... OK
‘amplicanOverview.Rmd’ using ‘UTF-8’... OK
‘example_amplicon_report.Rmd’ using ‘UTF-8’... OK
‘example_barcode_report.Rmd’ using ‘UTF-8’... OK
‘example_group_report.Rmd’ using ‘UTF-8’... OK
‘example_guide_report.Rmd’ using ‘UTF-8’... OK
‘example_id_report.Rmd’ using ‘UTF-8’... OK
‘example_index.Rmd’ using ‘UTF-8’... OK
NONE
* checking re-building of vignette outputs ... OK
* checking PDF version of manual ... OK
* DONE
Status: 1 NOTE
See
‘/home/biocbuild/bbs-3.16-bioc/meat/amplican.Rcheck/00check.log’
for details.
amplican.Rcheck/00install.out
############################################################################## ############################################################################## ### ### Running command: ### ### /home/biocbuild/bbs-3.16-bioc/R/bin/R CMD INSTALL amplican ### ############################################################################## ############################################################################## * installing to library ‘/home/biocbuild/bbs-3.16-bioc/R/library’ * installing *source* package ‘amplican’ ... ** using staged installation ** libs g++ -std=gnu++14 -I"/home/biocbuild/bbs-3.16-bioc/R/include" -DNDEBUG -I'/home/biocbuild/bbs-3.16-bioc/R/library/Rcpp/include' -I/usr/local/include -fpic -g -O2 -Wall -c RcppExports.cpp -o RcppExports.o g++ -std=gnu++14 -I"/home/biocbuild/bbs-3.16-bioc/R/include" -DNDEBUG -I'/home/biocbuild/bbs-3.16-bioc/R/library/Rcpp/include' -I/usr/local/include -fpic -g -O2 -Wall -c bezier.cpp -o bezier.o g++ -std=gnu++14 -shared -L/home/biocbuild/bbs-3.16-bioc/R/lib -L/usr/local/lib -o amplican.so RcppExports.o bezier.o -L/home/biocbuild/bbs-3.16-bioc/R/lib -lR installing to /home/biocbuild/bbs-3.16-bioc/R/library/00LOCK-amplican/00new/amplican/libs ** R ** inst ** byte-compile and prepare package for lazy loading ** help *** installing help indices ** building package indices ** installing vignettes ** testing if installed package can be loaded from temporary location ** checking absolute paths in shared objects and dynamic libraries ** testing if installed package can be loaded from final location ** testing if installed package keeps a record of temporary installation path * DONE (amplican)
amplican.Rcheck/tests/testthat.Rout
R version 4.2.2 (2022-10-31) -- "Innocent and Trusting"
Copyright (C) 2022 The R Foundation for Statistical Computing
Platform: x86_64-pc-linux-gnu (64-bit)
R is free software and comes with ABSOLUTELY NO WARRANTY.
You are welcome to redistribute it under certain conditions.
Type 'license()' or 'licence()' for distribution details.
R is a collaborative project with many contributors.
Type 'contributors()' for more information and
'citation()' on how to cite R or R packages in publications.
Type 'demo()' for some demos, 'help()' for on-line help, or
'help.start()' for an HTML browser interface to help.
Type 'q()' to quit R.
> library(testthat)
> library(amplican)
Loading required package: BiocGenerics
Attaching package: 'BiocGenerics'
The following objects are masked from 'package:stats':
IQR, mad, sd, var, xtabs
The following objects are masked from 'package:base':
Filter, Find, Map, Position, Reduce, anyDuplicated, aperm, append,
as.data.frame, basename, cbind, colnames, dirname, do.call,
duplicated, eval, evalq, get, grep, grepl, intersect, is.unsorted,
lapply, mapply, match, mget, order, paste, pmax, pmax.int, pmin,
pmin.int, rank, rbind, rownames, sapply, setdiff, sort, table,
tapply, union, unique, unsplit, which.max, which.min
Loading required package: Biostrings
Loading required package: S4Vectors
Loading required package: stats4
Attaching package: 'S4Vectors'
The following objects are masked from 'package:base':
I, expand.grid, unname
Loading required package: IRanges
Loading required package: XVector
Loading required package: GenomeInfoDb
Attaching package: 'Biostrings'
The following object is masked from 'package:base':
strsplit
Loading required package: data.table
Attaching package: 'data.table'
The following object is masked from 'package:IRanges':
shift
The following objects are masked from 'package:S4Vectors':
first, second
Please consider supporting this software by citing:
Labun et al. 2019
Accurate analysis of genuine CRISPR editing events with ampliCan.
Genome Res. 2019 Mar 8
doi: 10.1101/gr.244293.118
>
> test_check("amplican")
[ FAIL 0 | WARN 5 | SKIP 0 | PASS 57 ]
[ FAIL 0 | WARN 5 | SKIP 0 | PASS 57 ]
>
> proc.time()
user system elapsed
21.730 0.981 22.626
amplican.Rcheck/amplican-Ex.timings
| name | user | system | elapsed | |
| AlignmentsExperimentSet-class | 1.115 | 0.052 | 1.167 | |
| amplicanAlign | 5.791 | 0.308 | 6.099 | |
| amplicanConsensus | 0.095 | 0.015 | 0.112 | |
| amplicanFilter | 0.022 | 0.000 | 0.022 | |
| amplicanMap | 0.241 | 0.059 | 0.301 | |
| amplicanNormalize | 0.048 | 0.000 | 0.031 | |
| amplicanOverlap | 0.020 | 0.000 | 0.019 | |
| amplicanPipeline | 4.922 | 0.163 | 5.066 | |
| amplicanReport | 0.004 | 0.007 | 0.012 | |
| amplicanSummarize | 0.019 | 0.001 | 0.014 | |
| amplican_print_reads | 0.251 | 0.007 | 0.248 | |
| assignedCount | 0.04 | 0.00 | 0.04 | |
| barcodeData-set | 0.023 | 0.000 | 0.023 | |
| barcodeData | 0.024 | 0.000 | 0.023 | |
| comb_along | 0.021 | 0.000 | 0.021 | |
| experimentData-set | 0.023 | 0.000 | 0.023 | |
| experimentData | 0.026 | 0.000 | 0.025 | |
| extractEvents | 2.504 | 0.028 | 2.531 | |
| findEOP | 0.004 | 0.000 | 0.003 | |
| findLQR | 0.004 | 0.000 | 0.003 | |
| findPD | 0.003 | 0.000 | 0.003 | |
| fwdReads-set | 0.023 | 0.000 | 0.023 | |
| fwdReads | 0.316 | 0.000 | 0.316 | |
| fwdReadsType-set | 0.023 | 0.000 | 0.023 | |
| fwdReadsType | 0.021 | 0.000 | 0.022 | |
| geom_bezier | 0.316 | 0.000 | 0.316 | |
| lookupAlignment | 0.265 | 0.000 | 0.266 | |
| metaplot_deletions | 0.183 | 0.000 | 0.184 | |
| metaplot_insertions | 0.283 | 0.001 | 0.268 | |
| metaplot_mismatches | 0.272 | 0.011 | 0.277 | |
| plot_cuts | 0.373 | 0.024 | 0.385 | |
| plot_deletions | 0.184 | 0.016 | 0.200 | |
| plot_height | 0 | 0 | 0 | |
| plot_heterogeneity | 0.287 | 0.003 | 0.274 | |
| plot_insertions | 0.404 | 0.004 | 0.394 | |
| plot_mismatches | 0.439 | 0.004 | 0.429 | |
| plot_variants | 0.658 | 0.020 | 0.662 | |
| readCounts-set | 0.023 | 0.000 | 0.023 | |
| readCounts | 0.022 | 0.000 | 0.022 | |
| rveReads-set | 0.022 | 0.000 | 0.023 | |
| rveReads | 0.337 | 0.000 | 0.337 | |
| rveReadsType-set | 0.023 | 0.000 | 0.023 | |
| rveReadsType | 0.023 | 0.000 | 0.023 | |
| unassignedCount | 0.018 | 0.004 | 0.022 | |
| unassignedData-set | 0.022 | 0.000 | 0.022 | |
| unassignedData | 0.022 | 0.000 | 0.023 | |
| writeAlignments | 0.034 | 0.004 | 0.038 | |