| Back to Multiple platform build/check report for BioC 3.16: simplified long |
|
This page was generated on 2023-04-12 11:04:57 -0400 (Wed, 12 Apr 2023).
| Hostname | OS | Arch (*) | R version | Installed pkgs |
|---|---|---|---|---|
| nebbiolo2 | Linux (Ubuntu 20.04.5 LTS) | x86_64 | 4.2.3 (2023-03-15) -- "Shortstop Beagle" | 4502 |
| palomino4 | Windows Server 2022 Datacenter | x64 | 4.2.3 (2023-03-15 ucrt) -- "Shortstop Beagle" | 4282 |
| lconway | macOS 12.5.1 Monterey | x86_64 | 4.2.3 (2023-03-15) -- "Shortstop Beagle" | 4310 |
| Click on any hostname to see more info about the system (e.g. compilers) (*) as reported by 'uname -p', except on Windows and Mac OS X | ||||
|
To the developers/maintainers of the alevinQC package: - Please allow up to 24 hours (and sometimes 48 hours) for your latest push to git@git.bioconductor.org:packages/alevinQC.git to reflect on this report. See How and When does the builder pull? When will my changes propagate? for more information. - Make sure to use the following settings in order to reproduce any error or warning you see on this page. |
| Package 39/2183 | Hostname | OS / Arch | INSTALL | BUILD | CHECK | BUILD BIN | ||||||||
| alevinQC 1.14.0 (landing page) Charlotte Soneson
| nebbiolo2 | Linux (Ubuntu 20.04.5 LTS) / x86_64 | OK | OK | OK | |||||||||
| palomino4 | Windows Server 2022 Datacenter / x64 | OK | OK | OK | OK | |||||||||
| lconway | macOS 12.5.1 Monterey / x86_64 | OK | OK | OK | OK | |||||||||
| Package: alevinQC |
| Version: 1.14.0 |
| Command: /home/biocbuild/bbs-3.16-bioc/R/bin/R CMD check --install=check:alevinQC.install-out.txt --library=/home/biocbuild/bbs-3.16-bioc/R/site-library --timings alevinQC_1.14.0.tar.gz |
| StartedAt: 2023-04-10 18:56:09 -0400 (Mon, 10 Apr 2023) |
| EndedAt: 2023-04-10 18:58:20 -0400 (Mon, 10 Apr 2023) |
| EllapsedTime: 131.6 seconds |
| RetCode: 0 |
| Status: OK |
| CheckDir: alevinQC.Rcheck |
| Warnings: 0 |
##############################################################################
##############################################################################
###
### Running command:
###
### /home/biocbuild/bbs-3.16-bioc/R/bin/R CMD check --install=check:alevinQC.install-out.txt --library=/home/biocbuild/bbs-3.16-bioc/R/site-library --timings alevinQC_1.14.0.tar.gz
###
##############################################################################
##############################################################################
* using log directory ‘/home/biocbuild/bbs-3.16-bioc/meat/alevinQC.Rcheck’
* using R version 4.2.3 (2023-03-15)
* using platform: x86_64-pc-linux-gnu (64-bit)
* using session charset: UTF-8
* checking for file ‘alevinQC/DESCRIPTION’ ... OK
* checking extension type ... Package
* this is package ‘alevinQC’ version ‘1.14.0’
* package encoding: UTF-8
* checking package namespace information ... OK
* checking package dependencies ... OK
* checking if this is a source package ... OK
* checking if there is a namespace ... OK
* checking for hidden files and directories ... OK
* checking for portable file names ... OK
* checking for sufficient/correct file permissions ... OK
* checking whether package ‘alevinQC’ can be installed ... OK
* checking installed package size ... NOTE
installed size is 18.1Mb
sub-directories of 1Mb or more:
extdata 16.9Mb
* checking package directory ... OK
* checking ‘build’ directory ... OK
* checking DESCRIPTION meta-information ... OK
* checking top-level files ... OK
* checking for left-over files ... OK
* checking index information ... OK
* checking package subdirectories ... OK
* checking R files for non-ASCII characters ... OK
* checking R files for syntax errors ... OK
* checking whether the package can be loaded ... OK
* checking whether the package can be loaded with stated dependencies ... OK
* checking whether the package can be unloaded cleanly ... OK
* checking whether the namespace can be loaded with stated dependencies ... OK
* checking whether the namespace can be unloaded cleanly ... OK
* checking loading without being on the library search path ... OK
* checking dependencies in R code ... OK
* checking S3 generic/method consistency ... OK
* checking replacement functions ... OK
* checking foreign function calls ... OK
* checking R code for possible problems ... OK
* checking Rd files ... OK
* checking Rd metadata ... OK
* checking Rd cross-references ... OK
* checking for missing documentation entries ... OK
* checking for code/documentation mismatches ... OK
* checking Rd \usage sections ... OK
* checking Rd contents ... OK
* checking for unstated dependencies in examples ... OK
* checking line endings in C/C++/Fortran sources/headers ... OK
* checking compiled code ... NOTE
Note: information on .o files is not available
* checking files in ‘vignettes’ ... OK
* checking examples ... OK
Examples with CPU (user + system) or elapsed time > 5s
user system elapsed
qcReport 11.383 0.302 11.701
* checking for unstated dependencies in ‘tests’ ... OK
* checking tests ...
Running ‘testthat.R’
OK
* checking for unstated dependencies in vignettes ... OK
* checking package vignettes in ‘inst/doc’ ... OK
* checking running R code from vignettes ...
‘alevinqc.Rmd’ using ‘UTF-8’... OK
NONE
* checking re-building of vignette outputs ... OK
* checking PDF version of manual ... OK
* DONE
Status: 2 NOTEs
See
‘/home/biocbuild/bbs-3.16-bioc/meat/alevinQC.Rcheck/00check.log’
for details.
alevinQC.Rcheck/00install.out
############################################################################## ############################################################################## ### ### Running command: ### ### /home/biocbuild/bbs-3.16-bioc/R/bin/R CMD INSTALL alevinQC ### ############################################################################## ############################################################################## * installing to library ‘/home/biocbuild/bbs-3.16-bioc/R/site-library’ * installing *source* package ‘alevinQC’ ... ** using staged installation ** libs g++ -std=gnu++11 -I"/home/biocbuild/bbs-3.16-bioc/R/include" -DNDEBUG -I'/home/biocbuild/bbs-3.16-bioc/R/site-library/Rcpp/include' -I/usr/local/include -fpic -g -O2 -Wall -c RcppExports.cpp -o RcppExports.o g++ -std=gnu++11 -I"/home/biocbuild/bbs-3.16-bioc/R/include" -DNDEBUG -I'/home/biocbuild/bbs-3.16-bioc/R/site-library/Rcpp/include' -I/usr/local/include -fpic -g -O2 -Wall -c convert_permit_freq.cpp -o convert_permit_freq.o g++ -std=gnu++11 -shared -L/home/biocbuild/bbs-3.16-bioc/R/lib -L/usr/local/lib -o alevinQC.so RcppExports.o convert_permit_freq.o -L/home/biocbuild/bbs-3.16-bioc/R/lib -lR installing to /home/biocbuild/bbs-3.16-bioc/R/site-library/00LOCK-alevinQC/00new/alevinQC/libs ** R ** inst ** byte-compile and prepare package for lazy loading ** help *** installing help indices ** building package indices ** installing vignettes ** testing if installed package can be loaded from temporary location ** checking absolute paths in shared objects and dynamic libraries ** testing if installed package can be loaded from final location ** testing if installed package keeps a record of temporary installation path * DONE (alevinQC)
alevinQC.Rcheck/tests/testthat.Rout
R version 4.2.3 (2023-03-15) -- "Shortstop Beagle"
Copyright (C) 2023 The R Foundation for Statistical Computing
Platform: x86_64-pc-linux-gnu (64-bit)
R is free software and comes with ABSOLUTELY NO WARRANTY.
You are welcome to redistribute it under certain conditions.
Type 'license()' or 'licence()' for distribution details.
R is a collaborative project with many contributors.
Type 'contributors()' for more information and
'citation()' on how to cite R or R packages in publications.
Type 'demo()' for some demos, 'help()' for on-line help, or
'help.start()' for an HTML browser interface to help.
Type 'q()' to quit R.
> library(testthat)
> library(alevinQC)
>
> test_check("alevinQC")
100% of barcodes in custom barcode set set2 were found in the data set (100% were quantified)
100% of barcodes in custom barcode set set2 were found in the data set (100% were quantified)
100% of barcodes in custom barcode set set1 were found in the data set (100% were quantified)
100% of barcodes in custom barcode set set2 were found in the data set (100% were quantified)
[ FAIL 0 | WARN 7 | SKIP 0 | PASS 221 ]
[ FAIL 0 | WARN 7 | SKIP 0 | PASS 221 ]
>
> proc.time()
user system elapsed
56.060 1.199 57.325
alevinQC.Rcheck/alevinQC-Ex.timings
| name | user | system | elapsed | |
| checkAlevinFryInputFiles | 0.004 | 0.000 | 0.004 | |
| checkAlevinInputFiles | 0.002 | 0.000 | 0.001 | |
| plotAlevinBarcodeCollapse | 1.293 | 0.080 | 1.373 | |
| plotAlevinHistogram | 0.849 | 0.016 | 0.864 | |
| plotAlevinKneeNbrGenes | 0.766 | 0.000 | 0.766 | |
| plotAlevinKneeRaw | 2.097 | 0.164 | 2.262 | |
| plotAlevinQuant | 1.282 | 0.100 | 1.381 | |
| plotAlevinQuantPairs | 2.132 | 0.052 | 2.184 | |
| qcReport | 11.383 | 0.302 | 11.701 | |
| qcShiny | 0.931 | 0.008 | 0.940 | |
| readAlevinFryQC | 0.466 | 0.004 | 0.470 | |
| readAlevinQC | 0.537 | 0.000 | 0.537 | |