| Back to Multiple platform build/check report for BioC 3.16: simplified long |
|
This page was generated on 2023-04-12 11:06:29 -0400 (Wed, 12 Apr 2023).
| Hostname | OS | Arch (*) | R version | Installed pkgs |
|---|---|---|---|---|
| nebbiolo2 | Linux (Ubuntu 20.04.5 LTS) | x86_64 | 4.2.3 (2023-03-15) -- "Shortstop Beagle" | 4502 |
| palomino4 | Windows Server 2022 Datacenter | x64 | 4.2.3 (2023-03-15 ucrt) -- "Shortstop Beagle" | 4282 |
| lconway | macOS 12.5.1 Monterey | x86_64 | 4.2.3 (2023-03-15) -- "Shortstop Beagle" | 4310 |
| Click on any hostname to see more info about the system (e.g. compilers) (*) as reported by 'uname -p', except on Windows and Mac OS X | ||||
|
To the developers/maintainers of the TargetSearch package: - Please allow up to 24 hours (and sometimes 48 hours) for your latest push to git@git.bioconductor.org:packages/TargetSearch.git to reflect on this report. See How and When does the builder pull? When will my changes propagate? for more information. - Make sure to use the following settings in order to reproduce any error or warning you see on this page. |
| Package 2023/2183 | Hostname | OS / Arch | INSTALL | BUILD | CHECK | BUILD BIN | ||||||||
| TargetSearch 2.0.0 (landing page) Alvaro Cuadros-Inostroza
| nebbiolo2 | Linux (Ubuntu 20.04.5 LTS) / x86_64 | OK | OK | OK | |||||||||
| palomino4 | Windows Server 2022 Datacenter / x64 | OK | OK | OK | OK | |||||||||
| lconway | macOS 12.5.1 Monterey / x86_64 | OK | OK | OK | OK | |||||||||
| Package: TargetSearch |
| Version: 2.0.0 |
| Command: /Library/Frameworks/R.framework/Resources/bin/R CMD check --install=check:TargetSearch.install-out.txt --library=/Library/Frameworks/R.framework/Resources/library --no-vignettes --timings TargetSearch_2.0.0.tar.gz |
| StartedAt: 2023-04-10 23:02:59 -0400 (Mon, 10 Apr 2023) |
| EndedAt: 2023-04-10 23:04:16 -0400 (Mon, 10 Apr 2023) |
| EllapsedTime: 77.4 seconds |
| RetCode: 0 |
| Status: OK |
| CheckDir: TargetSearch.Rcheck |
| Warnings: 0 |
##############################################################################
##############################################################################
###
### Running command:
###
### /Library/Frameworks/R.framework/Resources/bin/R CMD check --install=check:TargetSearch.install-out.txt --library=/Library/Frameworks/R.framework/Resources/library --no-vignettes --timings TargetSearch_2.0.0.tar.gz
###
##############################################################################
##############################################################################
* using log directory ‘/Users/biocbuild/bbs-3.16-bioc/meat/TargetSearch.Rcheck’
* using R version 4.2.3 (2023-03-15)
* using platform: x86_64-apple-darwin17.0 (64-bit)
* using session charset: UTF-8
* using option ‘--no-vignettes’
* checking for file ‘TargetSearch/DESCRIPTION’ ... OK
* checking extension type ... Package
* this is package ‘TargetSearch’ version ‘2.0.0’
* checking package namespace information ... OK
* checking package dependencies ... OK
* checking if this is a source package ... OK
* checking if there is a namespace ... OK
* checking for hidden files and directories ... OK
* checking for portable file names ... OK
* checking for sufficient/correct file permissions ... OK
* checking whether package ‘TargetSearch’ can be installed ... OK
* checking installed package size ... OK
* checking package directory ... OK
* checking ‘build’ directory ... OK
* checking DESCRIPTION meta-information ... OK
* checking top-level files ... OK
* checking for left-over files ... OK
* checking index information ... OK
* checking package subdirectories ... OK
* checking R files for non-ASCII characters ... OK
* checking R files for syntax errors ... OK
* checking whether the package can be loaded ... OK
* checking whether the package can be loaded with stated dependencies ... OK
* checking whether the package can be unloaded cleanly ... OK
* checking whether the namespace can be loaded with stated dependencies ... OK
* checking whether the namespace can be unloaded cleanly ... OK
* checking dependencies in R code ... OK
* checking S3 generic/method consistency ... OK
* checking replacement functions ... OK
* checking foreign function calls ... OK
* checking R code for possible problems ... OK
* checking Rd files ... OK
* checking Rd metadata ... OK
* checking Rd cross-references ... OK
* checking for missing documentation entries ... OK
* checking for code/documentation mismatches ... OK
* checking Rd \usage sections ... OK
* checking Rd contents ... OK
* checking for unstated dependencies in examples ... OK
* checking contents of ‘data’ directory ... OK
* checking data for non-ASCII characters ... OK
* checking data for ASCII and uncompressed saves ... OK
* checking line endings in C/C++/Fortran sources/headers ... OK
* checking compiled code ... NOTE
Note: information on .o files is not available
* checking sizes of PDF files under ‘inst/doc’ ... OK
* checking installed files from ‘inst/doc’ ... OK
* checking files in ‘vignettes’ ... OK
* checking examples ... OK
Examples with CPU (user + system) or elapsed time > 5s
user system elapsed
RIcorrect 10.696 1.832 12.619
* checking for unstated dependencies in ‘tests’ ... OK
* checking tests ...
Running ‘tinytest.R’
OK
* checking for unstated dependencies in vignettes ... OK
* checking package vignettes in ‘inst/doc’ ... OK
* checking running R code from vignettes ... SKIPPED
* checking re-building of vignette outputs ... SKIPPED
* checking PDF version of manual ... OK
* DONE
Status: 1 NOTE
See
‘/Users/biocbuild/bbs-3.16-bioc/meat/TargetSearch.Rcheck/00check.log’
for details.
TargetSearch.Rcheck/00install.out
############################################################################## ############################################################################## ### ### Running command: ### ### /Library/Frameworks/R.framework/Resources/bin/R CMD INSTALL TargetSearch ### ############################################################################## ############################################################################## * installing to library ‘/Library/Frameworks/R.framework/Versions/4.2/Resources/library’ * installing *source* package ‘TargetSearch’ ... ** using staged installation ** libs clang -mmacosx-version-min=10.13 -I"/Library/Frameworks/R.framework/Resources/include" -DNDEBUG -I/usr/local/include -fPIC -Wall -g -O2 -c Rinit.c -o Rinit.o clang -mmacosx-version-min=10.13 -I"/Library/Frameworks/R.framework/Resources/include" -DNDEBUG -I/usr/local/include -fPIC -Wall -g -O2 -c baseline.c -o baseline.o clang -mmacosx-version-min=10.13 -I"/Library/Frameworks/R.framework/Resources/include" -DNDEBUG -I/usr/local/include -fPIC -Wall -g -O2 -c detection.c -o detection.o clang -mmacosx-version-min=10.13 -I"/Library/Frameworks/R.framework/Resources/include" -DNDEBUG -I/usr/local/include -fPIC -Wall -g -O2 -c file.c -o file.o clang -mmacosx-version-min=10.13 -I"/Library/Frameworks/R.framework/Resources/include" -DNDEBUG -I/usr/local/include -fPIC -Wall -g -O2 -c find_peaks.c -o find_peaks.o clang -mmacosx-version-min=10.13 -I"/Library/Frameworks/R.framework/Resources/include" -DNDEBUG -I/usr/local/include -fPIC -Wall -g -O2 -c getLine.c -o getLine.o clang -mmacosx-version-min=10.13 -I"/Library/Frameworks/R.framework/Resources/include" -DNDEBUG -I/usr/local/include -fPIC -Wall -g -O2 -c hpf.c -o hpf.o clang -mmacosx-version-min=10.13 -I"/Library/Frameworks/R.framework/Resources/include" -DNDEBUG -I/usr/local/include -fPIC -Wall -g -O2 -c matrix.c -o matrix.o clang -mmacosx-version-min=10.13 -I"/Library/Frameworks/R.framework/Resources/include" -DNDEBUG -I/usr/local/include -fPIC -Wall -g -O2 -c ncdf.c -o ncdf.o clang -mmacosx-version-min=10.13 -I"/Library/Frameworks/R.framework/Resources/include" -DNDEBUG -I/usr/local/include -fPIC -Wall -g -O2 -c peak.c -o peak.o clang -mmacosx-version-min=10.13 -I"/Library/Frameworks/R.framework/Resources/include" -DNDEBUG -I/usr/local/include -fPIC -Wall -g -O2 -c utils.c -o utils.o clang -mmacosx-version-min=10.13 -dynamiclib -Wl,-headerpad_max_install_names -undefined dynamic_lookup -single_module -multiply_defined suppress -L/Library/Frameworks/R.framework/Resources/lib -L/usr/local/lib -o TargetSearch.so Rinit.o baseline.o detection.o file.o find_peaks.o getLine.o hpf.o matrix.o ncdf.o peak.o utils.o -F/Library/Frameworks/R.framework/.. -framework R -Wl,-framework -Wl,CoreFoundation installing to /Library/Frameworks/R.framework/Versions/4.2/Resources/library/00LOCK-TargetSearch/00new/TargetSearch/libs ** R ** data ** inst ** byte-compile and prepare package for lazy loading ** help *** installing help indices ** building package indices ** installing vignettes ** testing if installed package can be loaded from temporary location ** checking absolute paths in shared objects and dynamic libraries ** testing if installed package can be loaded from final location ** testing if installed package keeps a record of temporary installation path * DONE (TargetSearch)
TargetSearch.Rcheck/tests/tinytest.Rout
R version 4.2.3 (2023-03-15) -- "Shortstop Beagle"
Copyright (C) 2023 The R Foundation for Statistical Computing
Platform: x86_64-apple-darwin17.0 (64-bit)
R is free software and comes with ABSOLUTELY NO WARRANTY.
You are welcome to redistribute it under certain conditions.
Type 'license()' or 'licence()' for distribution details.
R is a collaborative project with many contributors.
Type 'contributors()' for more information and
'citation()' on how to cite R or R packages in publications.
Type 'demo()' for some demos, 'help()' for on-line help, or
'help.start()' for an HTML browser interface to help.
Type 'q()' to quit R.
> if ( requireNamespace("tinytest", quietly=TRUE) && requireNamespace("TargetSearchData", quietly=TRUE)) {
+ tinytest::test_package("TargetSearch")
+ }
Loading required package: TargetSearchData
test_file.R................... 0 tests
test_file.R................... 0 tests
test_file.R................... 0 tests
test_file.R................... 0 tests
test_file.R................... 1 tests [0;32mOK[0m
test_file.R................... 1 tests [0;32mOK[0m
test_file.R................... 1 tests [0;32mOK[0m
test_file.R................... 2 tests [0;32mOK[0m
test_file.R................... 2 tests [0;32mOK[0m
test_file.R................... 3 tests [0;32mOK[0m
test_file.R................... 3 tests [0;32mOK[0m
test_file.R................... 3 tests [0;32mOK[0m
test_file.R................... 4 tests [0;32mOK[0m [0;34m0.2s[0m
test_ncdf4_plot_peak.R........ 0 tests
test_ncdf4_plot_peak.R........ 0 tests
test_ncdf4_plot_peak.R........ 0 tests
test_ncdf4_plot_peak.R........ 0 tests
test_ncdf4_plot_peak.R........ 0 tests
test_ncdf4_plot_peak.R........ 0 tests
test_ncdf4_plot_peak.R........ 0 tests
test_ncdf4_plot_peak.R........ 0 tests
test_ncdf4_plot_peak.R........ 0 tests
test_ncdf4_plot_peak.R........ 5 tests [0;32mOK[0m
test_ncdf4_plot_peak.R........ 6 tests [0;32mOK[0m
test_ncdf4_plot_peak.R........ 7 tests [0;32mOK[0m
test_ncdf4_plot_peak.R........ 7 tests [0;32mOK[0m [0;34m0.3s[0m
test_quantMatrix.R............ 0 tests
test_quantMatrix.R............ 0 tests
test_quantMatrix.R............ 0 tests
test_quantMatrix.R............ 0 tests
test_quantMatrix.R............ 0 tests
test_quantMatrix.R............ 0 tests
test_quantMatrix.R............ 1 tests [0;32mOK[0m
test_quantMatrix.R............ 2 tests [0;32mOK[0m
test_quantMatrix.R............ 2 tests [0;32mOK[0m
test_quantMatrix.R............ 2 tests [0;32mOK[0m
test_quantMatrix.R............ 3 tests [0;32mOK[0m
test_quantMatrix.R............ 4 tests [0;32mOK[0m
test_quantMatrix.R............ 4 tests [0;32mOK[0m
test_quantMatrix.R............ 4 tests [0;32mOK[0m
test_quantMatrix.R............ 5 tests [0;32mOK[0m
test_quantMatrix.R............ 5 tests [0;32mOK[0m
test_quantMatrix.R............ 5 tests [0;32mOK[0m
test_quantMatrix.R............ 6 tests [0;32mOK[0m [0;36m41ms[0m
test_ri_data_extract.R........ 0 tests
test_ri_data_extract.R........ 0 tests
test_ri_data_extract.R........ 0 tests
test_ri_data_extract.R........ 0 tests
test_ri_data_extract.R........ 1 tests [0;32mOK[0m
test_ri_data_extract.R........ 1 tests [0;32mOK[0m
test_ri_data_extract.R........ 1 tests [0;32mOK[0m
test_ri_data_extract.R........ 2 tests [0;32mOK[0m
test_ri_data_extract.R........ 2 tests [0;32mOK[0m
test_ri_data_extract.R........ 2 tests [0;32mOK[0m
test_ri_data_extract.R........ 3 tests [0;32mOK[0m
test_ri_data_extract.R........ 3 tests [0;32mOK[0m
test_ri_data_extract.R........ 4 tests [0;32mOK[0m
test_ri_data_extract.R........ 4 tests [0;32mOK[0m
test_ri_data_extract.R........ 4 tests [0;32mOK[0m
test_ri_data_extract.R........ 4 tests [0;32mOK[0m
test_ri_data_extract.R........ 4 tests [0;32mOK[0m
test_ri_data_extract.R........ 4 tests [0;32mOK[0m
test_ri_data_extract.R........ 5 tests [0;32mOK[0m
test_ri_data_extract.R........ 5 tests [0;32mOK[0m
test_ri_data_extract.R........ 6 tests [0;32mOK[0m [0;34m0.6s[0m
test_ri_plot_peak.R........... 0 tests
test_ri_plot_peak.R........... 0 tests
test_ri_plot_peak.R........... 0 tests
test_ri_plot_peak.R........... 0 tests
test_ri_plot_peak.R........... 0 tests
test_ri_plot_peak.R........... 0 tests
test_ri_plot_peak.R........... 0 tests
test_ri_plot_peak.R........... 0 tests
test_ri_plot_peak.R........... 0 tests
test_ri_plot_peak.R........... 0 tests
test_ri_plot_peak.R........... 10 tests [0;32mOK[0m
test_ri_plot_peak.R........... 11 tests [0;32mOK[0m
test_ri_plot_peak.R........... 12 tests [0;32mOK[0m
test_ri_plot_peak.R........... 12 tests [0;32mOK[0m [0;36m88ms[0m
test_tsLib.R.................. 0 tests
test_tsLib.R.................. 0 tests
test_tsLib.R.................. 0 tests
test_tsLib.R.................. 0 tests
test_tsLib.R.................. 0 tests
test_tsLib.R.................. 0 tests
test_tsLib.R.................. 0 tests
test_tsLib.R.................. 1 tests [0;32mOK[0m
test_tsLib.R.................. 2 tests [0;32mOK[0m
test_tsLib.R.................. 2 tests [0;32mOK[0m
test_tsLib.R.................. 2 tests [0;32mOK[0m
test_tsLib.R.................. 3 tests [0;32mOK[0m
test_tsLib.R.................. 4 tests [0;32mOK[0m
test_tsLib.R.................. 4 tests [0;32mOK[0m
test_tsLib.R.................. 5 tests [0;32mOK[0m
test_tsLib.R.................. 6 tests [0;32mOK[0m
test_tsLib.R.................. 7 tests [0;32mOK[0m
test_tsLib.R.................. 8 tests [0;32mOK[0m
test_tsLib.R.................. 9 tests [0;32mOK[0m
test_tsLib.R.................. 10 tests [0;32mOK[0m
test_tsLib.R.................. 11 tests [0;32mOK[0m
test_tsLib.R.................. 12 tests [0;32mOK[0m [0;36m53ms[0m
test_tsRim.R.................. 0 tests
test_tsRim.R.................. 1 tests [0;32mOK[0m
test_tsRim.R.................. 2 tests [0;32mOK[0m
test_tsRim.R.................. 2 tests [0;32mOK[0m
test_tsRim.R.................. 3 tests [0;32mOK[0m
test_tsRim.R.................. 4 tests [0;32mOK[0m
test_tsRim.R.................. 4 tests [0;32mOK[0m
test_tsRim.R.................. 5 tests [0;32mOK[0m
test_tsRim.R.................. 6 tests [0;32mOK[0m [0;36m5ms[0m
test_tsSample.R............... 0 tests
test_tsSample.R............... 0 tests
test_tsSample.R............... 0 tests
test_tsSample.R............... 1 tests [0;32mOK[0m
test_tsSample.R............... 2 tests [0;32mOK[0m
test_tsSample.R............... 3 tests [0;32mOK[0m
test_tsSample.R............... 3 tests [0;32mOK[0m
test_tsSample.R............... 3 tests [0;32mOK[0m
test_tsSample.R............... 3 tests [0;32mOK[0m
test_tsSample.R............... 4 tests [0;32mOK[0m
test_tsSample.R............... 5 tests [0;32mOK[0m
test_tsSample.R............... 6 tests [0;32mOK[0m
test_tsSample.R............... 6 tests [0;32mOK[0m
test_tsSample.R............... 7 tests [0;32mOK[0m
test_tsSample.R............... 8 tests [0;32mOK[0m
test_tsSample.R............... 9 tests [0;32mOK[0m [0;36m79ms[0m
All ok, 62 results (1.3s)
>
> proc.time()
user system elapsed
1.493 0.142 1.630
TargetSearch.Rcheck/TargetSearch-Ex.timings
| name | user | system | elapsed | |
| FAMEoutliers | 0.037 | 0.008 | 0.045 | |
| FindAllPeaks | 1.300 | 0.053 | 1.373 | |
| FindPeaks | 0.295 | 0.008 | 0.304 | |
| ImportFameSettings | 0.012 | 0.001 | 0.014 | |
| ImportLibrary | 0.025 | 0.002 | 0.027 | |
| ImportSamples | 0.019 | 0.002 | 0.022 | |
| NetCDFPeakFinding | 0.259 | 0.033 | 0.299 | |
| Profile | 1.142 | 0.034 | 1.182 | |
| ProfileCleanUp | 1.045 | 0.030 | 1.078 | |
| RIcorrect | 10.696 | 1.832 | 12.619 | |
| TSExample | 1.373 | 0.202 | 1.593 | |
| Write.Results | 0.058 | 0.017 | 0.089 | |
| baseline | 0.330 | 0.035 | 0.365 | |
| baselineCorrection | 0.273 | 0.010 | 0.283 | |
| baselineCorrectionQuant | 0.397 | 0.033 | 0.432 | |
| checkRimLim | 1.029 | 0.070 | 1.105 | |
| file | 0.097 | 0.010 | 0.106 | |
| fixRI | 0.946 | 0.073 | 1.021 | |
| medianRILib | 0.698 | 0.030 | 0.738 | |
| ncdf4Convert-method | 0.077 | 0.011 | 0.088 | |
| ncdf4_convert | 0.018 | 0.002 | 0.020 | |
| ncdf4_convert_from_path | 2.230 | 0.784 | 3.029 | |
| ncdf4_data_extract | 0.401 | 0.040 | 0.442 | |
| ncdf4_plot_peak | 1.125 | 0.384 | 1.515 | |
| ncdf4_update_ri | 0.287 | 0.041 | 0.329 | |
| peakCDFextraction | 0.454 | 0.053 | 0.510 | |
| peakFind | 0.322 | 0.011 | 0.334 | |
| plotFAME | 0.007 | 0.003 | 0.010 | |
| plotPeak | 0.205 | 0.012 | 0.219 | |
| plotPeakRI | 0.967 | 0.030 | 1.002 | |
| plotPeakSimple | 0.403 | 0.025 | 0.430 | |
| plotRIdev | 0.442 | 0.026 | 0.471 | |
| plotSpectra | 0.337 | 0.011 | 0.349 | |
| quantMatrix | 1.036 | 0.035 | 1.075 | |
| ri2rt | 0.003 | 0.001 | 0.003 | |
| riMatrix | 0.908 | 0.059 | 0.971 | |
| ri_data_extract | 0.076 | 0.027 | 0.104 | |
| ri_plot_peak | 1.867 | 0.060 | 1.936 | |
| rt2ri | 0.003 | 0.001 | 0.003 | |
| sampleRI | 0.651 | 0.018 | 0.670 | |
| tsLib-class | 0.017 | 0.001 | 0.017 | |
| tsMSdata-class | 0.010 | 0.015 | 0.026 | |
| tsProfile-class | 0.011 | 0.003 | 0.014 | |
| tsRim-class | 0.002 | 0.000 | 0.002 | |
| tsSample-class | 0.017 | 0.002 | 0.018 | |
| tsUpdate-method | 0.000 | 0.000 | 0.001 | |
| updateRI | 0.778 | 0.104 | 0.883 | |
| writeLibText | 0.016 | 0.002 | 0.017 | |
| writeMSP | 0.011 | 0.002 | 0.013 | |