| Back to Multiple platform build/check report for BioC 3.16: simplified long |
|
This page was generated on 2023-04-12 11:06:30 -0400 (Wed, 12 Apr 2023).
| Hostname | OS | Arch (*) | R version | Installed pkgs |
|---|---|---|---|---|
| nebbiolo2 | Linux (Ubuntu 20.04.5 LTS) | x86_64 | 4.2.3 (2023-03-15) -- "Shortstop Beagle" | 4502 |
| palomino4 | Windows Server 2022 Datacenter | x64 | 4.2.3 (2023-03-15 ucrt) -- "Shortstop Beagle" | 4282 |
| lconway | macOS 12.5.1 Monterey | x86_64 | 4.2.3 (2023-03-15) -- "Shortstop Beagle" | 4310 |
| Click on any hostname to see more info about the system (e.g. compilers) (*) as reported by 'uname -p', except on Windows and Mac OS X | ||||
|
To the developers/maintainers of the TIN package: - Please allow up to 24 hours (and sometimes 48 hours) for your latest push to git@git.bioconductor.org:packages/TIN.git to reflect on this report. See How and When does the builder pull? When will my changes propagate? for more information. - Make sure to use the following settings in order to reproduce any error or warning you see on this page. |
| Package 2054/2183 | Hostname | OS / Arch | INSTALL | BUILD | CHECK | BUILD BIN | ||||||||
| TIN 1.30.0 (landing page) Bjarne Johannessen
| nebbiolo2 | Linux (Ubuntu 20.04.5 LTS) / x86_64 | OK | OK | OK | |||||||||
| palomino4 | Windows Server 2022 Datacenter / x64 | OK | OK | OK | OK | |||||||||
| lconway | macOS 12.5.1 Monterey / x86_64 | OK | OK | OK | OK | |||||||||
| Package: TIN |
| Version: 1.30.0 |
| Command: rm -rf TIN.buildbin-libdir && mkdir TIN.buildbin-libdir && /Users/biocbuild/BBS/utils/build-universal.sh TIN_1.30.0.tar.gz /Library/Frameworks/R.framework/Resources/bin/R TIN.buildbin-libdir |
| StartedAt: 2023-04-11 00:08:55 -0400 (Tue, 11 Apr 2023) |
| EndedAt: 2023-04-11 00:09:23 -0400 (Tue, 11 Apr 2023) |
| EllapsedTime: 28.5 seconds |
| RetCode: 0 |
| Status: OK |
| PackageFile: TIN_1.30.0.tgz |
| PackageFileSize: 4.565 MiB |
##############################################################################
##############################################################################
###
### Running command:
###
### rm -rf TIN.buildbin-libdir && mkdir TIN.buildbin-libdir && /Users/biocbuild/BBS/utils/build-universal.sh TIN_1.30.0.tar.gz /Library/Frameworks/R.framework/Resources/bin/R TIN.buildbin-libdir
###
##############################################################################
##############################################################################
>>>>>>>
>>>>>>> INSTALLATION WITH 'R CMD INSTALL --preclean --no-multiarch --library=TIN.buildbin-libdir TIN_1.30.0.tar.gz'
>>>>>>>
* installing *source* package ‘TIN’ ...
** using staged installation
** R
** data
** inst
** byte-compile and prepare package for lazy loading
The following object is masked _by_ package:aroma.affymetrix:
writeCdf
The following object is masked from package:R.utils:
findFiles
** help
*** installing help indices
** building package indices
** installing vignettes
** testing if installed package can be loaded from temporary location
The following object is masked _by_ package:aroma.affymetrix:
writeCdf
The following object is masked from package:R.utils:
findFiles
** testing if installed package can be loaded from final location
The following object is masked _by_ package:aroma.affymetrix:
writeCdf
The following object is masked from package:R.utils:
findFiles
** testing if installed package keeps a record of temporary installation path
* DONE (TIN)