| Back to Multiple platform build/check report for BioC 3.16: simplified long |
|
This page was generated on 2023-04-12 11:06:29 -0400 (Wed, 12 Apr 2023).
| Hostname | OS | Arch (*) | R version | Installed pkgs |
|---|---|---|---|---|
| nebbiolo2 | Linux (Ubuntu 20.04.5 LTS) | x86_64 | 4.2.3 (2023-03-15) -- "Shortstop Beagle" | 4502 |
| palomino4 | Windows Server 2022 Datacenter | x64 | 4.2.3 (2023-03-15 ucrt) -- "Shortstop Beagle" | 4282 |
| lconway | macOS 12.5.1 Monterey | x86_64 | 4.2.3 (2023-03-15) -- "Shortstop Beagle" | 4310 |
| Click on any hostname to see more info about the system (e.g. compilers) (*) as reported by 'uname -p', except on Windows and Mac OS X | ||||
|
To the developers/maintainers of the TFutils package: - Please allow up to 24 hours (and sometimes 48 hours) for your latest push to git@git.bioconductor.org:packages/TFutils.git to reflect on this report. See How and When does the builder pull? When will my changes propagate? for more information. - Make sure to use the following settings in order to reproduce any error or warning you see on this page. |
| Package 2042/2183 | Hostname | OS / Arch | INSTALL | BUILD | CHECK | BUILD BIN | ||||||||
| TFutils 1.18.0 (landing page) Vincent Carey
| nebbiolo2 | Linux (Ubuntu 20.04.5 LTS) / x86_64 | OK | OK | OK | |||||||||
| palomino4 | Windows Server 2022 Datacenter / x64 | OK | OK | OK | OK | |||||||||
| lconway | macOS 12.5.1 Monterey / x86_64 | OK | OK | OK | OK | |||||||||
| Package: TFutils |
| Version: 1.18.0 |
| Command: /Library/Frameworks/R.framework/Resources/bin/R CMD check --install=check:TFutils.install-out.txt --library=/Library/Frameworks/R.framework/Resources/library --no-vignettes --timings TFutils_1.18.0.tar.gz |
| StartedAt: 2023-04-10 23:04:53 -0400 (Mon, 10 Apr 2023) |
| EndedAt: 2023-04-10 23:08:51 -0400 (Mon, 10 Apr 2023) |
| EllapsedTime: 238.6 seconds |
| RetCode: 0 |
| Status: OK |
| CheckDir: TFutils.Rcheck |
| Warnings: 0 |
##############################################################################
##############################################################################
###
### Running command:
###
### /Library/Frameworks/R.framework/Resources/bin/R CMD check --install=check:TFutils.install-out.txt --library=/Library/Frameworks/R.framework/Resources/library --no-vignettes --timings TFutils_1.18.0.tar.gz
###
##############################################################################
##############################################################################
* using log directory ‘/Users/biocbuild/bbs-3.16-bioc/meat/TFutils.Rcheck’
* using R version 4.2.3 (2023-03-15)
* using platform: x86_64-apple-darwin17.0 (64-bit)
* using session charset: UTF-8
* using option ‘--no-vignettes’
* checking for file ‘TFutils/DESCRIPTION’ ... OK
* this is package ‘TFutils’ version ‘1.18.0’
* package encoding: UTF-8
* checking package namespace information ... OK
* checking package dependencies ... OK
* checking if this is a source package ... OK
* checking if there is a namespace ... OK
* checking for hidden files and directories ... OK
* checking for portable file names ... OK
* checking for sufficient/correct file permissions ... OK
* checking whether package ‘TFutils’ can be installed ... OK
* checking installed package size ... NOTE
installed size is 5.4Mb
sub-directories of 1Mb or more:
data 3.5Mb
lambert 1.4Mb
* checking package directory ... OK
* checking ‘build’ directory ... OK
* checking DESCRIPTION meta-information ... OK
* checking top-level files ... OK
* checking for left-over files ... OK
* checking index information ... OK
* checking package subdirectories ... OK
* checking R files for non-ASCII characters ... OK
* checking R files for syntax errors ... OK
* checking whether the package can be loaded ... OK
* checking whether the package can be loaded with stated dependencies ... OK
* checking whether the package can be unloaded cleanly ... OK
* checking whether the namespace can be loaded with stated dependencies ... OK
* checking whether the namespace can be unloaded cleanly ... OK
* checking dependencies in R code ... OK
* checking S3 generic/method consistency ... OK
* checking replacement functions ... OK
* checking foreign function calls ... OK
* checking R code for possible problems ... NOTE
fimo_granges : proctext: warning in read.delim(con, h = FALSE,
stringsAsFactors = FALSE, sep = "\t"): partial argument match of 'h'
to 'header'
setupHIZE: warning in read.delim(txtfn, sep = "\t", skip = 3, h =
FALSE, stringsAsFactors = FALSE): partial argument match of 'h' to
'header'
directHitsInCISBP: no visible binding for global variable
‘DISEASE.TRAIT’
directHitsInCISBP: no visible binding for global variable ‘MAPPED_GENE’
directHitsInCISBP: no visible binding for global variable ‘cisbpTFcat’
directHitsInCISBP: no visible binding for global variable ‘HGNC’
directHitsInCISBP: no visible binding for global variable ‘Family_Name’
fimo_granges: no visible global function definition for ‘rowRanges<-’
fimo_granges: no visible global function definition for ‘reduceByRange’
fimo_granges : <anonymous>: no visible global function definition for
‘seqinfo<-’
tffamCirc.prep: no visible binding for global variable ‘TF family’
tffamCirc.prep: no visible binding for global variable ‘TFfamily’
tffamCirc.prep: no visible binding for global variable ‘Transcription
factor’
topTraitsOfTargets: no visible global function definition for ‘mcols’
topTraitsOfTargets: no visible binding for global variable
‘DISEASE.TRAIT’
Undefined global functions or variables:
DISEASE.TRAIT Family_Name HGNC MAPPED_GENE TF family TFfamily
Transcription factor cisbpTFcat mcols reduceByRange rowRanges<-
seqinfo<-
Consider adding
importFrom("base", "factor")
importFrom("stats", "family")
to your NAMESPACE file.
* checking Rd files ... OK
* checking Rd metadata ... OK
* checking Rd cross-references ... OK
* checking for missing documentation entries ... OK
* checking for code/documentation mismatches ... OK
* checking Rd \usage sections ... OK
* checking Rd contents ... OK
* checking for unstated dependencies in examples ... OK
* checking contents of ‘data’ directory ... OK
* checking data for non-ASCII characters ... NOTE
Note: found 62 marked UTF-8 strings
* checking LazyData ... OK
* checking data for ASCII and uncompressed saves ... OK
* checking line endings in Makefiles ... OK
* checking for GNU extensions in Makefiles ... OK
* checking include directives in Makefiles ... OK
* checking files in ‘vignettes’ ... OK
* checking examples ... OK
Examples with CPU (user + system) or elapsed time > 5s
user system elapsed
tffamCirc.plot 17.685 0.393 18.112
tffamCirc.prep 9.750 0.071 9.838
topTraitsOfTargets 7.549 0.329 7.901
fimo16 6.608 0.251 6.872
genemodForGviz 6.323 0.312 6.703
* checking for unstated dependencies in ‘tests’ ... OK
* checking tests ...
Running ‘testthat.R’
OK
* checking for unstated dependencies in vignettes ... OK
* checking package vignettes in ‘inst/doc’ ... OK
* checking running R code from vignettes ... SKIPPED
* checking re-building of vignette outputs ... SKIPPED
* checking PDF version of manual ... OK
* DONE
Status: 3 NOTEs
See
‘/Users/biocbuild/bbs-3.16-bioc/meat/TFutils.Rcheck/00check.log’
for details.
TFutils.Rcheck/00install.out
############################################################################## ############################################################################## ### ### Running command: ### ### /Library/Frameworks/R.framework/Resources/bin/R CMD INSTALL TFutils ### ############################################################################## ############################################################################## * installing to library ‘/Library/Frameworks/R.framework/Versions/4.2/Resources/library’ * installing *source* package ‘TFutils’ ... ** using staged installation ** R ** data *** moving datasets to lazyload DB ** inst ** byte-compile and prepare package for lazy loading ** help *** installing help indices ** building package indices ** installing vignettes ** testing if installed package can be loaded from temporary location ** testing if installed package can be loaded from final location ** testing if installed package keeps a record of temporary installation path * DONE (TFutils)
TFutils.Rcheck/tests/testthat.Rout
R version 4.2.3 (2023-03-15) -- "Shortstop Beagle"
Copyright (C) 2023 The R Foundation for Statistical Computing
Platform: x86_64-apple-darwin17.0 (64-bit)
R is free software and comes with ABSOLUTELY NO WARRANTY.
You are welcome to redistribute it under certain conditions.
Type 'license()' or 'licence()' for distribution details.
R is a collaborative project with many contributors.
Type 'contributors()' for more information and
'citation()' on how to cite R or R packages in publications.
Type 'demo()' for some demos, 'help()' for on-line help, or
'help.start()' for an HTML browser interface to help.
Type 'q()' to quit R.
> library(testthat)
> library(TFutils)
>
> test_check("TFutils")
[ FAIL 0 | WARN 0 | SKIP 0 | PASS 5 ]
>
>
> proc.time()
user system elapsed
13.483 0.661 14.161
TFutils.Rcheck/TFutils-Ex.timings
| name | user | system | elapsed | |
| HGNCmap | 0.000 | 0.000 | 0.001 | |
| TFCatalog | 0.312 | 0.017 | 0.331 | |
| TFtargs | 0 | 0 | 0 | |
| URL_s3_tf | 0.001 | 0.000 | 0.001 | |
| anchor_pmids | 0.005 | 0.000 | 0.004 | |
| browse_gotf_main | 0.000 | 0.000 | 0.001 | |
| browse_humantfs_main | 0 | 0 | 0 | |
| browse_lambert_gwaslinks | 0.000 | 0.000 | 0.001 | |
| browse_lambert_main | 0 | 0 | 0 | |
| cisbpTFcat | 0.048 | 0.004 | 0.052 | |
| cisbpTFcat_2.0 | 0.432 | 0.003 | 0.435 | |
| defaultCircosParms | 0.007 | 0.001 | 0.008 | |
| demo_fimo_granges | 0.006 | 0.001 | 0.006 | |
| directHitsInCISBP | 0.161 | 0.008 | 0.170 | |
| encode690 | 0.029 | 0.001 | 0.031 | |
| fimo16 | 6.608 | 0.251 | 6.872 | |
| fimoMap | 0.001 | 0.000 | 0.001 | |
| fimo_granges | 0.000 | 0.000 | 0.001 | |
| genemodForGviz | 6.323 | 0.312 | 6.703 | |
| genemodelDF | 0.082 | 0.001 | 0.084 | |
| get_rslocs_38 | 0.001 | 0.000 | 0.001 | |
| grabTab | 0.170 | 0.006 | 0.176 | |
| gwascat_hg19_chr17 | 0.036 | 0.002 | 0.038 | |
| hocomoco.mono | 0.003 | 0.001 | 0.003 | |
| hocomoco.mono.sep2018 | 0.003 | 0.000 | 0.004 | |
| importFIMO | 0.030 | 0.001 | 0.032 | |
| importFIMO_local_split | 0.011 | 0.005 | 0.017 | |
| lambert_snps | 0.177 | 0.010 | 0.188 | |
| metadata_tf | 0.005 | 0.006 | 0.012 | |
| named_tf | 0.004 | 0.011 | 0.017 | |
| retrieve_gotf_main | 0 | 0 | 0 | |
| retrieve_humantfs_main | 0 | 0 | 0 | |
| retrieve_lambert_main | 0.001 | 0.000 | 0.000 | |
| seqinfo_hg19_chr17 | 0.004 | 0.001 | 0.005 | |
| tffamCirc.plot | 17.685 | 0.393 | 18.112 | |
| tffamCirc.prep | 9.750 | 0.071 | 9.838 | |
| tfhash | 0.462 | 0.511 | 0.976 | |
| tftColl | 0.160 | 0.002 | 0.163 | |
| tftCollMap | 0.001 | 0.000 | 0.002 | |
| topTraitsOfTargets | 7.549 | 0.329 | 7.901 | |