| Back to Multiple platform build/check report for BioC 3.16: simplified long | 
 | 
This page was generated on 2023-04-12 11:05:21 -0400 (Wed, 12 Apr 2023).
| Hostname | OS | Arch (*) | R version | Installed pkgs | 
|---|---|---|---|---|
| nebbiolo2 | Linux (Ubuntu 20.04.5 LTS) | x86_64 | 4.2.3 (2023-03-15) -- "Shortstop Beagle" | 4502 | 
| palomino4 | Windows Server 2022 Datacenter | x64 | 4.2.3 (2023-03-15 ucrt) -- "Shortstop Beagle" | 4282 | 
| lconway | macOS 12.5.1 Monterey | x86_64 | 4.2.3 (2023-03-15) -- "Shortstop Beagle" | 4310 | 
| Click on any hostname to see more info about the system (e.g. compilers) (*) as reported by 'uname -p', except on Windows and Mac OS X | ||||
| To the developers/maintainers of the TENxIO package: - Please allow up to 24 hours (and sometimes 48 hours) for your latest push to git@git.bioconductor.org:packages/TENxIO.git to reflect on this report. See How and When does the builder pull? When will my changes propagate? for more information. - Make sure to use the following settings in order to reproduce any error or warning you see on this page. | 
| Package 2033/2183 | Hostname | OS / Arch | INSTALL | BUILD | CHECK | BUILD BIN | ||||||||
| TENxIO 1.0.1  (landing page) Marcel Ramos 
 | nebbiolo2 | Linux (Ubuntu 20.04.5 LTS) / x86_64 | OK | OK | OK |  | ||||||||
| palomino4 | Windows Server 2022 Datacenter / x64 | OK | OK | OK | OK |  | ||||||||
| lconway | macOS 12.5.1 Monterey / x86_64 | OK | OK | ERROR | OK | |||||||||
| Package: TENxIO | 
| Version: 1.0.1 | 
| Command: /home/biocbuild/bbs-3.16-bioc/R/bin/R CMD check --install=check:TENxIO.install-out.txt --library=/home/biocbuild/bbs-3.16-bioc/R/site-library --timings TENxIO_1.0.1.tar.gz | 
| StartedAt: 2023-04-11 00:30:34 -0400 (Tue, 11 Apr 2023) | 
| EndedAt: 2023-04-11 00:33:46 -0400 (Tue, 11 Apr 2023) | 
| EllapsedTime: 192.4 seconds | 
| RetCode: 0 | 
| Status: OK | 
| CheckDir: TENxIO.Rcheck | 
| Warnings: 0 | 
##############################################################################
##############################################################################
###
### Running command:
###
###   /home/biocbuild/bbs-3.16-bioc/R/bin/R CMD check --install=check:TENxIO.install-out.txt --library=/home/biocbuild/bbs-3.16-bioc/R/site-library --timings TENxIO_1.0.1.tar.gz
###
##############################################################################
##############################################################################
* using log directory ‘/home/biocbuild/bbs-3.16-bioc/meat/TENxIO.Rcheck’
* using R version 4.2.3 (2023-03-15)
* using platform: x86_64-pc-linux-gnu (64-bit)
* using session charset: UTF-8
* checking for file ‘TENxIO/DESCRIPTION’ ... OK
* checking extension type ... Package
* this is package ‘TENxIO’ version ‘1.0.1’
* package encoding: UTF-8
* checking package namespace information ... OK
* checking package dependencies ... OK
* checking if this is a source package ... OK
* checking if there is a namespace ... OK
* checking for hidden files and directories ... OK
* checking for portable file names ... OK
* checking for sufficient/correct file permissions ... OK
* checking whether package ‘TENxIO’ can be installed ... OK
* checking installed package size ... OK
* checking package directory ... OK
* checking ‘build’ directory ... OK
* checking DESCRIPTION meta-information ... OK
* checking top-level files ... OK
* checking for left-over files ... OK
* checking index information ... OK
* checking package subdirectories ... OK
* checking R files for non-ASCII characters ... OK
* checking R files for syntax errors ... OK
* checking whether the package can be loaded ... OK
* checking whether the package can be loaded with stated dependencies ... OK
* checking whether the package can be unloaded cleanly ... OK
* checking whether the namespace can be loaded with stated dependencies ... OK
* checking whether the namespace can be unloaded cleanly ... OK
* checking loading without being on the library search path ... OK
* checking dependencies in R code ... OK
* checking S3 generic/method consistency ... OK
* checking replacement functions ... OK
* checking foreign function calls ... OK
* checking R code for possible problems ... OK
* checking Rd files ... OK
* checking Rd metadata ... OK
* checking Rd cross-references ... OK
* checking for missing documentation entries ... OK
* checking for code/documentation mismatches ... OK
* checking Rd \usage sections ... OK
* checking Rd contents ... OK
* checking for unstated dependencies in examples ... OK
* checking files in ‘vignettes’ ... OK
* checking examples ... OK
Examples with CPU (user + system) or elapsed time > 5s
          user system elapsed
TENxFile 9.884  0.839  11.259
* checking for unstated dependencies in ‘tests’ ... OK
* checking tests ...
  Running ‘tinytest.R’
 OK
* checking for unstated dependencies in vignettes ... OK
* checking package vignettes in ‘inst/doc’ ... OK
* checking running R code from vignettes ...
  ‘TENxIO.Rmd’ using ‘UTF-8’... OK
 NONE
* checking re-building of vignette outputs ... OK
* checking PDF version of manual ... OK
* DONE
Status: OK
TENxIO.Rcheck/00install.out
############################################################################## ############################################################################## ### ### Running command: ### ### /home/biocbuild/bbs-3.16-bioc/R/bin/R CMD INSTALL TENxIO ### ############################################################################## ############################################################################## * installing to library ‘/home/biocbuild/bbs-3.16-bioc/R/site-library’ * installing *source* package ‘TENxIO’ ... ** using staged installation ** R ** inst ** byte-compile and prepare package for lazy loading ** help *** installing help indices ** building package indices ** installing vignettes ** testing if installed package can be loaded from temporary location ** testing if installed package can be loaded from final location ** testing if installed package keeps a record of temporary installation path * DONE (TENxIO)
TENxIO.Rcheck/tests/tinytest.Rout
R version 4.2.3 (2023-03-15) -- "Shortstop Beagle"
Copyright (C) 2023 The R Foundation for Statistical Computing
Platform: x86_64-pc-linux-gnu (64-bit)
R is free software and comes with ABSOLUTELY NO WARRANTY.
You are welcome to redistribute it under certain conditions.
Type 'license()' or 'licence()' for distribution details.
R is a collaborative project with many contributors.
Type 'contributors()' for more information and
'citation()' on how to cite R or R packages in publications.
Type 'demo()' for some demos, 'help()' for on-line help, or
'help.start()' for an HTML browser interface to help.
Type 'q()' to quit R.
> if (requireNamespace("tinytest", quietly = TRUE))
+     tinytest::test_package("TENxIO")
Loading required package: SingleCellExperiment
Loading required package: SummarizedExperiment
Loading required package: MatrixGenerics
Loading required package: matrixStats
Attaching package: 'MatrixGenerics'
The following objects are masked from 'package:matrixStats':
    colAlls, colAnyNAs, colAnys, colAvgsPerRowSet, colCollapse,
    colCounts, colCummaxs, colCummins, colCumprods, colCumsums,
    colDiffs, colIQRDiffs, colIQRs, colLogSumExps, colMadDiffs,
    colMads, colMaxs, colMeans2, colMedians, colMins, colOrderStats,
    colProds, colQuantiles, colRanges, colRanks, colSdDiffs, colSds,
    colSums2, colTabulates, colVarDiffs, colVars, colWeightedMads,
    colWeightedMeans, colWeightedMedians, colWeightedSds,
    colWeightedVars, rowAlls, rowAnyNAs, rowAnys, rowAvgsPerColSet,
    rowCollapse, rowCounts, rowCummaxs, rowCummins, rowCumprods,
    rowCumsums, rowDiffs, rowIQRDiffs, rowIQRs, rowLogSumExps,
    rowMadDiffs, rowMads, rowMaxs, rowMeans2, rowMedians, rowMins,
    rowOrderStats, rowProds, rowQuantiles, rowRanges, rowRanks,
    rowSdDiffs, rowSds, rowSums2, rowTabulates, rowVarDiffs, rowVars,
    rowWeightedMads, rowWeightedMeans, rowWeightedMedians,
    rowWeightedSds, rowWeightedVars
Loading required package: GenomicRanges
Loading required package: stats4
Loading required package: BiocGenerics
Attaching package: 'BiocGenerics'
The following objects are masked from 'package:stats':
    IQR, mad, sd, var, xtabs
The following objects are masked from 'package:base':
    Filter, Find, Map, Position, Reduce, anyDuplicated, aperm, append,
    as.data.frame, basename, cbind, colnames, dirname, do.call,
    duplicated, eval, evalq, get, grep, grepl, intersect, is.unsorted,
    lapply, mapply, match, mget, order, paste, pmax, pmax.int, pmin,
    pmin.int, rank, rbind, rownames, sapply, setdiff, sort, table,
    tapply, union, unique, unsplit, which.max, which.min
Loading required package: S4Vectors
Attaching package: 'S4Vectors'
The following objects are masked from 'package:base':
    I, expand.grid, unname
Loading required package: IRanges
Loading required package: GenomeInfoDb
Loading required package: Biobase
Welcome to Bioconductor
    Vignettes contain introductory material; view with
    'browseVignettes()'. To cite Bioconductor, see
    'citation("Biobase")', and for packages 'citation("pkgname")'.
Attaching package: 'Biobase'
The following object is masked from 'package:MatrixGenerics':
    rowMedians
The following objects are masked from 'package:matrixStats':
    anyMissing, rowMedians
test_TENxFile-class.R.........    1 tests [0;32mOK[0m 
test_TENxFile-class.R.........    1 tests [0;32mOK[0m 
test_TENxFile-class.R.........    1 tests [0;32mOK[0m 
test_TENxFile-class.R.........    2 tests [0;32mOK[0m 
test_TENxFile-class.R.........    2 tests [0;32mOK[0m 
test_TENxFile-class.R.........    3 tests [0;32mOK[0m 
test_TENxFile-class.R.........    3 tests [0;32mOK[0m 
test_TENxFile-class.R.........    3 tests [0;32mOK[0m 
test_TENxFile-class.R.........    3 tests [0;32mOK[0m 
test_TENxFile-class.R.........    4 tests [0;32mOK[0m 
test_TENxFile-class.R.........    5 tests [0;32mOK[0m 
test_TENxFile-class.R.........    6 tests [0;32mOK[0m 
test_TENxFile-class.R.........    6 tests [0;32mOK[0m 
test_TENxFile-class.R.........    6 tests [0;32mOK[0m 
test_TENxFile-class.R.........    6 tests [0;32mOK[0m 
test_TENxFile-class.R.........    6 tests [0;32mOK[0m 
test_TENxFile-class.R.........    7 tests [0;32mOK[0m 
test_TENxFile-class.R.........    7 tests [0;32mOK[0m 
test_TENxFile-class.R.........    7 tests [0;32mOK[0m 
test_TENxFile-class.R.........    8 tests [0;32mOK[0m 
test_TENxFile-class.R.........    9 tests [0;32mOK[0m [0;34m2.2s[0m
test_TENxFileList-class.R.....    0 tests    
test_TENxFileList-class.R.....    0 tests    
test_TENxFileList-class.R.....    1 tests [0;32mOK[0m 
test_TENxFileList-class.R.....    2 tests [0;32mOK[0m 
test_TENxFileList-class.R.....    3 tests [0;32mOK[0m 
test_TENxFileList-class.R.....    3 tests [0;32mOK[0m 
test_TENxFileList-class.R.....    4 tests [0;32mOK[0m 
test_TENxFileList-class.R.....    5 tests [0;32mOK[0m 
test_TENxFileList-class.R.....    6 tests [0;32mOK[0m 
test_TENxFileList-class.R.....    7 tests [0;32mOK[0m 
test_TENxFileList-class.R.....    8 tests [0;32mOK[0m 
test_TENxFileList-class.R.....    9 tests [0;32mOK[0m [0;34m0.8s[0m
test_TENxFragments-class.R....    0 tests    
test_TENxFragments-class.R....    1 tests [0;32mOK[0m 
test_TENxFragments-class.R....    1 tests [0;32mOK[0m 
test_TENxFragments-class.R....    2 tests [0;32mOK[0m 
test_TENxFragments-class.R....    3 tests [0;32mOK[0m 
test_TENxFragments-class.R....    4 tests [0;32mOK[0m 
test_TENxFragments-class.R....    4 tests [0;32mOK[0m 
test_TENxFragments-class.R....    5 tests [0;32mOK[0m 
test_TENxFragments-class.R....    6 tests [0;32mOK[0m 
test_TENxFragments-class.R....    7 tests [0;32mOK[0m [0;34m1.5s[0m
test_TENxH5-class.R...........    0 tests    
test_TENxH5-class.R...........    0 tests    
test_TENxH5-class.R...........    1 tests [0;32mOK[0m 
test_TENxH5-class.R...........    2 tests [0;32mOK[0m 
test_TENxH5-class.R...........    2 tests [0;32mOK[0m 
test_TENxH5-class.R...........    3 tests [0;32mOK[0m 
test_TENxH5-class.R...........    4 tests [0;32mOK[0m 
test_TENxH5-class.R...........    4 tests [0;32mOK[0m 
test_TENxH5-class.R...........    4 tests [0;32mOK[0m 
test_TENxH5-class.R...........    5 tests [0;32mOK[0m 
test_TENxH5-class.R...........    6 tests [0;32mOK[0m 
test_TENxH5-class.R...........    7 tests [0;32mOK[0m 
test_TENxH5-class.R...........    8 tests [0;32mOK[0m 
test_TENxH5-class.R...........    9 tests [0;32mOK[0m [0;34m1.9s[0m
test_TENxMTX-class.R..........    0 tests    
test_TENxMTX-class.R..........    0 tests    
test_TENxMTX-class.R..........    1 tests [0;32mOK[0m 
test_TENxMTX-class.R..........    2 tests [0;32mOK[0m 
test_TENxMTX-class.R..........    3 tests [0;32mOK[0m 
test_TENxMTX-class.R..........    3 tests [0;32mOK[0m 
test_TENxMTX-class.R..........    4 tests [0;32mOK[0m 
test_TENxMTX-class.R..........    5 tests [0;32mOK[0m 
test_TENxMTX-class.R..........    6 tests [0;32mOK[0m [0;36m23ms[0m
test_TENxPeaks-class.R........    0 tests    
test_TENxPeaks-class.R........    0 tests    
test_TENxPeaks-class.R........    1 tests [0;32mOK[0m 
test_TENxPeaks-class.R........    2 tests [0;32mOK[0m 
test_TENxPeaks-class.R........    2 tests [0;32mOK[0m 
test_TENxPeaks-class.R........    3 tests [0;32mOK[0m 
test_TENxPeaks-class.R........    4 tests [0;32mOK[0m 
test_TENxPeaks-class.R........    5 tests [0;32mOK[0m 
test_TENxPeaks-class.R........    5 tests [0;32mOK[0m 
test_TENxPeaks-class.R........    6 tests [0;32mOK[0m 
test_TENxPeaks-class.R........    7 tests [0;32mOK[0m 
test_TENxPeaks-class.R........    8 tests [0;32mOK[0m 
test_TENxPeaks-class.R........    9 tests [0;32mOK[0m 
test_TENxPeaks-class.R........   10 tests [0;32mOK[0m 
test_TENxPeaks-class.R........   11 tests [0;32mOK[0m 
test_TENxPeaks-class.R........   12 tests [0;32mOK[0m 
test_TENxPeaks-class.R........   13 tests [0;32mOK[0m 
test_TENxPeaks-class.R........   14 tests [0;32mOK[0m [0;34m0.4s[0m
All ok, 54 results (6.9s)
Warning message:
In TENxFragments(fr, extension = "tsv.gz") :
  Using default 'yieldSize' parameter
> 
> proc.time()
   user  system elapsed 
 12.665   0.741  13.735 
TENxIO.Rcheck/TENxIO-Ex.timings
| name | user | system | elapsed | |
| TENxFile | 9.884 | 0.839 | 11.259 | |
| TENxFileList | 0.752 | 0.031 | 0.792 | |
| TENxFragments | 1.788 | 0.136 | 1.923 | |
| TENxH5 | 1.286 | 0.096 | 1.382 | |
| TENxMTX | 0.021 | 0.000 | 0.022 | |
| TENxPeaks | 1.724 | 0.124 | 1.839 | |