| Back to Multiple platform build/check report for BioC 3.16: simplified long |
|
This page was generated on 2023-04-12 11:06:26 -0400 (Wed, 12 Apr 2023).
| Hostname | OS | Arch (*) | R version | Installed pkgs |
|---|---|---|---|---|
| nebbiolo2 | Linux (Ubuntu 20.04.5 LTS) | x86_64 | 4.2.3 (2023-03-15) -- "Shortstop Beagle" | 4502 |
| palomino4 | Windows Server 2022 Datacenter | x64 | 4.2.3 (2023-03-15 ucrt) -- "Shortstop Beagle" | 4282 |
| lconway | macOS 12.5.1 Monterey | x86_64 | 4.2.3 (2023-03-15) -- "Shortstop Beagle" | 4310 |
| Click on any hostname to see more info about the system (e.g. compilers) (*) as reported by 'uname -p', except on Windows and Mac OS X | ||||
|
To the developers/maintainers of the SELEX package: - Please allow up to 24 hours (and sometimes 48 hours) for your latest push to git@git.bioconductor.org:packages/SELEX.git to reflect on this report. See How and When does the builder pull? When will my changes propagate? for more information. - Make sure to use the following settings in order to reproduce any error or warning you see on this page. |
| Package 1834/2183 | Hostname | OS / Arch | INSTALL | BUILD | CHECK | BUILD BIN | ||||||||
| SELEX 1.30.0 (landing page) Harmen J. Bussemaker
| nebbiolo2 | Linux (Ubuntu 20.04.5 LTS) / x86_64 | OK | OK | OK | |||||||||
| palomino4 | Windows Server 2022 Datacenter / x64 | OK | OK | OK | OK | |||||||||
| lconway | macOS 12.5.1 Monterey / x86_64 | OK | OK | OK | OK | |||||||||
| Package: SELEX |
| Version: 1.30.0 |
| Command: /Library/Frameworks/R.framework/Resources/bin/R CMD check --install=check:SELEX.install-out.txt --library=/Library/Frameworks/R.framework/Resources/library --no-vignettes --timings SELEX_1.30.0.tar.gz |
| StartedAt: 2023-04-10 22:36:46 -0400 (Mon, 10 Apr 2023) |
| EndedAt: 2023-04-10 22:38:22 -0400 (Mon, 10 Apr 2023) |
| EllapsedTime: 96.4 seconds |
| RetCode: 0 |
| Status: OK |
| CheckDir: SELEX.Rcheck |
| Warnings: 0 |
##############################################################################
##############################################################################
###
### Running command:
###
### /Library/Frameworks/R.framework/Resources/bin/R CMD check --install=check:SELEX.install-out.txt --library=/Library/Frameworks/R.framework/Resources/library --no-vignettes --timings SELEX_1.30.0.tar.gz
###
##############################################################################
##############################################################################
* using log directory ‘/Users/biocbuild/bbs-3.16-bioc/meat/SELEX.Rcheck’
* using R version 4.2.3 (2023-03-15)
* using platform: x86_64-apple-darwin17.0 (64-bit)
* using session charset: UTF-8
* using option ‘--no-vignettes’
* checking for file ‘SELEX/DESCRIPTION’ ... OK
* this is package ‘SELEX’ version ‘1.30.0’
* checking package namespace information ... OK
* checking package dependencies ... OK
* checking if this is a source package ... OK
* checking if there is a namespace ... OK
* checking for hidden files and directories ... OK
* checking for portable file names ... OK
* checking for sufficient/correct file permissions ... OK
* checking whether package ‘SELEX’ can be installed ... OK
* checking installed package size ... OK
* checking package directory ... OK
* checking ‘build’ directory ... OK
* checking DESCRIPTION meta-information ... OK
* checking top-level files ... OK
* checking for left-over files ... OK
* checking index information ... OK
* checking package subdirectories ... OK
* checking R files for non-ASCII characters ... OK
* checking R files for syntax errors ... OK
* checking whether the package can be loaded ... OK
* checking whether the package can be loaded with stated dependencies ... OK
* checking whether the package can be unloaded cleanly ... OK
* checking whether the namespace can be loaded with stated dependencies ... OK
* checking whether the namespace can be unloaded cleanly ... OK
* checking dependencies in R code ... OK
* checking S3 generic/method consistency ... OK
* checking replacement functions ... OK
* checking foreign function calls ... OK
* checking R code for possible problems ... OK
* checking Rd files ... OK
* checking Rd metadata ... OK
* checking Rd cross-references ... OK
* checking for missing documentation entries ... OK
* checking for code/documentation mismatches ... OK
* checking Rd \usage sections ... OK
* checking Rd contents ... OK
* checking for unstated dependencies in examples ... OK
* checking line endings in Makefiles ... OK
* checking for GNU extensions in Makefiles ... OK
* checking include directives in Makefiles ... OK
* checking sizes of PDF files under ‘inst/doc’ ... OK
* checking files in ‘vignettes’ ... OK
* checking examples ... OK
Examples with CPU (user + system) or elapsed time > 5s
user system elapsed
SELEX 15.618 2.163 5.916
selex.seqfilter 7.055 1.058 2.231
* checking for unstated dependencies in vignettes ... OK
* checking package vignettes in ‘inst/doc’ ... OK
* checking running R code from vignettes ... SKIPPED
* checking re-building of vignette outputs ... SKIPPED
* checking PDF version of manual ... OK
* DONE
Status: OK
SELEX.Rcheck/00install.out
############################################################################## ############################################################################## ### ### Running command: ### ### /Library/Frameworks/R.framework/Resources/bin/R CMD INSTALL SELEX ### ############################################################################## ############################################################################## * installing to library ‘/Library/Frameworks/R.framework/Versions/4.2/Resources/library’ * installing *source* package ‘SELEX’ ... ** using staged installation ** R ** inst ** byte-compile and prepare package for lazy loading ** help *** installing help indices ** building package indices ** installing vignettes ** testing if installed package can be loaded from temporary location ** testing if installed package can be loaded from final location ** testing if installed package keeps a record of temporary installation path * DONE (SELEX)
SELEX.Rcheck/SELEX-Ex.timings
| name | user | system | elapsed | |
| SELEX | 15.618 | 2.163 | 5.916 | |
| selex.affinities | 0.779 | 0.047 | 0.249 | |
| selex.config | 0.088 | 0.009 | 0.026 | |
| selex.countSummary | 0.585 | 0.036 | 0.224 | |
| selex.counts | 1.248 | 0.059 | 0.445 | |
| selex.defineSample | 0.097 | 0.009 | 0.035 | |
| selex.exampledata | 0.076 | 0.011 | 0.025 | |
| selex.fastqPSFM | 0.661 | 0.030 | 0.230 | |
| selex.getAttributes | 0.088 | 0.010 | 0.051 | |
| selex.getRound0 | 0.249 | 0.019 | 0.096 | |
| selex.getSeqfilter | 0.092 | 0.005 | 0.029 | |
| selex.infogain | 1.342 | 0.088 | 0.399 | |
| selex.infogainSummary | 0.498 | 0.030 | 0.192 | |
| selex.jvmStatus | 0.090 | 0.006 | 0.030 | |
| selex.kmax | 0.951 | 0.220 | 0.577 | |
| selex.kmerPSFM | 0.278 | 0.043 | 0.161 | |
| selex.loadAnnotation | 0.142 | 0.014 | 0.079 | |
| selex.mm | 0.332 | 0.022 | 0.184 | |
| selex.mmProb | 0.358 | 0.025 | 0.144 | |
| selex.mmSummary | 0.517 | 0.031 | 0.184 | |
| selex.revcomp | 0.744 | 0.069 | 0.279 | |
| selex.run | 1.363 | 0.056 | 0.365 | |
| selex.sample | 0.255 | 0.010 | 0.066 | |
| selex.samplePSFM | 1.205 | 0.034 | 0.321 | |
| selex.sampleSummary | 0.275 | 0.012 | 0.065 | |
| selex.saveAnnotation | 0.227 | 0.010 | 0.049 | |
| selex.seqfilter | 7.055 | 1.058 | 2.231 | |
| selex.setwd | 0.043 | 0.002 | 0.014 | |
| selex.split | 0.312 | 0.016 | 0.122 | |
| selex.summary | 1.122 | 0.049 | 0.393 | |