| Back to Multiple platform build/check report for BioC 3.16: simplified long | 
 | 
This page was generated on 2023-04-12 11:05:47 -0400 (Wed, 12 Apr 2023).
| Hostname | OS | Arch (*) | R version | Installed pkgs | 
|---|---|---|---|---|
| nebbiolo2 | Linux (Ubuntu 20.04.5 LTS) | x86_64 | 4.2.3 (2023-03-15) -- "Shortstop Beagle" | 4502 | 
| palomino4 | Windows Server 2022 Datacenter | x64 | 4.2.3 (2023-03-15 ucrt) -- "Shortstop Beagle" | 4282 | 
| lconway | macOS 12.5.1 Monterey | x86_64 | 4.2.3 (2023-03-15) -- "Shortstop Beagle" | 4310 | 
| Click on any hostname to see more info about the system (e.g. compilers) (*) as reported by 'uname -p', except on Windows and Mac OS X | ||||
| To the developers/maintainers of the RareVariantVis package: - Please allow up to 24 hours (and sometimes 48 hours) for your latest push to git@git.bioconductor.org:packages/RareVariantVis.git to reflect on this report. See How and When does the builder pull? When will my changes propagate? for more information. - Make sure to use the following settings in order to reproduce any error or warning you see on this page. | 
| Package 1596/2183 | Hostname | OS / Arch | INSTALL | BUILD | CHECK | BUILD BIN | ||||||||
| RareVariantVis 2.26.0  (landing page) Tomasz Stokowy 
 | nebbiolo2 | Linux (Ubuntu 20.04.5 LTS) / x86_64 | OK | OK | OK |  | ||||||||
| palomino4 | Windows Server 2022 Datacenter / x64 | OK | OK | OK | OK |  | ||||||||
| lconway | macOS 12.5.1 Monterey / x86_64 | OK | OK | OK | OK |  | ||||||||
| Package: RareVariantVis | 
| Version: 2.26.0 | 
| Command: chmod a+r RareVariantVis -R && F:\biocbuild\bbs-3.16-bioc\R\bin\R.exe CMD build --keep-empty-dirs --no-resave-data RareVariantVis | 
| StartedAt: 2023-04-10 20:56:01 -0400 (Mon, 10 Apr 2023) | 
| EndedAt: 2023-04-10 20:57:01 -0400 (Mon, 10 Apr 2023) | 
| EllapsedTime: 59.8 seconds | 
| RetCode: 0 | 
| Status: OK | 
| PackageFile: RareVariantVis_2.26.0.tar.gz | 
| PackageFileSize: 2.751 MiB | 
############################################################################## ############################################################################## ### ### Running command: ### ### chmod a+r RareVariantVis -R && F:\biocbuild\bbs-3.16-bioc\R\bin\R.exe CMD build --keep-empty-dirs --no-resave-data RareVariantVis ### ############################################################################## ############################################################################## * checking for file 'RareVariantVis/DESCRIPTION' ... OK * preparing 'RareVariantVis': * checking DESCRIPTION meta-information ... OK * installing the package to build vignettes * creating vignettes ... OK * checking for LF line-endings in source and make files and shell scripts * checking for empty or unneeded directories Omitted 'LazyData' from DESCRIPTION * building 'RareVariantVis_2.26.0.tar.gz'