| Back to Multiple platform build/check report for BioC 3.16: simplified long |
|
This page was generated on 2023-04-12 11:05:50 -0400 (Wed, 12 Apr 2023).
| Hostname | OS | Arch (*) | R version | Installed pkgs |
|---|---|---|---|---|
| nebbiolo2 | Linux (Ubuntu 20.04.5 LTS) | x86_64 | 4.2.3 (2023-03-15) -- "Shortstop Beagle" | 4502 |
| palomino4 | Windows Server 2022 Datacenter | x64 | 4.2.3 (2023-03-15 ucrt) -- "Shortstop Beagle" | 4282 |
| lconway | macOS 12.5.1 Monterey | x86_64 | 4.2.3 (2023-03-15) -- "Shortstop Beagle" | 4310 |
| Click on any hostname to see more info about the system (e.g. compilers) (*) as reported by 'uname -p', except on Windows and Mac OS X | ||||
|
To the developers/maintainers of the RTCGAToolbox package: - Please allow up to 24 hours (and sometimes 48 hours) for your latest push to git@git.bioconductor.org:packages/RTCGAToolbox.git to reflect on this report. See How and When does the builder pull? When will my changes propagate? for more information. - Make sure to use the following settings in order to reproduce any error or warning you see on this page. |
| Package 1742/2183 | Hostname | OS / Arch | INSTALL | BUILD | CHECK | BUILD BIN | ||||||||
| RTCGAToolbox 2.28.4 (landing page) Marcel Ramos
| nebbiolo2 | Linux (Ubuntu 20.04.5 LTS) / x86_64 | OK | OK | OK | |||||||||
| palomino4 | Windows Server 2022 Datacenter / x64 | OK | OK | OK | OK | |||||||||
| lconway | macOS 12.5.1 Monterey / x86_64 | OK | OK | OK | OK | |||||||||
| Package: RTCGAToolbox |
| Version: 2.28.4 |
| Command: F:\biocbuild\bbs-3.16-bioc\R\bin\R.exe CMD check --no-multiarch --install=check:RTCGAToolbox.install-out.txt --library=F:\biocbuild\bbs-3.16-bioc\R\library --no-vignettes --timings RTCGAToolbox_2.28.4.tar.gz |
| StartedAt: 2023-04-11 05:30:22 -0400 (Tue, 11 Apr 2023) |
| EndedAt: 2023-04-11 05:33:27 -0400 (Tue, 11 Apr 2023) |
| EllapsedTime: 185.5 seconds |
| RetCode: 0 |
| Status: OK |
| CheckDir: RTCGAToolbox.Rcheck |
| Warnings: 0 |
##############################################################################
##############################################################################
###
### Running command:
###
### F:\biocbuild\bbs-3.16-bioc\R\bin\R.exe CMD check --no-multiarch --install=check:RTCGAToolbox.install-out.txt --library=F:\biocbuild\bbs-3.16-bioc\R\library --no-vignettes --timings RTCGAToolbox_2.28.4.tar.gz
###
##############################################################################
##############################################################################
* using log directory 'F:/biocbuild/bbs-3.16-bioc/meat/RTCGAToolbox.Rcheck'
* using R version 4.2.3 (2023-03-15 ucrt)
* using platform: x86_64-w64-mingw32 (64-bit)
* using session charset: UTF-8
* using option '--no-vignettes'
* checking for file 'RTCGAToolbox/DESCRIPTION' ... OK
* checking extension type ... Package
* this is package 'RTCGAToolbox' version '2.28.4'
* package encoding: UTF-8
* checking package namespace information ... OK
* checking package dependencies ... OK
* checking if this is a source package ... OK
* checking if there is a namespace ... OK
* checking for hidden files and directories ... OK
* checking for portable file names ... OK
* checking whether package 'RTCGAToolbox' can be installed ... OK
* checking installed package size ... OK
* checking package directory ... OK
* checking 'build' directory ... OK
* checking DESCRIPTION meta-information ... OK
* checking top-level files ... OK
* checking for left-over files ... OK
* checking index information ... OK
* checking package subdirectories ... OK
* checking R files for non-ASCII characters ... OK
* checking R files for syntax errors ... OK
* checking whether the package can be loaded ... OK
* checking whether the package can be loaded with stated dependencies ... OK
* checking whether the package can be unloaded cleanly ... OK
* checking whether the namespace can be loaded with stated dependencies ... OK
* checking whether the namespace can be unloaded cleanly ... OK
* checking dependencies in R code ... OK
* checking S3 generic/method consistency ... OK
* checking replacement functions ... OK
* checking foreign function calls ... OK
* checking R code for possible problems ... OK
* checking Rd files ... OK
* checking Rd metadata ... OK
* checking Rd cross-references ... OK
* checking for missing documentation entries ... OK
* checking for code/documentation mismatches ... OK
* checking Rd \usage sections ... OK
* checking Rd contents ... OK
* checking for unstated dependencies in examples ... OK
* checking contents of 'data' directory ... OK
* checking data for non-ASCII characters ... OK
* checking data for ASCII and uncompressed saves ... OK
* checking files in 'vignettes' ... OK
* checking examples ... OK
Examples with CPU (user + system) or elapsed time > 5s
user system elapsed
biocExtract 6.85 0.31 7.18
getGISTICPeaks 4.90 0.25 6.44
makeSummarizedExperimentFromGISTIC 3.30 0.26 7.02
* checking for unstated dependencies in vignettes ... OK
* checking package vignettes in 'inst/doc' ... OK
* checking running R code from vignettes ... SKIPPED
* checking re-building of vignette outputs ... SKIPPED
* checking PDF version of manual ... OK
* DONE
Status: OK
RTCGAToolbox.Rcheck/00install.out
############################################################################## ############################################################################## ### ### Running command: ### ### F:\biocbuild\bbs-3.16-bioc\R\bin\R.exe CMD INSTALL RTCGAToolbox ### ############################################################################## ############################################################################## * installing to library 'F:/biocbuild/bbs-3.16-bioc/R/library' * installing *source* package 'RTCGAToolbox' ... ** using staged installation ** R ** data ** inst ** byte-compile and prepare package for lazy loading ** help *** installing help indices ** building package indices ** installing vignettes ** testing if installed package can be loaded from temporary location ** testing if installed package can be loaded from final location ** testing if installed package keeps a record of temporary installation path * DONE (RTCGAToolbox)
RTCGAToolbox.Rcheck/RTCGAToolbox-Ex.timings
| name | user | system | elapsed | |
| biocExtract | 6.85 | 0.31 | 7.18 | |
| getBroadSubtypes | 0.08 | 0.05 | 0.25 | |
| getCNGECorrelation | 0.02 | 0.03 | 0.05 | |
| getData | 0.05 | 0.02 | 0.06 | |
| getDiffExpressedGenes | 0.01 | 0.01 | 0.03 | |
| getFirehoseAnalyzeDates | 0 | 0 | 0 | |
| getFirehoseData | 0.02 | 0.03 | 0.05 | |
| getFirehoseDatasets | 0 | 0 | 0 | |
| getFirehoseRunningDates | 0 | 0 | 0 | |
| getGISTICPeaks | 4.90 | 0.25 | 6.44 | |
| getLinks | 0.07 | 0.00 | 0.39 | |
| getMutationRate | 0.01 | 0.02 | 0.04 | |
| getReport | 3.56 | 0.23 | 3.82 | |
| getSurvival | 0.03 | 0.02 | 0.05 | |
| makeSummarizedExperimentFromGISTIC | 3.30 | 0.26 | 7.02 | |
| showResults-CorResult | 0.02 | 0.03 | 0.04 | |
| showResults-DGEResult | 0.00 | 0.03 | 0.03 | |
| showResults | 0.03 | 0.00 | 0.04 | |