| Back to Multiple platform build/check report for BioC 3.16: simplified long |
|
This page was generated on 2023-04-12 11:06:22 -0400 (Wed, 12 Apr 2023).
| Hostname | OS | Arch (*) | R version | Installed pkgs |
|---|---|---|---|---|
| nebbiolo2 | Linux (Ubuntu 20.04.5 LTS) | x86_64 | 4.2.3 (2023-03-15) -- "Shortstop Beagle" | 4502 |
| palomino4 | Windows Server 2022 Datacenter | x64 | 4.2.3 (2023-03-15 ucrt) -- "Shortstop Beagle" | 4282 |
| lconway | macOS 12.5.1 Monterey | x86_64 | 4.2.3 (2023-03-15) -- "Shortstop Beagle" | 4310 |
| Click on any hostname to see more info about the system (e.g. compilers) (*) as reported by 'uname -p', except on Windows and Mac OS X | ||||
|
To the developers/maintainers of the REDseq package: - Please allow up to 24 hours (and sometimes 48 hours) for your latest push to git@git.bioconductor.org:packages/REDseq.git to reflect on this report. See How and When does the builder pull? When will my changes propagate? for more information. - Make sure to use the following settings in order to reproduce any error or warning you see on this page. |
| Package 1640/2183 | Hostname | OS / Arch | INSTALL | BUILD | CHECK | BUILD BIN | ||||||||
| REDseq 1.44.0 (landing page) Lihua Julie Zhu
| nebbiolo2 | Linux (Ubuntu 20.04.5 LTS) / x86_64 | OK | OK | OK | |||||||||
| palomino4 | Windows Server 2022 Datacenter / x64 | OK | OK | OK | OK | |||||||||
| lconway | macOS 12.5.1 Monterey / x86_64 | OK | OK | OK | OK | |||||||||
| Package: REDseq |
| Version: 1.44.0 |
| Command: /Library/Frameworks/R.framework/Resources/bin/R CMD check --install=check:REDseq.install-out.txt --library=/Library/Frameworks/R.framework/Resources/library --no-vignettes --timings REDseq_1.44.0.tar.gz |
| StartedAt: 2023-04-10 22:09:35 -0400 (Mon, 10 Apr 2023) |
| EndedAt: 2023-04-10 22:13:52 -0400 (Mon, 10 Apr 2023) |
| EllapsedTime: 257.4 seconds |
| RetCode: 0 |
| Status: OK |
| CheckDir: REDseq.Rcheck |
| Warnings: 0 |
############################################################################## ############################################################################## ### ### Running command: ### ### /Library/Frameworks/R.framework/Resources/bin/R CMD check --install=check:REDseq.install-out.txt --library=/Library/Frameworks/R.framework/Resources/library --no-vignettes --timings REDseq_1.44.0.tar.gz ### ############################################################################## ############################################################################## * using log directory ‘/Users/biocbuild/bbs-3.16-bioc/meat/REDseq.Rcheck’ * using R version 4.2.3 (2023-03-15) * using platform: x86_64-apple-darwin17.0 (64-bit) * using session charset: UTF-8 * using option ‘--no-vignettes’ * checking for file ‘REDseq/DESCRIPTION’ ... OK * checking extension type ... Package * this is package ‘REDseq’ version ‘1.44.0’ * checking package namespace information ... OK * checking package dependencies ... NOTE Depends: includes the non-default packages: 'BiocGenerics', 'BSgenome.Celegans.UCSC.ce2', 'multtest', 'Biostrings', 'BSgenome', 'ChIPpeakAnno' Adding so many packages to the search path is excessive and importing selectively is preferable. * checking if this is a source package ... OK * checking if there is a namespace ... OK * checking for hidden files and directories ... OK * checking for portable file names ... OK * checking for sufficient/correct file permissions ... OK * checking whether package ‘REDseq’ can be installed ... OK * checking installed package size ... OK * checking package directory ... OK * checking ‘build’ directory ... OK * checking DESCRIPTION meta-information ... OK * checking top-level files ... OK * checking for left-over files ... OK * checking index information ... OK * checking package subdirectories ... OK * checking R files for non-ASCII characters ... OK * checking R files for syntax errors ... OK * checking whether the package can be loaded ... OK * checking whether the package can be loaded with stated dependencies ... OK * checking whether the package can be unloaded cleanly ... OK * checking whether the namespace can be loaded with stated dependencies ... OK * checking whether the namespace can be unloaded cleanly ... OK * checking dependencies in R code ... OK * checking S3 generic/method consistency ... OK * checking replacement functions ... OK * checking foreign function calls ... OK * checking R code for possible problems ... NOTE buildREmap: no visible global function definition for 'start<-' Undefined global functions or variables: start<- * checking Rd files ... OK * checking Rd metadata ... OK * checking Rd cross-references ... OK * checking for missing documentation entries ... OK * checking for code/documentation mismatches ... OK * checking Rd \usage sections ... OK * checking Rd contents ... OK * checking for unstated dependencies in examples ... OK * checking contents of ‘data’ directory ... OK * checking data for non-ASCII characters ... OK * checking data for ASCII and uncompressed saves ... OK * checking sizes of PDF files under ‘inst/doc’ ... OK * checking files in ‘vignettes’ ... OK * checking examples ... OK * checking for unstated dependencies in vignettes ... OK * checking package vignettes in ‘inst/doc’ ... OK * checking running R code from vignettes ... SKIPPED * checking re-building of vignette outputs ... SKIPPED * checking PDF version of manual ... OK * DONE Status: 2 NOTEs See ‘/Users/biocbuild/bbs-3.16-bioc/meat/REDseq.Rcheck/00check.log’ for details.
REDseq.Rcheck/00install.out
############################################################################## ############################################################################## ### ### Running command: ### ### /Library/Frameworks/R.framework/Resources/bin/R CMD INSTALL REDseq ### ############################################################################## ############################################################################## * installing to library ‘/Library/Frameworks/R.framework/Versions/4.2/Resources/library’ * installing *source* package ‘REDseq’ ... ** using staged installation ** R ** data ** inst ** byte-compile and prepare package for lazy loading No methods found in package 'IRanges' for requests: '%in%', 'rep.int' when loading 'REDseq' ** help *** installing help indices ** building package indices ** installing vignettes ** testing if installed package can be loaded from temporary location No methods found in package 'IRanges' for requests: '%in%', 'rep.int' when loading 'REDseq' ** testing if installed package can be loaded from final location No methods found in package 'IRanges' for requests: '%in%', 'rep.int' when loading 'REDseq' ** testing if installed package keeps a record of temporary installation path * DONE (REDseq)
REDseq.Rcheck/REDseq-Ex.timings
| name | user | system | elapsed | |
| REDseq-package | 0.003 | 0.000 | 0.004 | |
| assignSeq2REsite | 0.250 | 0.011 | 0.262 | |
| binom.test.REDseq | 0.009 | 0.000 | 0.009 | |
| buildREmap | 3.912 | 0.118 | 4.047 | |
| compareREDseq | 0.014 | 0.000 | 0.014 | |
| distanceHistSeq2RE | 0.023 | 0.004 | 0.026 | |
| example.REDseq | 0.001 | 0.001 | 0.002 | |
| example.assignedREDseq | 0.001 | 0.001 | 0.003 | |
| example.map | 0.001 | 0.002 | 0.002 | |
| plotCutDistribution | 0.006 | 0.004 | 0.010 | |
| searchPattern | 2.036 | 0.063 | 2.104 | |
| summarizeByRE | 0.003 | 0.002 | 0.005 | |
| summarizeBySeq | 0.004 | 0.003 | 0.006 | |
| writeHits | 0.005 | 0.000 | 0.005 | |