| Back to Multiple platform build/check report for BioC 3.16: simplified long |
|
This page was generated on 2023-04-12 11:06:20 -0400 (Wed, 12 Apr 2023).
| Hostname | OS | Arch (*) | R version | Installed pkgs |
|---|---|---|---|---|
| nebbiolo2 | Linux (Ubuntu 20.04.5 LTS) | x86_64 | 4.2.3 (2023-03-15) -- "Shortstop Beagle" | 4502 |
| palomino4 | Windows Server 2022 Datacenter | x64 | 4.2.3 (2023-03-15 ucrt) -- "Shortstop Beagle" | 4282 |
| lconway | macOS 12.5.1 Monterey | x86_64 | 4.2.3 (2023-03-15) -- "Shortstop Beagle" | 4310 |
| Click on any hostname to see more info about the system (e.g. compilers) (*) as reported by 'uname -p', except on Windows and Mac OS X | ||||
|
To the developers/maintainers of the PING package: - Please allow up to 24 hours (and sometimes 48 hours) for your latest push to git@git.bioconductor.org:packages/PING.git to reflect on this report. See How and When does the builder pull? When will my changes propagate? for more information. - Make sure to use the following settings in order to reproduce any error or warning you see on this page. |
| Package 1487/2183 | Hostname | OS / Arch | INSTALL | BUILD | CHECK | BUILD BIN | ||||||||
| PING 2.42.0 (landing page) Renan Sauteraud
| nebbiolo2 | Linux (Ubuntu 20.04.5 LTS) / x86_64 | OK | OK | WARNINGS | |||||||||
| palomino4 | Windows Server 2022 Datacenter / x64 | OK | OK | WARNINGS | OK | |||||||||
| lconway | macOS 12.5.1 Monterey / x86_64 | OK | OK | WARNINGS | OK | |||||||||
| Package: PING |
| Version: 2.42.0 |
| Command: rm -rf PING.buildbin-libdir && mkdir PING.buildbin-libdir && /Users/biocbuild/BBS/utils/build-universal.sh PING_2.42.0.tar.gz /Library/Frameworks/R.framework/Resources/bin/R PING.buildbin-libdir |
| StartedAt: 2023-04-10 23:57:09 -0400 (Mon, 10 Apr 2023) |
| EndedAt: 2023-04-10 23:58:20 -0400 (Mon, 10 Apr 2023) |
| EllapsedTime: 71.4 seconds |
| RetCode: 0 |
| Status: OK |
| PackageFile: PING_2.42.0.tgz |
| PackageFileSize: 5.636 MiB |
##############################################################################
##############################################################################
###
### Running command:
###
### rm -rf PING.buildbin-libdir && mkdir PING.buildbin-libdir && /Users/biocbuild/BBS/utils/build-universal.sh PING_2.42.0.tar.gz /Library/Frameworks/R.framework/Resources/bin/R PING.buildbin-libdir
###
##############################################################################
##############################################################################
>>>>>>>
>>>>>>> INSTALLATION WITH 'R CMD INSTALL --preclean --no-multiarch --library=PING.buildbin-libdir PING_2.42.0.tar.gz'
>>>>>>>
* installing *source* package ‘PING’ ...
** using staged installation
checking for pkg-config... /usr/local/bin/pkg-config
checking pkg-config is at least version 0.9.0... yes
checking for GSL... yes
configure: creating ./config.status
config.status: creating src/Makevars
** libs
clang -mmacosx-version-min=10.13 -I"/Library/Frameworks/R.framework/Resources/include" -DNDEBUG -I/usr/local/include -fPIC -Wall -g -O2 -c init.c -o init.o
clang -mmacosx-version-min=10.13 -I"/Library/Frameworks/R.framework/Resources/include" -DNDEBUG -I/usr/local/include -fPIC -Wall -g -O2 -c ping.c -o ping.o
ping.c:321:10: warning: using integer absolute value function 'abs' when argument is of floating point type [-Wabsolute-value]
if(abs(REAL(yF)[i]-mu[k]+delta[k]/2.)/sqrt(sF[k])<calpha)
^
ping.c:321:10: note: use function 'fabs' instead
if(abs(REAL(yF)[i]-mu[k]+delta[k]/2.)/sqrt(sF[k])<calpha)
^~~
fabs
ping.c:329:10: warning: using integer absolute value function 'abs' when argument is of floating point type [-Wabsolute-value]
if(abs(REAL(yR)[i]-mu[k]-delta[k]/2.)/sqrt(sR[k])<calpha)
^
ping.c:329:10: note: use function 'fabs' instead
if(abs(REAL(yR)[i]-mu[k]-delta[k]/2.)/sqrt(sR[k])<calpha)
^~~
fabs
ping.c:345:12: warning: using integer absolute value function 'abs' when argument is of floating point type [-Wabsolute-value]
if(abs(REAL(cF)[i]-mu[k]+delta[k]/2.)/sqrt(sF[k])<calpha)
^
ping.c:345:12: note: use function 'fabs' instead
if(abs(REAL(cF)[i]-mu[k]+delta[k]/2.)/sqrt(sF[k])<calpha)
^~~
fabs
ping.c:353:12: warning: using integer absolute value function 'abs' when argument is of floating point type [-Wabsolute-value]
if(abs(REAL(cR)[i]-mu[k]-delta[k]/2.)/sqrt(sR[k])<calpha)
^
ping.c:353:12: note: use function 'fabs' instead
if(abs(REAL(cR)[i]-mu[k]-delta[k]/2.)/sqrt(sR[k])<calpha)
^~~
fabs
ping.c:1536:9: warning: variable 'chiSum' set but not used [-Wunused-but-set-variable]
double chiSum = 0, etaF, etaR, dd, cc;
^
ping.c:3280:20: warning: variable 'tstatMax' set but not used [-Wunused-but-set-variable]
double tstat=0.0,tstatMax=0.0;
^
6 warnings generated.
clang -mmacosx-version-min=10.13 -dynamiclib -Wl,-headerpad_max_install_names -undefined dynamic_lookup -single_module -multiply_defined suppress -L/Library/Frameworks/R.framework/Resources/lib -L/usr/local/lib -o PING.so init.o ping.o -L/usr/local/lib -lgsl -lgslcblas -F/Library/Frameworks/R.framework/.. -framework R -Wl,-framework -Wl,CoreFoundation
installing to /Users/biocbuild/bbs-3.16-bioc/meat/PING.buildbin-libdir/00LOCK-PING/00new/PING/libs
** R
** inst
** byte-compile and prepare package for lazy loading
** help
*** installing help indices
** building package indices
** installing vignettes
** testing if installed package can be loaded from temporary location
** checking absolute paths in shared objects and dynamic libraries
** testing if installed package can be loaded from final location
** testing if installed package keeps a record of temporary installation path
* DONE (PING)
>>>>>>>
>>>>>>> FIXING LINKS FOR PING.buildbin-libdir/PING/libs/PING.so
>>>>>>>
install_name_tool -change "/usr/local/lib/libgcc_s.1.dylib" "/Library/Frameworks/R.framework/Versions/4.2/Resources/lib/libgcc_s.1.dylib" "PING.buildbin-libdir/PING/libs/PING.so"
install_name_tool -change "/usr/local/lib/libgfortran.5.dylib" "/Library/Frameworks/R.framework/Versions/4.2/Resources/lib/libgfortran.5.dylib" "PING.buildbin-libdir/PING/libs/PING.so"
install_name_tool -change "/usr/local/lib/libquadmath.0.dylib" "/Library/Frameworks/R.framework/Versions/4.2/Resources/lib/libquadmath.0.dylib" "PING.buildbin-libdir/PING/libs/PING.so"