| Back to Multiple platform build/check report for BioC 3.16: simplified long |
|
This page was generated on 2023-04-12 11:06:19 -0400 (Wed, 12 Apr 2023).
| Hostname | OS | Arch (*) | R version | Installed pkgs |
|---|---|---|---|---|
| nebbiolo2 | Linux (Ubuntu 20.04.5 LTS) | x86_64 | 4.2.3 (2023-03-15) -- "Shortstop Beagle" | 4502 |
| palomino4 | Windows Server 2022 Datacenter | x64 | 4.2.3 (2023-03-15 ucrt) -- "Shortstop Beagle" | 4282 |
| lconway | macOS 12.5.1 Monterey | x86_64 | 4.2.3 (2023-03-15) -- "Shortstop Beagle" | 4310 |
| Click on any hostname to see more info about the system (e.g. compilers) (*) as reported by 'uname -p', except on Windows and Mac OS X | ||||
|
To the developers/maintainers of the PFP package: - Please allow up to 24 hours (and sometimes 48 hours) for your latest push to git@git.bioconductor.org:packages/PFP.git to reflect on this report. See How and When does the builder pull? When will my changes propagate? for more information. - Make sure to use the following settings in order to reproduce any error or warning you see on this page. |
| Package 1466/2183 | Hostname | OS / Arch | INSTALL | BUILD | CHECK | BUILD BIN | ||||||||
| PFP 1.6.0 (landing page) XC Zhang
| nebbiolo2 | Linux (Ubuntu 20.04.5 LTS) / x86_64 | OK | OK | OK | |||||||||
| palomino4 | Windows Server 2022 Datacenter / x64 | OK | OK | OK | OK | |||||||||
| lconway | macOS 12.5.1 Monterey / x86_64 | OK | OK | OK | OK | |||||||||
| Package: PFP |
| Version: 1.6.0 |
| Command: /Library/Frameworks/R.framework/Resources/bin/R CMD check --install=check:PFP.install-out.txt --library=/Library/Frameworks/R.framework/Resources/library --no-vignettes --timings PFP_1.6.0.tar.gz |
| StartedAt: 2023-04-10 21:49:20 -0400 (Mon, 10 Apr 2023) |
| EndedAt: 2023-04-10 21:52:43 -0400 (Mon, 10 Apr 2023) |
| EllapsedTime: 203.1 seconds |
| RetCode: 0 |
| Status: OK |
| CheckDir: PFP.Rcheck |
| Warnings: 0 |
##############################################################################
##############################################################################
###
### Running command:
###
### /Library/Frameworks/R.framework/Resources/bin/R CMD check --install=check:PFP.install-out.txt --library=/Library/Frameworks/R.framework/Resources/library --no-vignettes --timings PFP_1.6.0.tar.gz
###
##############################################################################
##############################################################################
* using log directory ‘/Users/biocbuild/bbs-3.16-bioc/meat/PFP.Rcheck’
* using R version 4.2.3 (2023-03-15)
* using platform: x86_64-apple-darwin17.0 (64-bit)
* using session charset: UTF-8
* using option ‘--no-vignettes’
* checking for file ‘PFP/DESCRIPTION’ ... OK
* checking extension type ... Package
* this is package ‘PFP’ version ‘1.6.0’
* package encoding: UTF-8
* checking package namespace information ... OK
* checking package dependencies ... OK
* checking if this is a source package ... OK
* checking if there is a namespace ... OK
* checking for hidden files and directories ... OK
* checking for portable file names ... OK
* checking for sufficient/correct file permissions ... OK
* checking whether package ‘PFP’ can be installed ... OK
* checking installed package size ... OK
* checking package directory ... OK
* checking ‘build’ directory ... OK
* checking DESCRIPTION meta-information ... OK
* checking top-level files ... OK
* checking for left-over files ... OK
* checking index information ... OK
* checking package subdirectories ... OK
* checking R files for non-ASCII characters ... OK
* checking R files for syntax errors ... OK
* checking whether the package can be loaded ... OK
* checking whether the package can be loaded with stated dependencies ... OK
* checking whether the package can be unloaded cleanly ... OK
* checking whether the namespace can be loaded with stated dependencies ... OK
* checking whether the namespace can be unloaded cleanly ... OK
* checking dependencies in R code ... OK
* checking S3 generic/method consistency ... OK
* checking replacement functions ... OK
* checking foreign function calls ... OK
* checking R code for possible problems ... OK
* checking Rd files ... OK
* checking Rd metadata ... OK
* checking Rd cross-references ... OK
* checking for missing documentation entries ... OK
* checking for code/documentation mismatches ... OK
* checking Rd \usage sections ... OK
* checking Rd contents ... OK
* checking for unstated dependencies in examples ... OK
* checking contents of ‘data’ directory ... OK
* checking data for non-ASCII characters ... OK
* checking data for ASCII and uncompressed saves ... OK
* checking files in ‘vignettes’ ... OK
* checking examples ... OK
Examples with CPU (user + system) or elapsed time > 5s
user system elapsed
calc_PFP_score 10.18 0.128 10.328
* checking for unstated dependencies in ‘tests’ ... OK
* checking tests ...
Running ‘testthat.R’
OK
* checking for unstated dependencies in vignettes ... OK
* checking package vignettes in ‘inst/doc’ ... OK
* checking running R code from vignettes ... SKIPPED
* checking re-building of vignette outputs ... SKIPPED
* checking PDF version of manual ... OK
* DONE
Status: OK
PFP.Rcheck/00install.out
############################################################################## ############################################################################## ### ### Running command: ### ### /Library/Frameworks/R.framework/Resources/bin/R CMD INSTALL PFP ### ############################################################################## ############################################################################## * installing to library ‘/Library/Frameworks/R.framework/Versions/4.2/Resources/library’ * installing *source* package ‘PFP’ ... ** using staged installation ** R ** data ** byte-compile and prepare package for lazy loading ** help *** installing help indices ** building package indices ** installing vignettes ** testing if installed package can be loaded from temporary location ** testing if installed package can be loaded from final location ** testing if installed package keeps a record of temporary installation path * DONE (PFP)
PFP.Rcheck/tests/testthat.Rout
R version 4.2.3 (2023-03-15) -- "Shortstop Beagle"
Copyright (C) 2023 The R Foundation for Statistical Computing
Platform: x86_64-apple-darwin17.0 (64-bit)
R is free software and comes with ABSOLUTELY NO WARRANTY.
You are welcome to redistribute it under certain conditions.
Type 'license()' or 'licence()' for distribution details.
R is a collaborative project with many contributors.
Type 'contributors()' for more information and
'citation()' on how to cite R or R packages in publications.
Type 'demo()' for some demos, 'help()' for on-line help, or
'help.start()' for an HTML browser interface to help.
Type 'q()' to quit R.
> library(testthat)
> library(PFP)
> test_check('PFP')
[ FAIL 0 | WARN 6 | SKIP 0 | PASS 31 ]
[ FAIL 0 | WARN 6 | SKIP 0 | PASS 31 ]
>
> proc.time()
user system elapsed
7.315 0.447 7.775
PFP.Rcheck/PFP-Ex.timings
| name | user | system | elapsed | |
| PFP-class | 0.096 | 0.033 | 0.129 | |
| PFPRefnet-class | 0.441 | 0.042 | 0.484 | |
| PFPRefnet_hsa | 0.356 | 0.003 | 0.360 | |
| PFPRefnet_mmu | 0.322 | 0.004 | 0.326 | |
| PFP_score-methods | 0.004 | 0.001 | 0.004 | |
| PFP_test1 | 0.003 | 0.001 | 0.004 | |
| PFP_test2 | 0.005 | 0.001 | 0.006 | |
| calc_PFP_score | 10.180 | 0.128 | 10.328 | |
| data_std | 0.008 | 0.001 | 0.009 | |
| gene_list_hsa | 0.001 | 0.001 | 0.001 | |
| genes_score-methods | 0.004 | 0.001 | 0.004 | |
| get_PFPRefnet | 0.000 | 0.001 | 0.000 | |
| get_asso_net | 2.300 | 0.101 | 2.410 | |
| get_bg_related_kegg | 1.358 | 0.033 | 1.394 | |
| get_exp_cor_edges | 0.131 | 0.011 | 0.141 | |
| get_pathway_info | 0.065 | 0.005 | 2.367 | |
| group-methods | 0.274 | 0.002 | 0.278 | |
| kegg_download | 0.001 | 0.000 | 0.000 | |
| net_info-methods | 0.274 | 0.003 | 0.277 | |
| net_names-methods | 0.241 | 0.005 | 0.245 | |
| network-methods | 0.279 | 0.008 | 0.286 | |
| pathway_info | 0.003 | 0.001 | 0.004 | |
| pathway_info_hsa | 0.001 | 0.001 | 0.002 | |
| pathways_score-methods | 0.003 | 0.001 | 0.004 | |
| plot_PFP-methods | 0.237 | 0.006 | 0.243 | |
| plot_PFPlist | 0.203 | 0.003 | 0.206 | |
| rank_PFP-methods | 0.120 | 0.039 | 0.159 | |
| refnet_info-methods | 0.004 | 0.001 | 0.005 | |
| refnet_names-methods | 0.004 | 0.001 | 0.006 | |
| result_PFP-methods | 0.004 | 0.001 | 0.005 | |
| show_PFP-methods | 0.005 | 0.005 | 0.011 | |
| show_net-methods | 0.311 | 0.002 | 0.313 | |
| stats_test-methods | 0.003 | 0.000 | 0.004 | |
| sub_PFP-methods | 0.093 | 0.029 | 0.123 | |
| subnet-methods | 0.271 | 0.006 | 0.277 | |
| trans_edges_id | 1.579 | 0.034 | 1.617 | |
| trans_graph2PFPRefnet | 0.436 | 0.038 | 0.475 | |
| trans_xml2graph | 0.001 | 0.000 | 0.000 | |