| Back to Multiple platform build/check report for BioC 3.16: simplified long | 
 | 
This page was generated on 2023-04-12 11:05:40 -0400 (Wed, 12 Apr 2023).
| Hostname | OS | Arch (*) | R version | Installed pkgs | 
|---|---|---|---|---|
| nebbiolo2 | Linux (Ubuntu 20.04.5 LTS) | x86_64 | 4.2.3 (2023-03-15) -- "Shortstop Beagle" | 4502 | 
| palomino4 | Windows Server 2022 Datacenter | x64 | 4.2.3 (2023-03-15 ucrt) -- "Shortstop Beagle" | 4282 | 
| lconway | macOS 12.5.1 Monterey | x86_64 | 4.2.3 (2023-03-15) -- "Shortstop Beagle" | 4310 | 
| Click on any hostname to see more info about the system (e.g. compilers) (*) as reported by 'uname -p', except on Windows and Mac OS X | ||||
| To the developers/maintainers of the MethCP package: - Please allow up to 24 hours (and sometimes 48 hours) for your latest push to git@git.bioconductor.org:packages/MethCP.git to reflect on this report. See How and When does the builder pull? When will my changes propagate? for more information. - Make sure to use the following settings in order to reproduce any error or warning you see on this page. | 
| Package 1162/2183 | Hostname | OS / Arch | INSTALL | BUILD | CHECK | BUILD BIN | ||||||||
| MethCP 1.12.0  (landing page) Boying Gong 
 | nebbiolo2 | Linux (Ubuntu 20.04.5 LTS) / x86_64 | OK | OK | ERROR | |||||||||
| palomino4 | Windows Server 2022 Datacenter / x64 | OK | OK | ERROR | OK | |||||||||
| lconway | macOS 12.5.1 Monterey / x86_64 | OK | OK | ERROR | OK | |||||||||
| Package: MethCP | 
| Version: 1.12.0 | 
| Command: rm -rf MethCP.buildbin-libdir && mkdir MethCP.buildbin-libdir && F:\biocbuild\bbs-3.16-bioc\R\bin\R.exe CMD INSTALL --build --library=MethCP.buildbin-libdir MethCP_1.12.0.tar.gz | 
| StartedAt: 2023-04-11 08:17:10 -0400 (Tue, 11 Apr 2023) | 
| EndedAt: 2023-04-11 08:18:08 -0400 (Tue, 11 Apr 2023) | 
| EllapsedTime: 58.1 seconds | 
| RetCode: 0 | 
| Status: OK | 
| PackageFile: MethCP_1.12.0.zip | 
| PackageFileSize: 4.695 MiB | 
############################################################################## ############################################################################## ### ### Running command: ### ### rm -rf MethCP.buildbin-libdir && mkdir MethCP.buildbin-libdir && F:\biocbuild\bbs-3.16-bioc\R\bin\R.exe CMD INSTALL --build --library=MethCP.buildbin-libdir MethCP_1.12.0.tar.gz ### ############################################################################## ############################################################################## * installing *source* package 'MethCP' ... ** using staged installation ** R ** inst ** byte-compile and prepare package for lazy loading Note: possible error in 'DMLtest(o, group1, group2, ': unused argument (BPPARAM = bpparam()) ** help *** installing help indices ** building package indices ** installing vignettes ** testing if installed package can be loaded from temporary location ** testing if installed package can be loaded from final location ** testing if installed package keeps a record of temporary installation path * MD5 sums packaged installation of 'MethCP' as MethCP_1.12.0.zip * DONE (MethCP)