| Back to Multiple platform build/check report for BioC 3.16: simplified long | 
  | 
This page was generated on 2023-04-12 11:06:16 -0400 (Wed, 12 Apr 2023).
| Hostname | OS | Arch (*) | R version | Installed pkgs | 
|---|---|---|---|---|
| nebbiolo2 | Linux (Ubuntu 20.04.5 LTS) | x86_64 | 4.2.3 (2023-03-15) -- "Shortstop Beagle" | 4502 | 
| palomino4 | Windows Server 2022 Datacenter | x64 | 4.2.3 (2023-03-15 ucrt) -- "Shortstop Beagle" | 4282 | 
| lconway | macOS 12.5.1 Monterey | x86_64 | 4.2.3 (2023-03-15) -- "Shortstop Beagle" | 4310 | 
| Click on any hostname to see more info about the system (e.g. compilers) (*) as reported by 'uname -p', except on Windows and Mac OS X | ||||
| 
To the developers/maintainers of the MSstatsLiP package: - Please allow up to 24 hours (and sometimes 48 hours) for your latest push to git@git.bioconductor.org:packages/MSstatsLiP.git to reflect on this report. See How and When does the builder pull? When will my changes propagate? for more information. - Make sure to use the following settings in order to reproduce any error or warning you see on this page.  | 
| Package 1285/2183 | Hostname | OS / Arch | INSTALL | BUILD | CHECK | BUILD BIN | ||||||||
| MSstatsLiP 1.4.1  (landing page) Devon Kohler 
  | nebbiolo2 | Linux (Ubuntu 20.04.5 LTS) / x86_64 | OK | OK | OK | |||||||||
| palomino4 | Windows Server 2022 Datacenter / x64 | OK | OK | OK | OK | |||||||||
| lconway | macOS 12.5.1 Monterey / x86_64 | OK | OK | OK | OK | |||||||||
| Package: MSstatsLiP | 
| Version: 1.4.1 | 
| Command: /Library/Frameworks/R.framework/Resources/bin/R CMD check --install=check:MSstatsLiP.install-out.txt --library=/Library/Frameworks/R.framework/Resources/library --no-vignettes --timings MSstatsLiP_1.4.1.tar.gz | 
| StartedAt: 2023-04-10 21:25:13 -0400 (Mon, 10 Apr 2023) | 
| EndedAt: 2023-04-10 21:28:31 -0400 (Mon, 10 Apr 2023) | 
| EllapsedTime: 197.7 seconds | 
| RetCode: 0 | 
| Status: OK | 
| CheckDir: MSstatsLiP.Rcheck | 
| Warnings: 0 | 
##############################################################################
##############################################################################
###
### Running command:
###
###   /Library/Frameworks/R.framework/Resources/bin/R CMD check --install=check:MSstatsLiP.install-out.txt --library=/Library/Frameworks/R.framework/Resources/library --no-vignettes --timings MSstatsLiP_1.4.1.tar.gz
###
##############################################################################
##############################################################################
* using log directory ‘/Users/biocbuild/bbs-3.16-bioc/meat/MSstatsLiP.Rcheck’
* using R version 4.2.3 (2023-03-15)
* using platform: x86_64-apple-darwin17.0 (64-bit)
* using session charset: UTF-8
* using option ‘--no-vignettes’
* checking for file ‘MSstatsLiP/DESCRIPTION’ ... OK
* checking extension type ... Package
* this is package ‘MSstatsLiP’ version ‘1.4.1’
* package encoding: UTF-8
* checking package namespace information ... OK
* checking package dependencies ... OK
* checking if this is a source package ... OK
* checking if there is a namespace ... OK
* checking for hidden files and directories ... OK
* checking for portable file names ... OK
* checking for sufficient/correct file permissions ... OK
* checking whether package ‘MSstatsLiP’ can be installed ... OK
* checking installed package size ... OK
* checking package directory ... OK
* checking ‘build’ directory ... OK
* checking DESCRIPTION meta-information ... OK
* checking top-level files ... OK
* checking for left-over files ... OK
* checking index information ... OK
* checking package subdirectories ... OK
* checking R files for non-ASCII characters ... OK
* checking R files for syntax errors ... OK
* checking whether the package can be loaded ... OK
* checking whether the package can be loaded with stated dependencies ... OK
* checking whether the package can be unloaded cleanly ... OK
* checking whether the namespace can be loaded with stated dependencies ... OK
* checking whether the namespace can be unloaded cleanly ... OK
* checking dependencies in R code ... OK
* checking S3 generic/method consistency ... OK
* checking replacement functions ... OK
* checking foreign function calls ... OK
* checking R code for possible problems ... NOTE
ResistanceBarcodePlotLiP: no visible binding for global variable
  ‘GROUP’
ResistanceBarcodePlotLiP: no visible binding for global variable
  ‘Protein’
ResistanceBarcodePlotLiP: no visible binding for global variable
  ‘uniprot_iso’
ResistanceBarcodePlotLiP: no visible binding for global variable
  ‘PeptideSequence’
ResistanceBarcodePlotLiP: no visible binding for global variable
  ‘Accessibility_ratio’
ResistanceBarcodePlotLiP: no visible binding for global variable
  ‘Index’
ResistanceBarcodePlotLiP: no visible binding for global variable
  ‘Label’
ResistanceBarcodePlotLiP: no visible binding for global variable ‘sig’
ResistanceBarcodePlotLiP: no visible binding for global variable
  ‘Coverage’
StructuralBarcodePlotLiP: no visible binding for global variable
  ‘NSEMI_TRI’
StructuralBarcodePlotLiP: no visible binding for global variable
  ‘CSEMI_TRI’
calculateProteolyticResistance: no visible binding for global variable
  ‘LogIntensities’
calculateProteolyticResistance: no visible binding for global variable
  ‘Protein.y’
Undefined global functions or variables:
  Accessibility_ratio CSEMI_TRI Coverage GROUP Index Label
  LogIntensities NSEMI_TRI PeptideSequence Protein Protein.y sig
  uniprot_iso
* checking Rd files ... OK
* checking Rd metadata ... OK
* checking Rd cross-references ... OK
* checking for missing documentation entries ... OK
* checking for code/documentation mismatches ... OK
* checking Rd \usage sections ... OK
* checking Rd contents ... OK
* checking for unstated dependencies in examples ... OK
* checking contents of ‘data’ directory ... OK
* checking data for non-ASCII characters ... OK
* checking LazyData ... OK
* checking data for ASCII and uncompressed saves ... OK
* checking line endings in C/C++/Fortran sources/headers ... OK
* checking compiled code ... NOTE
Note: information on .o files is not available
* checking files in ‘vignettes’ ... OK
* checking examples ... OK
Examples with CPU (user + system) or elapsed time > 5s
                      user system elapsed
dataProcessPlotsLiP 22.433  0.208  22.726
* checking for unstated dependencies in ‘tests’ ... OK
* checking tests ...
  Running ‘tinytest.R’
 OK
* checking for unstated dependencies in vignettes ... OK
* checking package vignettes in ‘inst/doc’ ... OK
* checking running R code from vignettes ... SKIPPED
* checking re-building of vignette outputs ... SKIPPED
* checking PDF version of manual ... OK
* DONE
Status: 2 NOTEs
See
  ‘/Users/biocbuild/bbs-3.16-bioc/meat/MSstatsLiP.Rcheck/00check.log’
for details.
MSstatsLiP.Rcheck/00install.out
############################################################################## ############################################################################## ### ### Running command: ### ### /Library/Frameworks/R.framework/Resources/bin/R CMD INSTALL MSstatsLiP ### ############################################################################## ############################################################################## * installing to library ‘/Library/Frameworks/R.framework/Versions/4.2/Resources/library’ * installing *source* package ‘MSstatsLiP’ ... ** using staged installation ** libs clang++ -mmacosx-version-min=10.13 -std=gnu++14 -I"/Library/Frameworks/R.framework/Resources/include" -DNDEBUG -I'/Library/Frameworks/R.framework/Versions/4.2/Resources/library/Rcpp/include' -I/usr/local/include -fPIC -Wall -g -O2 -c RcppExports.cpp -o RcppExports.o clang++ -mmacosx-version-min=10.13 -std=gnu++14 -I"/Library/Frameworks/R.framework/Resources/include" -DNDEBUG -I'/Library/Frameworks/R.framework/Versions/4.2/Resources/library/Rcpp/include' -I/usr/local/include -fPIC -Wall -g -O2 -c model_adjustment.cpp -o model_adjustment.o clang++ -mmacosx-version-min=10.13 -std=gnu++14 -dynamiclib -Wl,-headerpad_max_install_names -undefined dynamic_lookup -single_module -multiply_defined suppress -L/Library/Frameworks/R.framework/Resources/lib -L/usr/local/lib -o MSstatsLiP.so RcppExports.o model_adjustment.o -F/Library/Frameworks/R.framework/.. -framework R -Wl,-framework -Wl,CoreFoundation installing to /Library/Frameworks/R.framework/Versions/4.2/Resources/library/00LOCK-MSstatsLiP/00new/MSstatsLiP/libs ** R ** data *** moving datasets to lazyload DB ** inst ** byte-compile and prepare package for lazy loading ** help *** installing help indices ** building package indices ** installing vignettes ** testing if installed package can be loaded from temporary location ** checking absolute paths in shared objects and dynamic libraries ** testing if installed package can be loaded from final location ** testing if installed package keeps a record of temporary installation path * DONE (MSstatsLiP)
MSstatsLiP.Rcheck/tests/tinytest.Rout
R version 4.2.3 (2023-03-15) -- "Shortstop Beagle"
Copyright (C) 2023 The R Foundation for Statistical Computing
Platform: x86_64-apple-darwin17.0 (64-bit)
R is free software and comes with ABSOLUTELY NO WARRANTY.
You are welcome to redistribute it under certain conditions.
Type 'license()' or 'licence()' for distribution details.
R is a collaborative project with many contributors.
Type 'contributors()' for more information and
'citation()' on how to cite R or R packages in publications.
Type 'demo()' for some demos, 'help()' for on-line help, or
'help.start()' for an HTML browser interface to help.
Type 'q()' to quit R.
> 
> if ( requireNamespace("tinytest", quietly=TRUE) ){
+   tinytest::test_package("MSstatsLiP")
+ }
test_SkylinetoMSstatsLiPFormat.R    0 tests    
test_SkylinetoMSstatsLiPFormat.R    1 tests [0;32mOK[0m 
test_SkylinetoMSstatsLiPFormat.R    2 tests [0;32mOK[0m INFO  [2023-04-10 21:27:45] ** Raw data from Skyline imported successfully.
INFO  [2023-04-10 21:27:45] ** Raw data from Skyline cleaned successfully.
test_SkylinetoMSstatsLiPFormat.R    3 tests [0;32mOK[0m INFO  [2023-04-10 21:27:45] ** Raw data from Skyline imported successfully.
INFO  [2023-04-10 21:27:45] ** Raw data from Skyline cleaned successfully.
INFO  [2023-04-10 21:27:45] ** Using annotation extracted from quantification data.
test_SkylinetoMSstatsLiPFormat.R    4 tests [0;32mOK[0m INFO  [2023-04-10 21:27:45] ** Raw data from Skyline imported successfully.
INFO  [2023-04-10 21:27:45] ** Raw data from Skyline cleaned successfully.
INFO  [2023-04-10 21:27:45] ** Using annotation extracted from quantification data.
test_SkylinetoMSstatsLiPFormat.R    5 tests [0;32mOK[0m INFO  [2023-04-10 21:27:45] ** Raw data from Skyline imported successfully.
INFO  [2023-04-10 21:27:45] ** Raw data from Skyline cleaned successfully.
INFO  [2023-04-10 21:27:45] ** Using annotation extracted from quantification data.
test_SkylinetoMSstatsLiPFormat.R    6 tests [0;32mOK[0m INFO  [2023-04-10 21:27:45] ** Raw data from Skyline imported successfully.
INFO  [2023-04-10 21:27:45] ** Raw data from Skyline cleaned successfully.
INFO  [2023-04-10 21:27:45] ** Using annotation extracted from quantification data.
test_SkylinetoMSstatsLiPFormat.R    7 tests [0;32mOK[0m INFO  [2023-04-10 21:27:45] ** Raw data from Skyline imported successfully.
INFO  [2023-04-10 21:27:45] ** Raw data from Skyline cleaned successfully.
INFO  [2023-04-10 21:27:45] ** Using annotation extracted from quantification data.
test_SkylinetoMSstatsLiPFormat.R    8 tests [0;32mOK[0m INFO  [2023-04-10 21:27:45] ** Raw data from Skyline imported successfully.
INFO  [2023-04-10 21:27:45] ** Raw data from Skyline cleaned successfully.
INFO  [2023-04-10 21:27:45] ** Using annotation extracted from quantification data.
test_SkylinetoMSstatsLiPFormat.R    9 tests [0;32mOK[0m INFO  [2023-04-10 21:27:45] ** Raw data from Skyline imported successfully.
INFO  [2023-04-10 21:27:45] ** Raw data from Skyline cleaned successfully.
INFO  [2023-04-10 21:27:45] ** Using annotation extracted from quantification data.
test_SkylinetoMSstatsLiPFormat.R   10 tests [0;32mOK[0m [0;34m0.4s[0m
test_SpectronauttoMSstatsLiPFormat.R    0 tests    
test_SpectronauttoMSstatsLiPFormat.R    0 tests    
test_SpectronauttoMSstatsLiPFormat.R    1 tests [0;32mOK[0m 
test_SpectronauttoMSstatsLiPFormat.R    2 tests [0;32mOK[0m INFO  [2023-04-10 21:27:46] ** Raw data from Spectronaut imported successfully.
INFO  [2023-04-10 21:27:46] ** Raw data from Spectronaut cleaned successfully.
INFO  [2023-04-10 21:27:46] ** Using annotation extracted from quantification data.
INFO  [2023-04-10 21:27:46] ** Run labels were standardized to remove symbols such as '.' or '%'.
INFO  [2023-04-10 21:27:46] ** The following options are used:
  - Features will be defined by the columns: PeptideSequence, PrecursorCharge, FragmentIon, ProductCharge
  - Shared peptides will be removed.
  - Proteins with single feature will not be removed.
  - Features with less than 3 measurements across runs will be removed.
WARN  [2023-04-10 21:27:46] ** PGQvalue not found in input columns.
INFO  [2023-04-10 21:27:46] ** Intensities with values not smaller than 0.01 in EGQvalue are replaced with 0
INFO  [2023-04-10 21:27:46] ** Features with all missing measurements across runs are removed.
INFO  [2023-04-10 21:27:46] ** Shared peptides are removed.
INFO  [2023-04-10 21:27:46] ** Multiple measurements in a feature and a run are summarized by summaryforMultipleRows: max
INFO  [2023-04-10 21:27:46] ** Features with one or two measurements across runs are removed.
INFO  [2023-04-10 21:27:46] ** Run annotation merged with quantification data.
INFO  [2023-04-10 21:27:46] ** Features with one or two measurements across runs are removed.
INFO  [2023-04-10 21:27:46] ** Fractionation handled.
INFO  [2023-04-10 21:27:46] ** Updated quantification data to make balanced design. Missing values are marked by NA
INFO  [2023-04-10 21:27:46] ** Finished preprocessing. The dataset is ready to be processed by the dataProcess function.
test_SpectronauttoMSstatsLiPFormat.R    3 tests [0;32mOK[0m 
test_SpectronauttoMSstatsLiPFormat.R    4 tests [0;32mOK[0m 
test_SpectronauttoMSstatsLiPFormat.R    5 tests [0;32mOK[0m 
test_SpectronauttoMSstatsLiPFormat.R    6 tests [0;32mOK[0m INFO  [2023-04-10 21:27:46] ** Raw data from Spectronaut imported successfully.
INFO  [2023-04-10 21:27:46] ** Raw data from Spectronaut cleaned successfully.
INFO  [2023-04-10 21:27:46] ** Using annotation extracted from quantification data.
INFO  [2023-04-10 21:27:46] ** Run labels were standardized to remove symbols such as '.' or '%'.
test_SpectronauttoMSstatsLiPFormat.R    7 tests [0;32mOK[0m 
test_SpectronauttoMSstatsLiPFormat.R    8 tests [0;32mOK[0m 
test_SpectronauttoMSstatsLiPFormat.R    9 tests [0;32mOK[0m [0;34m0.8s[0m
test_dataProcessPlotsLiP.R....    0 tests    
test_dataProcessPlotsLiP.R....    1 tests [0;32mOK[0m 
test_dataProcessPlotsLiP.R....    2 tests [0;32mOK[0m 
test_dataProcessPlotsLiP.R....    3 tests [0;32mOK[0m 
test_dataProcessPlotsLiP.R....    4 tests [0;32mOK[0m 
test_dataProcessPlotsLiP.R....    5 tests [0;32mOK[0m 
test_dataProcessPlotsLiP.R....    6 tests [0;32mOK[0m 
test_dataProcessPlotsLiP.R....    7 tests [0;32mOK[0m 
test_dataProcessPlotsLiP.R....    8 tests [0;32mOK[0m 
test_dataProcessPlotsLiP.R....    9 tests [0;32mOK[0m 
test_dataProcessPlotsLiP.R....   10 tests [0;32mOK[0m Drew the Profile plot for P14164_ILQNDLK (1 of 14)
Drew the Profile plot for P17891_ALQLINQDDADIIGGRDR (2 of 14)
Drew the Profile plot for P17891_DDDTDFLK (3 of 14)
Drew the Profile plot for P36112_SNDLLSGLTGSSQTR (4 of 14)
Drew the Profile plot for P38805_LGQTVGR (5 of 14)
Drew the Profile plot for P46959_DIIGKPYGSQIAIR (6 of 14)
Drew the Profile plot for P52893_SSSQGVEGIRK (7 of 14)
Drew the Profile plot for P52911_TWITEDDFEQIK (8 of 14)
Drew the Profile plot for P53235_ERQAVGDKLEDTQVLK (9 of 14)
Drew the Profile plot for P53858_FLDNHEVDSIVSLER (10 of 14)
Drew the Profile plot for Q02908_ISVISGVGVR (11 of 14)
Drew the Profile plot for Q12248_EFQSVSDLWK (12 of 14)
Drew the Profile plot for P16622_SHLQSNQLYSNQLPLDFALGK (13 of 14)
Drew the Profile plot for P24004_FIGASEQNIR (14 of 14)
Drew the Profile plot for  P14164_ILQNDLK ( 1  of  14 )
Drew the Profile plot for  P17891_ALQLINQDDADIIGGRDR ( 2  of  14 )
Drew the Profile plot for  P17891_DDDTDFLK ( 3  of  14 )
Drew the Profile plot for  P36112_SNDLLSGLTGSSQTR ( 4  of  14 )
Drew the Profile plot for  P38805_LGQTVGR ( 5  of  14 )
Drew the Profile plot for  P46959_DIIGKPYGSQIAIR ( 6  of  14 )
Drew the Profile plot for  P52893_SSSQGVEGIRK ( 7  of  14 )
Drew the Profile plot for  P52911_TWITEDDFEQIK ( 8  of  14 )
Drew the Profile plot for  P53235_ERQAVGDKLEDTQVLK ( 9  of  14 )
Drew the Profile plot for  P53858_FLDNHEVDSIVSLER ( 10  of  14 )
Drew the Profile plot for  Q02908_ISVISGVGVR ( 11  of  14 )
Drew the Profile plot for  Q12248_EFQSVSDLWK ( 12  of  14 )
Drew the Profile plot for  P16622_SHLQSNQLYSNQLPLDFALGK ( 13  of  14 )
Drew the Profile plot for  P24004_FIGASEQNIR ( 14  of  14 )
test_dataProcessPlotsLiP.R....   11 tests [0;32mOK[0m Drew the Quality Contol plot(boxplot) for all ptms/proteins.
Drew the Quality Contol plot(boxplot) for P14164_ILQNDLK (1 of 14)
Drew the Quality Contol plot(boxplot) for P17891_ALQLINQDDADIIGGRDR (2 of 14)
Drew the Quality Contol plot(boxplot) for P17891_DDDTDFLK (3 of 14)
Drew the Quality Contol plot(boxplot) for P36112_SNDLLSGLTGSSQTR (4 of 14)
Drew the Quality Contol plot(boxplot) for P38805_LGQTVGR (5 of 14)
Drew the Quality Contol plot(boxplot) for P46959_DIIGKPYGSQIAIR (6 of 14)
Drew the Quality Contol plot(boxplot) for P52893_SSSQGVEGIRK (7 of 14)
Drew the Quality Contol plot(boxplot) for P52911_TWITEDDFEQIK (8 of 14)
Drew the Quality Contol plot(boxplot) for P53235_ERQAVGDKLEDTQVLK (9 of 14)
Drew the Quality Contol plot(boxplot) for P53858_FLDNHEVDSIVSLER (10 of 14)
Drew the Quality Contol plot(boxplot) for Q02908_ISVISGVGVR (11 of 14)
Drew the Quality Contol plot(boxplot) for Q12248_EFQSVSDLWK (12 of 14)
Drew the Quality Contol plot(boxplot) for P16622_SHLQSNQLYSNQLPLDFALGK (13 of 14)
Drew the Quality Contol plot(boxplot) for P24004_FIGASEQNIR (14 of 14)
test_dataProcessPlotsLiP.R....   12 tests [0;32mOK[0m [0;34m22.5s[0m
test_dataSummarizationLiP.R...    0 tests    
test_dataSummarizationLiP.R...    0 tests    
test_dataSummarizationLiP.R...    1 tests [0;32mOK[0m 
test_dataSummarizationLiP.R...    2 tests [0;32mOK[0m 
test_dataSummarizationLiP.R...    3 tests [0;32mOK[0m 
test_dataSummarizationLiP.R...    4 tests [0;32mOK[0m 
test_dataSummarizationLiP.R...    5 tests [0;32mOK[0m 
test_dataSummarizationLiP.R...    6 tests [0;32mOK[0m 
test_dataSummarizationLiP.R...    7 tests [0;32mOK[0m 
test_dataSummarizationLiP.R...    8 tests [0;32mOK[0m 
test_dataSummarizationLiP.R...    9 tests [0;32mOK[0m 
test_dataSummarizationLiP.R...   10 tests [0;32mOK[0m 
test_dataSummarizationLiP.R...   11 tests [0;32mOK[0m 
test_dataSummarizationLiP.R...   12 tests [0;32mOK[0m 
test_dataSummarizationLiP.R...   13 tests [0;32mOK[0m 
test_dataSummarizationLiP.R...   14 tests [0;32mOK[0m 
test_dataSummarizationLiP.R...   15 tests [0;32mOK[0m 
test_dataSummarizationLiP.R...   16 tests [0;32mOK[0m 
test_dataSummarizationLiP.R...   17 tests [0;32mOK[0m 
test_dataSummarizationLiP.R...   18 tests [0;32mOK[0m 
test_dataSummarizationLiP.R...   19 tests [0;32mOK[0m 
test_dataSummarizationLiP.R...   20 tests [0;32mOK[0m 
test_dataSummarizationLiP.R...   21 tests [0;32mOK[0m 
test_dataSummarizationLiP.R...   22 tests [0;32mOK[0m 
test_dataSummarizationLiP.R...   23 tests [0;32mOK[0m 
test_dataSummarizationLiP.R...   24 tests [0;32mOK[0m 
test_dataSummarizationLiP.R...   25 tests [0;32mOK[0m 
test_dataSummarizationLiP.R...   26 tests [0;32mOK[0m 
test_dataSummarizationLiP.R...   27 tests [0;32mOK[0m 
test_dataSummarizationLiP.R...   28 tests [0;32mOK[0m Starting PTM summarization...
test_dataSummarizationLiP.R...   29 tests [0;32mOK[0m [0;34m0.2s[0m
test_groupComparisonLiP.R.....    0 tests    
test_groupComparisonLiP.R.....    0 tests    
test_groupComparisonLiP.R.....    1 tests [0;32mOK[0m 
test_groupComparisonLiP.R.....    2 tests [0;32mOK[0m Starting PTM modeling...
test_groupComparisonLiP.R.....    3 tests [0;32mOK[0m Starting PTM modeling...
INFO  [2023-04-10 21:28:09]  == Start to test and get inference in whole plot ...
  |                                                                            
  |                                                                      |   0%
  |                                                                            
  |=====                                                                 |   7%
  |                                                                            
  |==========                                                            |  14%
  |                                                                            
  |===============                                                       |  21%
  |                                                                            
  |====================                                                  |  29%
  |                                                                            
  |=========================                                             |  36%
  |                                                                            
  |==============================                                        |  43%
  |                                                                            
  |===================================                                   |  50%
  |                                                                            
  |========================================                              |  57%
  |                                                                            
  |=============================================                         |  64%
  |                                                                            
  |==================================================                    |  71%
  |                                                                            
  |=======================================================               |  79%
  |                                                                            
  |============================================================          |  86%
  |                                                                            
  |=================================================================     |  93%
  |                                                                            
  |======================================================================| 100%
INFO  [2023-04-10 21:28:09]  == Comparisons for all proteins are done.
Starting Protein modeling...
INFO  [2023-04-10 21:28:09]  == Start to test and get inference in whole plot ...
  |                                                                            
  |                                                                      |   0%
  |                                                                            
  |=====                                                                 |   8%
  |                                                                            
  |===========                                                           |  15%
  |                                                                            
  |================                                                      |  23%
  |                                                                            
  |======================                                                |  31%
  |                                                                            
  |===========================                                           |  38%
  |                                                                            
  |================================                                      |  46%
  |                                                                            
  |======================================                                |  54%
  |                                                                            
  |===========================================                           |  62%
  |                                                                            
  |================================================                      |  69%
  |                                                                            
  |======================================================                |  77%
  |                                                                            
  |===========================================================           |  85%
  |                                                                            
  |=================================================================     |  92%
  |                                                                            
  |======================================================================| 100%
INFO  [2023-04-10 21:28:10]  == Comparisons for all proteins are done.
Starting adjustment...
test_groupComparisonLiP.R.....    3 tests [0;32mOK[0m 
test_groupComparisonLiP.R.....    4 tests [0;32mOK[0m 
test_groupComparisonLiP.R.....    5 tests [0;32mOK[0m 
test_groupComparisonLiP.R.....    6 tests [0;32mOK[0m 
test_groupComparisonLiP.R.....    7 tests [0;32mOK[0m 
test_groupComparisonLiP.R.....    8 tests [0;32mOK[0m 
test_groupComparisonLiP.R.....    9 tests [0;32mOK[0m 
test_groupComparisonLiP.R.....   10 tests [0;32mOK[0m [0;34m1.1s[0m
test_groupComparisonPlotsLiP.R    0 tests    
test_groupComparisonPlotsLiP.R    1 tests [0;32mOK[0m 
test_groupComparisonPlotsLiP.R    2 tests [0;32mOK[0m 
test_groupComparisonPlotsLiP.R    3 tests [0;32mOK[0m 
test_groupComparisonPlotsLiP.R    4 tests [0;32mOK[0m 
test_groupComparisonPlotsLiP.R    5 tests [0;32mOK[0m 
test_groupComparisonPlotsLiP.R    6 tests [0;32mOK[0m 
test_groupComparisonPlotsLiP.R    7 tests [0;32mOK[0m 
test_groupComparisonPlotsLiP.R    8 tests [0;32mOK[0m 
test_groupComparisonPlotsLiP.R    9 tests [0;32mOK[0m 
test_groupComparisonPlotsLiP.R   10 tests [0;32mOK[0m 
test_groupComparisonPlotsLiP.R   11 tests [0;32mOK[0m 
test_groupComparisonPlotsLiP.R   12 tests [0;32mOK[0m 
test_groupComparisonPlotsLiP.R   13 tests [0;32mOK[0m 
test_groupComparisonPlotsLiP.R   14 tests [0;32mOK[0m 
test_groupComparisonPlotsLiP.R   15 tests [0;32mOK[0m 
test_groupComparisonPlotsLiP.R   16 tests [0;32mOK[0m [0;34m3.9s[0m
test_trypticHistogramLiP.R....    0 tests    
test_trypticHistogramLiP.R....    0 tests    
test_trypticHistogramLiP.R....    1 tests [0;32mOK[0m 
test_trypticHistogramLiP.R....    2 tests [0;32mOK[0m 
test_trypticHistogramLiP.R....    3 tests [0;32mOK[0m 
test_trypticHistogramLiP.R....    4 tests [0;32mOK[0m 
test_trypticHistogramLiP.R....    5 tests [0;32mOK[0m 
test_trypticHistogramLiP.R....    6 tests [0;32mOK[0m 
test_trypticHistogramLiP.R....    7 tests [0;32mOK[0m 
test_trypticHistogramLiP.R....    8 tests [0;32mOK[0m 
test_trypticHistogramLiP.R....    9 tests [0;32mOK[0m 
test_trypticHistogramLiP.R....   10 tests [0;32mOK[0m 
test_trypticHistogramLiP.R....   11 tests [0;32mOK[0m 
test_trypticHistogramLiP.R....   12 tests [0;32mOK[0m 
test_trypticHistogramLiP.R....   13 tests [0;32mOK[0m 
test_trypticHistogramLiP.R....   14 tests [0;32mOK[0m 
test_trypticHistogramLiP.R....   15 tests [0;32mOK[0m 
test_trypticHistogramLiP.R....   16 tests [0;32mOK[0m 
test_trypticHistogramLiP.R....   17 tests [0;32mOK[0m 
test_trypticHistogramLiP.R....   18 tests [0;32mOK[0m 
test_trypticHistogramLiP.R....   19 tests [0;32mOK[0m 
test_trypticHistogramLiP.R....   20 tests [0;32mOK[0m 
test_trypticHistogramLiP.R....   21 tests [0;32mOK[0m 
test_trypticHistogramLiP.R....   22 tests [0;32mOK[0m 
test_trypticHistogramLiP.R....   23 tests [0;32mOK[0m 
test_trypticHistogramLiP.R....   24 tests [0;32mOK[0m 
test_trypticHistogramLiP.R....   25 tests [0;32mOK[0m [0;34m7.7s[0m
All ok, 111 results (36.5s)
Warning messages:
1: In max(datafeature.ptm$ABUNDANCE, na.rm = TRUE) :
  no non-missing arguments to max; returning -Inf
2: In as.data.table.list(x, keep.rownames = keep.rownames, check.names = check.names,  :
  Item 1 has 0 rows but longest item has 1; filled with NA
3: In as.data.table.list(x, keep.rownames = keep.rownames, check.names = check.names,  :
  Item 3 has 0 rows but longest item has 1; filled with NA
4: In as.data.table.list(x, keep.rownames = keep.rownames, check.names = check.names,  :
  Item 4 has 0 rows but longest item has 1; filled with NA
5: In as.data.table.list(x, keep.rownames = keep.rownames, check.names = check.names,  :
  Item 1 has 0 rows but longest item has 1; filled with NA
6: In as.data.table.list(x, keep.rownames = keep.rownames, check.names = check.names,  :
  Item 2 has 0 rows but longest item has 1; filled with NA
7: In as.data.table.list(x, keep.rownames = keep.rownames, check.names = check.names,  :
  Item 3 has 0 rows but longest item has 1; filled with NA
8: In as.data.table.list(x, keep.rownames = keep.rownames, check.names = check.names,  :
  Item 1 has 0 rows but longest item has 1; filled with NA
9: In as.data.table.list(x, keep.rownames = keep.rownames, check.names = check.names,  :
  Item 2 has 0 rows but longest item has 1; filled with NA
10: In as.data.table.list(x, keep.rownames = keep.rownames, check.names = check.names,  :
  Item 3 has 0 rows but longest item has 1; filled with NA
> 
> proc.time()
   user  system elapsed 
 42.016   0.790  42.972 
MSstatsLiP.Rcheck/MSstatsLiP-Ex.timings
| name | user | system | elapsed | |
| LiPRawData | 0.014 | 0.002 | 0.017 | |
| MSstatsLiP_Summarized | 0.011 | 0.002 | 0.012 | |
| MSstatsLiP_data | 0.004 | 0.001 | 0.006 | |
| MSstatsLiP_model | 0.006 | 0.001 | 0.008 | |
| PCAPlotLiP | 1.395 | 0.041 | 1.440 | |
| ResistanceBarcodePlotLiP | 0.001 | 0.000 | 0.001 | |
| SkylineTest | 0.005 | 0.001 | 0.006 | |
| SkylinetoMSstatsLiPFormat | 0.003 | 0.001 | 0.004 | |
| SpectronauttoMSstatsLiPFormat | 0.713 | 0.022 | 0.738 | |
| StructuralBarcodePlotLiP | 2.789 | 0.041 | 2.840 | |
| TrPRawData | 0.002 | 0.001 | 0.004 | |
| annotSite | 0.000 | 0.000 | 0.001 | |
| calculateProteolyticResistance | 0.007 | 0.001 | 0.008 | |
| calculateTrypticity | 0.014 | 0.002 | 0.016 | |
| correlationPlotLiP | 0.253 | 0.005 | 0.259 | |
| dataProcessPlotsLiP | 22.433 | 0.208 | 22.726 | |
| dataSummarizationLiP | 0.491 | 0.008 | 0.500 | |
| groupComparisonLiP | 0.303 | 0.006 | 0.309 | |
| groupComparisonPlotsLiP | 1.567 | 0.028 | 1.602 | |
| locateMod | 0.000 | 0.000 | 0.001 | |
| locatePTM | 0.087 | 0.002 | 0.110 | |
| raw_lip | 0.050 | 0.002 | 0.052 | |
| raw_prot | 0.045 | 0.003 | 0.049 | |
| tidyFasta | 0.021 | 0.001 | 0.021 | |
| trypticHistogramLiP | 0.298 | 0.005 | 0.308 | |