| Back to Multiple platform build/check report for BioC 3.16: simplified long |
|
This page was generated on 2023-04-12 11:05:42 -0400 (Wed, 12 Apr 2023).
| Hostname | OS | Arch (*) | R version | Installed pkgs |
|---|---|---|---|---|
| nebbiolo2 | Linux (Ubuntu 20.04.5 LTS) | x86_64 | 4.2.3 (2023-03-15) -- "Shortstop Beagle" | 4502 |
| palomino4 | Windows Server 2022 Datacenter | x64 | 4.2.3 (2023-03-15 ucrt) -- "Shortstop Beagle" | 4282 |
| lconway | macOS 12.5.1 Monterey | x86_64 | 4.2.3 (2023-03-15) -- "Shortstop Beagle" | 4310 |
| Click on any hostname to see more info about the system (e.g. compilers) (*) as reported by 'uname -p', except on Windows and Mac OS X | ||||
|
To the developers/maintainers of the MSnbase package: - Please allow up to 24 hours (and sometimes 48 hours) for your latest push to git@git.bioconductor.org:packages/MSnbase.git to reflect on this report. See How and When does the builder pull? When will my changes propagate? for more information. - Make sure to use the following settings in order to reproduce any error or warning you see on this page. |
| Package 1278/2183 | Hostname | OS / Arch | INSTALL | BUILD | CHECK | BUILD BIN | ||||||||
| MSnbase 2.24.2 (landing page) Laurent Gatto
| nebbiolo2 | Linux (Ubuntu 20.04.5 LTS) / x86_64 | OK | OK | OK | |||||||||
| palomino4 | Windows Server 2022 Datacenter / x64 | OK | OK | ERROR | OK | |||||||||
| lconway | macOS 12.5.1 Monterey / x86_64 | OK | OK | OK | OK | |||||||||
| Package: MSnbase |
| Version: 2.24.2 |
| Command: rm -rf MSnbase.buildbin-libdir && mkdir MSnbase.buildbin-libdir && F:\biocbuild\bbs-3.16-bioc\R\bin\R.exe CMD INSTALL --build --library=MSnbase.buildbin-libdir MSnbase_2.24.2.tar.gz |
| StartedAt: 2023-04-11 08:21:38 -0400 (Tue, 11 Apr 2023) |
| EndedAt: 2023-04-11 08:23:45 -0400 (Tue, 11 Apr 2023) |
| EllapsedTime: 126.8 seconds |
| RetCode: 0 |
| Status: OK |
| PackageFile: MSnbase_2.24.2.zip |
| PackageFileSize: 6.637 MiB |
##############################################################################
##############################################################################
###
### Running command:
###
### rm -rf MSnbase.buildbin-libdir && mkdir MSnbase.buildbin-libdir && F:\biocbuild\bbs-3.16-bioc\R\bin\R.exe CMD INSTALL --build --library=MSnbase.buildbin-libdir MSnbase_2.24.2.tar.gz
###
##############################################################################
##############################################################################
* installing *source* package 'MSnbase' ...
** using staged installation
** libs
g++ -std=gnu++14 -I"F:/biocbuild/bbs-3.16-bioc/R/include" -DNDEBUG -I'F:/biocbuild/bbs-3.16-bioc/R/library/Rcpp/include' -I"C:/rtools42/x86_64-w64-mingw32.static.posix/include" -O2 -Wall -mfpmath=sse -msse2 -mstackrealign -c RcppExports.cpp -o RcppExports.o
gcc -I"F:/biocbuild/bbs-3.16-bioc/R/include" -DNDEBUG -I'F:/biocbuild/bbs-3.16-bioc/R/library/Rcpp/include' -I"C:/rtools42/x86_64-w64-mingw32.static.posix/include" -O2 -Wall -std=gnu99 -mfpmath=sse -msse2 -mstackrealign -c Spectrum1_class.c -o Spectrum1_class.o
Spectrum1_class.c:8:13: warning: '_new_Spectrum1' defined but not used [-Wunused-function]
8 | static SEXP _new_Spectrum1(SEXP msLevel, SEXP peaksCount, SEXP rt,
| ^~~~~~~~~~~~~~
gcc -I"F:/biocbuild/bbs-3.16-bioc/R/include" -DNDEBUG -I'F:/biocbuild/bbs-3.16-bioc/R/library/Rcpp/include' -I"C:/rtools42/x86_64-w64-mingw32.static.posix/include" -O2 -Wall -std=gnu99 -mfpmath=sse -msse2 -mstackrealign -c Spectrum2_class.c -o Spectrum2_class.o
Spectrum2_class.c:9:13: warning: '_new_Spectrum2' defined but not used [-Wunused-function]
9 | static SEXP _new_Spectrum2(SEXP msLevel, SEXP peaksCount, SEXP rt,
| ^~~~~~~~~~~~~~
g++ -std=gnu++14 -I"F:/biocbuild/bbs-3.16-bioc/R/include" -DNDEBUG -I'F:/biocbuild/bbs-3.16-bioc/R/library/Rcpp/include' -I"C:/rtools42/x86_64-w64-mingw32.static.posix/include" -O2 -Wall -mfpmath=sse -msse2 -mstackrealign -c imp_neighbour_avg.cpp -o imp_neighbour_avg.o
gcc -I"F:/biocbuild/bbs-3.16-bioc/R/include" -DNDEBUG -I'F:/biocbuild/bbs-3.16-bioc/R/library/Rcpp/include' -I"C:/rtools42/x86_64-w64-mingw32.static.posix/include" -O2 -Wall -std=gnu99 -mfpmath=sse -msse2 -mstackrealign -c utils.c -o utils.o
utils.c: In function 'compar_double_dd_for_stable_asc_order':
utils.c:92:15: warning: unused variable 'ret' [-Wunused-variable]
92 | int i1, i2, ret;
| ^~~
utils.c: In function 'compar_double_dd_for_stable_desc_order':
utils.c:107:15: warning: unused variable 'ret' [-Wunused-variable]
107 | int i1, i2, ret;
| ^~~
utils.c: In function 'compar_double_asc_order':
utils.c:123:18: warning: unused variable 'ret' [-Wunused-variable]
123 | double d1, d2, ret;
| ^~~
utils.c: In function 'compar_double_desc_order':
utils.c:133:18: warning: unused variable 'ret' [-Wunused-variable]
133 | double d1, d2, ret;
| ^~~
At top level:
utils.c:131:12: warning: 'compar_double_desc_order' defined but not used [-Wunused-function]
131 | static int compar_double_desc_order(const void *p1, const void *p2)
| ^~~~~~~~~~~~~~~~~~~~~~~~
utils.c:121:12: warning: 'compar_double_asc_order' defined but not used [-Wunused-function]
121 | static int compar_double_asc_order(const void *p1, const void *p2)
| ^~~~~~~~~~~~~~~~~~~~~~~
g++ -std=gnu++14 -shared -s -static-libgcc -o MSnbase.dll tmp.def RcppExports.o Spectrum1_class.o Spectrum2_class.o imp_neighbour_avg.o utils.o -LC:/rtools42/x86_64-w64-mingw32.static.posix/lib/x64 -LC:/rtools42/x86_64-w64-mingw32.static.posix/lib -LF:/biocbuild/bbs-3.16-bioc/R/bin/x64 -lR
installing to F:/biocbuild/bbs-3.16-bioc/meat/MSnbase.buildbin-libdir/00LOCK-MSnbase/00new/MSnbase/libs/x64
** R
** data
*** moving datasets to lazyload DB
Creating a new generic function for 'trimws' in package 'MSnbase'
in method for 'coerce' with signature '"MSnSet","SummarizedExperiment"': no definition for class "SummarizedExperiment"
in method for 'coerce' with signature '"SummarizedExperiment","MSnSet"': no definition for class "SummarizedExperiment"
in method for 'coerce' with signature '"IBSpectra","MSnSet"': no definition for class "IBSpectra"
in method for 'plotMzDelta' with signature '"mzRramp"': no definition for class "mzRramp"
** inst
** byte-compile and prepare package for lazy loading
Creating a new generic function for 'trimws' in package 'MSnbase'
in method for 'coerce' with signature '"MSnSet","SummarizedExperiment"': no definition for class "SummarizedExperiment"
in method for 'coerce' with signature '"SummarizedExperiment","MSnSet"': no definition for class "SummarizedExperiment"
in method for 'coerce' with signature '"IBSpectra","MSnSet"': no definition for class "IBSpectra"
in method for 'plotMzDelta' with signature '"mzRramp"': no definition for class "mzRramp"
** help
*** installing help indices
** building package indices
** installing vignettes
** testing if installed package can be loaded from temporary location
** testing if installed package can be loaded from final location
** testing if installed package keeps a record of temporary installation path
* MD5 sums
packaged installation of 'MSnbase' as MSnbase_2.24.2.zip
* DONE (MSnbase)