| Back to Multiple platform build/check report for BioC 3.16: simplified long |
|
This page was generated on 2023-04-12 11:05:11 -0400 (Wed, 12 Apr 2023).
| Hostname | OS | Arch (*) | R version | Installed pkgs |
|---|---|---|---|---|
| nebbiolo2 | Linux (Ubuntu 20.04.5 LTS) | x86_64 | 4.2.3 (2023-03-15) -- "Shortstop Beagle" | 4502 |
| palomino4 | Windows Server 2022 Datacenter | x64 | 4.2.3 (2023-03-15 ucrt) -- "Shortstop Beagle" | 4282 |
| lconway | macOS 12.5.1 Monterey | x86_64 | 4.2.3 (2023-03-15) -- "Shortstop Beagle" | 4310 |
| Click on any hostname to see more info about the system (e.g. compilers) (*) as reported by 'uname -p', except on Windows and Mac OS X | ||||
|
To the developers/maintainers of the MPRAnalyze package: - Please allow up to 24 hours (and sometimes 48 hours) for your latest push to git@git.bioconductor.org:packages/MPRAnalyze.git to reflect on this report. See How and When does the builder pull? When will my changes propagate? for more information. - Make sure to use the following settings in order to reproduce any error or warning you see on this page. |
| Package 1262/2183 | Hostname | OS / Arch | INSTALL | BUILD | CHECK | BUILD BIN | ||||||||
| MPRAnalyze 1.16.0 (landing page) Tal Ashuach
| nebbiolo2 | Linux (Ubuntu 20.04.5 LTS) / x86_64 | OK | OK | OK | |||||||||
| palomino4 | Windows Server 2022 Datacenter / x64 | OK | OK | OK | OK | |||||||||
| lconway | macOS 12.5.1 Monterey / x86_64 | OK | OK | OK | OK | |||||||||
| Package: MPRAnalyze |
| Version: 1.16.0 |
| Command: /home/biocbuild/bbs-3.16-bioc/R/bin/R CMD check --install=check:MPRAnalyze.install-out.txt --library=/home/biocbuild/bbs-3.16-bioc/R/site-library --timings MPRAnalyze_1.16.0.tar.gz |
| StartedAt: 2023-04-10 22:09:21 -0400 (Mon, 10 Apr 2023) |
| EndedAt: 2023-04-10 22:13:00 -0400 (Mon, 10 Apr 2023) |
| EllapsedTime: 218.4 seconds |
| RetCode: 0 |
| Status: OK |
| CheckDir: MPRAnalyze.Rcheck |
| Warnings: 0 |
##############################################################################
##############################################################################
###
### Running command:
###
### /home/biocbuild/bbs-3.16-bioc/R/bin/R CMD check --install=check:MPRAnalyze.install-out.txt --library=/home/biocbuild/bbs-3.16-bioc/R/site-library --timings MPRAnalyze_1.16.0.tar.gz
###
##############################################################################
##############################################################################
* using log directory ‘/home/biocbuild/bbs-3.16-bioc/meat/MPRAnalyze.Rcheck’
* using R version 4.2.3 (2023-03-15)
* using platform: x86_64-pc-linux-gnu (64-bit)
* using session charset: UTF-8
* checking for file ‘MPRAnalyze/DESCRIPTION’ ... OK
* checking extension type ... Package
* this is package ‘MPRAnalyze’ version ‘1.16.0’
* package encoding: UTF-8
* checking package namespace information ... OK
* checking package dependencies ... OK
* checking if this is a source package ... OK
* checking if there is a namespace ... OK
* checking for hidden files and directories ... OK
* checking for portable file names ... OK
* checking for sufficient/correct file permissions ... OK
* checking whether package ‘MPRAnalyze’ can be installed ... OK
* checking installed package size ... OK
* checking package directory ... OK
* checking ‘build’ directory ... OK
* checking DESCRIPTION meta-information ... OK
* checking top-level files ... OK
* checking for left-over files ... OK
* checking index information ... OK
* checking package subdirectories ... OK
* checking R files for non-ASCII characters ... OK
* checking R files for syntax errors ... OK
* checking whether the package can be loaded ... OK
* checking whether the package can be loaded with stated dependencies ... OK
* checking whether the package can be unloaded cleanly ... OK
* checking whether the namespace can be loaded with stated dependencies ... OK
* checking whether the namespace can be unloaded cleanly ... OK
* checking loading without being on the library search path ... OK
* checking dependencies in R code ... OK
* checking S3 generic/method consistency ... OK
* checking replacement functions ... OK
* checking foreign function calls ... OK
* checking R code for possible problems ... OK
* checking Rd files ... OK
* checking Rd metadata ... OK
* checking Rd cross-references ... OK
* checking for missing documentation entries ... OK
* checking for code/documentation mismatches ... OK
* checking Rd \usage sections ... OK
* checking Rd contents ... OK
* checking for unstated dependencies in examples ... OK
* checking contents of ‘data’ directory ... OK
* checking data for non-ASCII characters ... OK
* checking data for ASCII and uncompressed saves ... OK
* checking files in ‘vignettes’ ... OK
* checking examples ... OK
Examples with CPU (user + system) or elapsed time > 5s
user system elapsed
getAlpha 5.499 0.044 5.543
analyzeComparative 5.227 0.055 5.283
* checking for unstated dependencies in vignettes ... OK
* checking package vignettes in ‘inst/doc’ ... OK
* checking running R code from vignettes ...
‘vignette.Rmd’ using ‘UTF-8’... OK
NONE
* checking re-building of vignette outputs ... OK
* checking PDF version of manual ... OK
* DONE
Status: OK
MPRAnalyze.Rcheck/00install.out
############################################################################## ############################################################################## ### ### Running command: ### ### /home/biocbuild/bbs-3.16-bioc/R/bin/R CMD INSTALL MPRAnalyze ### ############################################################################## ############################################################################## * installing to library ‘/home/biocbuild/bbs-3.16-bioc/R/site-library’ * installing *source* package ‘MPRAnalyze’ ... ** using staged installation ** R ** data ** inst ** byte-compile and prepare package for lazy loading ** help *** installing help indices ** building package indices ** installing vignettes ** testing if installed package can be loaded from temporary location ** testing if installed package can be loaded from final location ** testing if installed package keeps a record of temporary installation path * DONE (MPRAnalyze)
MPRAnalyze.Rcheck/MPRAnalyze-Ex.timings
| name | user | system | elapsed | |
| MpraObject | 0.043 | 0.001 | 0.043 | |
| analyzeComparative | 5.227 | 0.055 | 5.283 | |
| analyzeQuantification | 1.866 | 0.035 | 1.902 | |
| estimateDepthFactors | 0.012 | 0.000 | 0.012 | |
| extractModelParameters | 0.909 | 0.003 | 0.913 | |
| getAlpha | 5.499 | 0.044 | 5.543 | |
| getDistrParam | 0.896 | 0.012 | 0.908 | |
| getFits_DNA | 0.935 | 0.004 | 0.939 | |
| getFits_RNA | 0.886 | 0.000 | 0.886 | |
| setDepthFactors | 0.006 | 0.000 | 0.006 | |
| setModel | 1.642 | 0.000 | 1.642 | |
| simulateMPRA | 0.068 | 0.008 | 0.076 | |
| testCoefficient | 2.593 | 0.024 | 2.618 | |
| testEmpirical | 1.919 | 0.028 | 1.947 | |
| testLrt | 3.064 | 0.048 | 3.112 | |