| Back to Multiple platform build/check report for BioC 3.16: simplified long | 
 | 
This page was generated on 2023-04-12 11:05:09 -0400 (Wed, 12 Apr 2023).
| Hostname | OS | Arch (*) | R version | Installed pkgs | 
|---|---|---|---|---|
| nebbiolo2 | Linux (Ubuntu 20.04.5 LTS) | x86_64 | 4.2.3 (2023-03-15) -- "Shortstop Beagle" | 4502 | 
| palomino4 | Windows Server 2022 Datacenter | x64 | 4.2.3 (2023-03-15 ucrt) -- "Shortstop Beagle" | 4282 | 
| lconway | macOS 12.5.1 Monterey | x86_64 | 4.2.3 (2023-03-15) -- "Shortstop Beagle" | 4310 | 
| Click on any hostname to see more info about the system (e.g. compilers) (*) as reported by 'uname -p', except on Windows and Mac OS X | ||||
| To the developers/maintainers of the MEDME package: - Please allow up to 24 hours (and sometimes 48 hours) for your latest push to git@git.bioconductor.org:packages/MEDME.git to reflect on this report. See How and When does the builder pull? When will my changes propagate? for more information. - Make sure to use the following settings in order to reproduce any error or warning you see on this page. | 
| Package 1127/2183 | Hostname | OS / Arch | INSTALL | BUILD | CHECK | BUILD BIN | ||||||||
| MEDME 1.58.0  (landing page) Mattia Pelizzola 
 | nebbiolo2 | Linux (Ubuntu 20.04.5 LTS) / x86_64 | OK | OK | WARNINGS |  | ||||||||
| palomino4 | Windows Server 2022 Datacenter / x64 | OK | OK | WARNINGS | OK |  | ||||||||
| lconway | macOS 12.5.1 Monterey / x86_64 | OK | OK | WARNINGS | OK |  | ||||||||
| Package: MEDME | 
| Version: 1.58.0 | 
| Command: /home/biocbuild/bbs-3.16-bioc/R/bin/R CMD INSTALL MEDME | 
| StartedAt: 2023-04-10 15:23:53 -0400 (Mon, 10 Apr 2023) | 
| EndedAt: 2023-04-10 15:24:12 -0400 (Mon, 10 Apr 2023) | 
| EllapsedTime: 18.6 seconds | 
| RetCode: 0 | 
| Status: OK | 
##############################################################################
##############################################################################
###
### Running command:
###
###   /home/biocbuild/bbs-3.16-bioc/R/bin/R CMD INSTALL MEDME
###
##############################################################################
##############################################################################
* installing to library ‘/home/biocbuild/bbs-3.16-bioc/R/site-library’
* installing *source* package ‘MEDME’ ...
** using staged installation
** libs
gcc -I"/home/biocbuild/bbs-3.16-bioc/R/include" -DNDEBUG   -I/usr/local/include   -fpic  -g -O2  -Wall -c MEDMEweight.c -o MEDMEweight.o
MEDMEweight.c: In function ‘MEDMEweight’:
MEDMEweight.c:78:12: warning: ‘weight’ may be used uninitialized in this function [-Wmaybe-uninitialized]
   78 |  weightSum = weightSum + weight;
      |  ~~~~~~~~~~^~~~~~~~~~~~~~~~~~~~
MEDMEweight.c:91:42: warning: ‘Max’ may be used uninitialized in this function [-Wmaybe-uninitialized]
   91 |       if(AMSfinal[i] > Max) {AMSfinal[i] = Max;}
      |                              ~~~~~~~~~~~~^~~~~
MEDMEweight.c:92:42: warning: ‘Min’ may be used uninitialized in this function [-Wmaybe-uninitialized]
   92 |       if(AMSfinal[i] < Min) {AMSfinal[i] = Min;}
      |                              ~~~~~~~~~~~~^~~~~
MEDMEweight.c:90:33: warning: ‘E’ may be used uninitialized in this function [-Wmaybe-uninitialized]
   90 |       AMSfinal[i] = pow(2, pow( pow(E,B) * (D - Mlim) / (Mlim - C), 1/B));
      |                                 ^~~~~~~~
MEDMEweight.c:90:47: warning: ‘D’ may be used uninitialized in this function [-Wmaybe-uninitialized]
   90 |       AMSfinal[i] = pow(2, pow( pow(E,B) * (D - Mlim) / (Mlim - C), 1/B));
      |                                            ~~~^~~~~~~
MEDMEweight.c:90:63: warning: ‘C’ may be used uninitialized in this function [-Wmaybe-uninitialized]
   90 |       AMSfinal[i] = pow(2, pow( pow(E,B) * (D - Mlim) / (Mlim - C), 1/B));
      |                                                         ~~~~~~^~~~
MEDMEweight.c:90:33: warning: ‘B’ may be used uninitialized in this function [-Wmaybe-uninitialized]
   90 |       AMSfinal[i] = pow(2, pow( pow(E,B) * (D - Mlim) / (Mlim - C), 1/B));
      |                                 ^~~~~~~~
gcc -shared -L/home/biocbuild/bbs-3.16-bioc/R/lib -L/usr/local/lib -o MEDME.so MEDMEweight.o -L/home/biocbuild/bbs-3.16-bioc/R/lib -lR
installing to /home/biocbuild/bbs-3.16-bioc/R/site-library/00LOCK-MEDME/00new/MEDME/libs
** R
** data
** inst
** byte-compile and prepare package for lazy loading
** help
*** installing help indices
** building package indices
** installing vignettes
** testing if installed package can be loaded from temporary location
** checking absolute paths in shared objects and dynamic libraries
** testing if installed package can be loaded from final location
** testing if installed package keeps a record of temporary installation path
* DONE (MEDME)