| Back to Multiple platform build/check report for BioC 3.16: simplified long |
|
This page was generated on 2023-04-12 11:05:09 -0400 (Wed, 12 Apr 2023).
| Hostname | OS | Arch (*) | R version | Installed pkgs |
|---|---|---|---|---|
| nebbiolo2 | Linux (Ubuntu 20.04.5 LTS) | x86_64 | 4.2.3 (2023-03-15) -- "Shortstop Beagle" | 4502 |
| palomino4 | Windows Server 2022 Datacenter | x64 | 4.2.3 (2023-03-15 ucrt) -- "Shortstop Beagle" | 4282 |
| lconway | macOS 12.5.1 Monterey | x86_64 | 4.2.3 (2023-03-15) -- "Shortstop Beagle" | 4310 |
| Click on any hostname to see more info about the system (e.g. compilers) (*) as reported by 'uname -p', except on Windows and Mac OS X | ||||
|
To the developers/maintainers of the MEDIPS package: - Please allow up to 24 hours (and sometimes 48 hours) for your latest push to git@git.bioconductor.org:packages/MEDIPS.git to reflect on this report. See How and When does the builder pull? When will my changes propagate? for more information. - Make sure to use the following settings in order to reproduce any error or warning you see on this page. |
| Package 1126/2183 | Hostname | OS / Arch | INSTALL | BUILD | CHECK | BUILD BIN | ||||||||
| MEDIPS 1.50.0 (landing page) Lukas Chavez
| nebbiolo2 | Linux (Ubuntu 20.04.5 LTS) / x86_64 | OK | OK | OK | |||||||||
| palomino4 | Windows Server 2022 Datacenter / x64 | OK | OK | OK | OK | |||||||||
| lconway | macOS 12.5.1 Monterey / x86_64 | OK | OK | OK | OK | |||||||||
| Package: MEDIPS |
| Version: 1.50.0 |
| Command: /home/biocbuild/bbs-3.16-bioc/R/bin/R CMD check --install=check:MEDIPS.install-out.txt --library=/home/biocbuild/bbs-3.16-bioc/R/site-library --timings MEDIPS_1.50.0.tar.gz |
| StartedAt: 2023-04-10 21:45:32 -0400 (Mon, 10 Apr 2023) |
| EndedAt: 2023-04-10 21:53:28 -0400 (Mon, 10 Apr 2023) |
| EllapsedTime: 475.4 seconds |
| RetCode: 0 |
| Status: OK |
| CheckDir: MEDIPS.Rcheck |
| Warnings: 0 |
##############################################################################
##############################################################################
###
### Running command:
###
### /home/biocbuild/bbs-3.16-bioc/R/bin/R CMD check --install=check:MEDIPS.install-out.txt --library=/home/biocbuild/bbs-3.16-bioc/R/site-library --timings MEDIPS_1.50.0.tar.gz
###
##############################################################################
##############################################################################
* using log directory ‘/home/biocbuild/bbs-3.16-bioc/meat/MEDIPS.Rcheck’
* using R version 4.2.3 (2023-03-15)
* using platform: x86_64-pc-linux-gnu (64-bit)
* using session charset: UTF-8
* checking for file ‘MEDIPS/DESCRIPTION’ ... OK
* checking extension type ... Package
* this is package ‘MEDIPS’ version ‘1.50.0’
* checking package namespace information ... OK
* checking package dependencies ... OK
* checking if this is a source package ... OK
* checking if there is a namespace ... OK
* checking for hidden files and directories ... OK
* checking for portable file names ... OK
* checking for sufficient/correct file permissions ... OK
* checking whether package ‘MEDIPS’ can be installed ... OK
* checking installed package size ... OK
* checking package directory ... OK
* checking ‘build’ directory ... OK
* checking DESCRIPTION meta-information ... OK
* checking top-level files ... OK
* checking for left-over files ... OK
* checking index information ... OK
* checking package subdirectories ... OK
* checking R files for non-ASCII characters ... OK
* checking R files for syntax errors ... OK
* checking whether the package can be loaded ... OK
* checking whether the package can be loaded with stated dependencies ... OK
* checking whether the package can be unloaded cleanly ... OK
* checking whether the namespace can be loaded with stated dependencies ... OK
* checking whether the namespace can be unloaded cleanly ... OK
* checking loading without being on the library search path ... OK
* checking dependencies in R code ... OK
* checking S3 generic/method consistency ... OK
* checking replacement functions ... OK
* checking foreign function calls ... OK
* checking R code for possible problems ... NOTE
MEDIPS.CpGenrich: no visible global function definition for ‘seqlevels’
MEDIPS.CpGenrich: no visible global function definition for
‘seqlengths’
MEDIPS.CpGenrich: no visible global function definition for
‘GRangesList’
MEDIPS.CpGenrich : <anonymous>: no visible global function definition
for ‘seqnames’
MEDIPS.CpGenrich: no visible global function definition for ‘new’
MEDIPS.addCNV: no visible global function definition for ‘seqnames’
MEDIPS.correlation: no visible global function definition for ‘pdf’
MEDIPS.correlation: no visible global function definition for ‘dev.off’
MEDIPS.couplingVector: no visible global function definition for ‘new’
MEDIPS.createROIset: no visible global function definition for
‘seqnames’
MEDIPS.createROIset: no visible global function definition for
‘seqlengths’
MEDIPS.createROIset: no visible global function definition for ‘new’
MEDIPS.createSet: no visible global function definition for ‘seqnames’
MEDIPS.createSet: no visible global function definition for
‘seqlengths’
MEDIPS.createSet: no visible global function definition for ‘seqlevels’
MEDIPS.createSet: no visible global function definition for ‘new’
MEDIPS.diffMeth: no visible global function definition for ‘p.adjust’
MEDIPS.exportWIG: no visible global function definition for ‘seqnames’
MEDIPS.mergeSets: no visible global function definition for ‘new’
MEDIPS.meth: no visible global function definition for ‘seqnames’
MEDIPS.plotCalibrationPlot: no visible global function definition for
‘seqnames’
MEDIPS.plotCalibrationPlot: no visible global function definition for
‘points’
MEDIPS.plotSeqCoverage: no visible global function definition for ‘pie’
MEDIPS.plotSeqCoverage: no visible global function definition for
‘hist’
MEDIPS.saturation: no visible global function definition for
‘seqlevels’
MEDIPS.saturation: no visible global function definition for
‘seqlengths’
MEDIPS.selectROIs: no visible global function definition for
‘elementMetadata<-’
MEDIPS.selectROIs: no visible global function definition for
‘elementMetadata’
MEDIPS.selectROIs: no visible global function definition for
‘findOverlaps’
MEDIPS.selectROIs: no visible global function definition for ‘values’
MEDIPS.selectROIs: no visible global function definition for ‘seqnames’
MEDIPS.seqCoverage: no visible global function definition for
‘seqlevels’
MEDIPS.seqCoverage: no visible global function definition for
‘seqlengths’
MEDIPS.setAnnotation: no visible global function definition for
‘findOverlaps’
MEDIPS.setAnnotation: no visible global function definition for
‘values’
getGRange: no visible global function definition for ‘qpois’
getGRange: no visible global function definition for ‘seqlengths’
getGRange: no visible global function definition for ‘countMatches’
getGRange: no visible global function definition for ‘strand<-’
getMObjectFromWIG: no visible global function definition for
‘seqlengths’
getMObjectFromWIG: no visible global function definition for ‘values’
getMObjectFromWIG: no visible global function definition for
‘runLength’
getMObjectFromWIG: no visible global function definition for ‘seqnames’
getMObjectFromWIG: no visible global function definition for ‘runValue’
getMObjectFromWIG: no visible global function definition for ‘new’
getPairedGRange: no visible global function definition for ‘sd’
getPairedGRange: no visible global function definition for ‘qpois’
getPairedGRange: no visible global function definition for ‘seqlengths’
getPairedGRange: no visible global function definition for
‘countMatches’
getPairedGRange: no visible global function definition for ‘strand<-’
matSd: no visible binding for global variable ‘sd’
matTtest: no visible binding for global variable ‘sd’
matTtest: no visible global function definition for ‘pt’
Undefined global functions or variables:
GRangesList countMatches dev.off elementMetadata elementMetadata<-
findOverlaps hist new p.adjust pdf pie points pt qpois runLength
runValue sd seqlengths seqlevels seqnames strand<- values
Consider adding
importFrom("grDevices", "dev.off", "pdf")
importFrom("graphics", "hist", "pie", "points")
importFrom("methods", "new")
importFrom("stats", "p.adjust", "pt", "qpois", "sd")
to your NAMESPACE file (and ensure that your DESCRIPTION Imports field
contains 'methods').
* checking Rd files ... OK
* checking Rd metadata ... OK
* checking Rd cross-references ... OK
* checking for missing documentation entries ... OK
* checking for code/documentation mismatches ... OK
* checking Rd \usage sections ... OK
* checking Rd contents ... OK
* checking for unstated dependencies in examples ... OK
* checking files in ‘vignettes’ ... OK
* checking examples ... OK
Examples with CPU (user + system) or elapsed time > 5s
user system elapsed
MEDIPS.meth 33.156 0.160 33.317
MEDIPS.addCNV 17.436 0.419 17.857
MEDIPS.plotSaturation 6.678 0.032 6.710
MEDIPS.saturation 5.335 0.008 5.343
* checking for unstated dependencies in vignettes ... OK
* checking package vignettes in ‘inst/doc’ ... OK
* checking running R code from vignettes ...
‘MEDIPS.Rnw’... OK
OK
* checking re-building of vignette outputs ... OK
* checking PDF version of manual ... OK
* DONE
Status: 1 NOTE
See
‘/home/biocbuild/bbs-3.16-bioc/meat/MEDIPS.Rcheck/00check.log’
for details.
MEDIPS.Rcheck/00install.out
############################################################################## ############################################################################## ### ### Running command: ### ### /home/biocbuild/bbs-3.16-bioc/R/bin/R CMD INSTALL MEDIPS ### ############################################################################## ############################################################################## * installing to library ‘/home/biocbuild/bbs-3.16-bioc/R/site-library’ * installing *source* package ‘MEDIPS’ ... ** using staged installation ** R ** inst ** byte-compile and prepare package for lazy loading No methods found in package ‘IRanges’ for request: ‘values’ when loading ‘MEDIPS’ ** help *** installing help indices ** building package indices ** installing vignettes ** testing if installed package can be loaded from temporary location No methods found in package ‘IRanges’ for request: ‘values’ when loading ‘MEDIPS’ ** testing if installed package can be loaded from final location No methods found in package ‘IRanges’ for request: ‘values’ when loading ‘MEDIPS’ ** testing if installed package keeps a record of temporary installation path * DONE (MEDIPS)
MEDIPS.Rcheck/MEDIPS-Ex.timings
| name | user | system | elapsed | |
| COUPLINGset-class | 0.001 | 0.001 | 0.001 | |
| MEDIPS.CpGenrich | 0.047 | 0.000 | 0.047 | |
| MEDIPS.addCNV | 17.436 | 0.419 | 17.857 | |
| MEDIPS.correlation | 1.553 | 0.000 | 1.553 | |
| MEDIPS.couplingVector | 3.697 | 0.060 | 3.757 | |
| MEDIPS.createROIset | 1.243 | 0.000 | 1.243 | |
| MEDIPS.createSet | 1.340 | 0.004 | 1.344 | |
| MEDIPS.exportWIG | 2.324 | 0.000 | 2.324 | |
| MEDIPS.getAnnotation | 0 | 0 | 0 | |
| MEDIPS.mergeFrames | 0.004 | 0.000 | 0.004 | |
| MEDIPS.mergeSets | 1.084 | 0.056 | 1.141 | |
| MEDIPS.meth | 33.156 | 0.160 | 33.317 | |
| MEDIPS.plotCalibrationPlot | 3.497 | 0.112 | 3.609 | |
| MEDIPS.plotSaturation | 6.678 | 0.032 | 6.710 | |
| MEDIPS.plotSeqCoverage | 3.006 | 0.128 | 3.134 | |
| MEDIPS.saturation | 5.335 | 0.008 | 5.343 | |
| MEDIPS.selectROIs | 1.396 | 0.044 | 1.440 | |
| MEDIPS.selectSig | 2.535 | 0.076 | 2.612 | |
| MEDIPS.seqCoverage | 3.443 | 0.044 | 3.487 | |
| MEDIPS.setAnnotation | 2.649 | 0.036 | 2.685 | |
| MEDIPSroiSet-class | 0.001 | 0.000 | 0.000 | |
| MEDIPSset-class | 0.001 | 0.000 | 0.000 | |