| Back to Multiple platform build/check report for BioC 3.16: simplified long |
|
This page was generated on 2023-04-12 11:06:12 -0400 (Wed, 12 Apr 2023).
| Hostname | OS | Arch (*) | R version | Installed pkgs |
|---|---|---|---|---|
| nebbiolo2 | Linux (Ubuntu 20.04.5 LTS) | x86_64 | 4.2.3 (2023-03-15) -- "Shortstop Beagle" | 4502 |
| palomino4 | Windows Server 2022 Datacenter | x64 | 4.2.3 (2023-03-15 ucrt) -- "Shortstop Beagle" | 4282 |
| lconway | macOS 12.5.1 Monterey | x86_64 | 4.2.3 (2023-03-15) -- "Shortstop Beagle" | 4310 |
| Click on any hostname to see more info about the system (e.g. compilers) (*) as reported by 'uname -p', except on Windows and Mac OS X | ||||
|
To the developers/maintainers of the KBoost package: - Please allow up to 24 hours (and sometimes 48 hours) for your latest push to git@git.bioconductor.org:packages/KBoost.git to reflect on this report. See How and When does the builder pull? When will my changes propagate? for more information. - Make sure to use the following settings in order to reproduce any error or warning you see on this page. |
| Package 1020/2183 | Hostname | OS / Arch | INSTALL | BUILD | CHECK | BUILD BIN | ||||||||
| KBoost 1.6.0 (landing page) Luis F. Iglesias-Martinez
| nebbiolo2 | Linux (Ubuntu 20.04.5 LTS) / x86_64 | OK | OK | OK | |||||||||
| palomino4 | Windows Server 2022 Datacenter / x64 | OK | OK | OK | OK | |||||||||
| lconway | macOS 12.5.1 Monterey / x86_64 | OK | OK | OK | OK | |||||||||
| Package: KBoost |
| Version: 1.6.0 |
| Command: /Library/Frameworks/R.framework/Resources/bin/R CMD check --install=check:KBoost.install-out.txt --library=/Library/Frameworks/R.framework/Resources/library --no-vignettes --timings KBoost_1.6.0.tar.gz |
| StartedAt: 2023-04-10 20:51:53 -0400 (Mon, 10 Apr 2023) |
| EndedAt: 2023-04-10 20:52:38 -0400 (Mon, 10 Apr 2023) |
| EllapsedTime: 45.3 seconds |
| RetCode: 0 |
| Status: OK |
| CheckDir: KBoost.Rcheck |
| Warnings: 0 |
##############################################################################
##############################################################################
###
### Running command:
###
### /Library/Frameworks/R.framework/Resources/bin/R CMD check --install=check:KBoost.install-out.txt --library=/Library/Frameworks/R.framework/Resources/library --no-vignettes --timings KBoost_1.6.0.tar.gz
###
##############################################################################
##############################################################################
* using log directory ‘/Users/biocbuild/bbs-3.16-bioc/meat/KBoost.Rcheck’
* using R version 4.2.3 (2023-03-15)
* using platform: x86_64-apple-darwin17.0 (64-bit)
* using session charset: UTF-8
* using option ‘--no-vignettes’
* checking for file ‘KBoost/DESCRIPTION’ ... OK
* checking extension type ... Package
* this is package ‘KBoost’ version ‘1.6.0’
* package encoding: UTF-8
* checking package namespace information ... OK
* checking package dependencies ... OK
* checking if this is a source package ... OK
* checking if there is a namespace ... OK
* checking for hidden files and directories ... OK
* checking for portable file names ... OK
* checking for sufficient/correct file permissions ... OK
* checking whether package ‘KBoost’ can be installed ... OK
* checking installed package size ... OK
* checking package directory ... OK
* checking ‘build’ directory ... OK
* checking DESCRIPTION meta-information ... OK
* checking top-level files ... OK
* checking for left-over files ... OK
* checking index information ... OK
* checking package subdirectories ... OK
* checking R files for non-ASCII characters ... OK
* checking R files for syntax errors ... OK
* checking whether the package can be loaded ... OK
* checking whether the package can be loaded with stated dependencies ... OK
* checking whether the package can be unloaded cleanly ... OK
* checking whether the namespace can be loaded with stated dependencies ... OK
* checking whether the namespace can be unloaded cleanly ... OK
* checking dependencies in R code ... OK
* checking S3 generic/method consistency ... OK
* checking replacement functions ... OK
* checking foreign function calls ... OK
* checking R code for possible problems ... NOTE
check_input: no visible global function definition for ‘is’
net_summary_bin: no visible global function definition for ‘is’
Undefined global functions or variables:
is
Consider adding
importFrom("methods", "is")
to your NAMESPACE file (and ensure that your DESCRIPTION Imports field
contains 'methods').
* checking Rd files ... OK
* checking Rd metadata ... OK
* checking Rd cross-references ... OK
* checking for missing documentation entries ... OK
* checking for code/documentation mismatches ... OK
* checking Rd \usage sections ... OK
* checking Rd contents ... OK
* checking for unstated dependencies in examples ... OK
* checking contents of ‘data’ directory ... OK
* checking data for non-ASCII characters ... OK
* checking LazyData ... OK
* checking data for ASCII and uncompressed saves ... OK
* checking files in ‘vignettes’ ... OK
* checking examples ... OK
Examples with CPU (user + system) or elapsed time > 5s
user system elapsed
d4_mfac 6.686 2.442 9.195
* checking for unstated dependencies in ‘tests’ ... OK
* checking tests ...
Running ‘testthat.R’
OK
* checking for unstated dependencies in vignettes ... OK
* checking package vignettes in ‘inst/doc’ ... OK
* checking running R code from vignettes ... SKIPPED
* checking re-building of vignette outputs ... SKIPPED
* checking PDF version of manual ... OK
* DONE
Status: 1 NOTE
See
‘/Users/biocbuild/bbs-3.16-bioc/meat/KBoost.Rcheck/00check.log’
for details.
KBoost.Rcheck/00install.out
############################################################################## ############################################################################## ### ### Running command: ### ### /Library/Frameworks/R.framework/Resources/bin/R CMD INSTALL KBoost ### ############################################################################## ############################################################################## * installing to library ‘/Library/Frameworks/R.framework/Versions/4.2/Resources/library’ * installing *source* package ‘KBoost’ ... ** using staged installation ** R ** data *** moving datasets to lazyload DB ** byte-compile and prepare package for lazy loading ** help *** installing help indices ** building package indices ** installing vignettes ** testing if installed package can be loaded from temporary location ** testing if installed package can be loaded from final location ** testing if installed package keeps a record of temporary installation path * DONE (KBoost)
KBoost.Rcheck/tests/testthat.Rout
R version 4.2.3 (2023-03-15) -- "Shortstop Beagle"
Copyright (C) 2023 The R Foundation for Statistical Computing
Platform: x86_64-apple-darwin17.0 (64-bit)
R is free software and comes with ABSOLUTELY NO WARRANTY.
You are welcome to redistribute it under certain conditions.
Type 'license()' or 'licence()' for distribution details.
R is a collaborative project with many contributors.
Type 'contributors()' for more information and
'citation()' on how to cite R or R packages in publications.
Type 'demo()' for some demos, 'help()' for on-line help, or
'help.start()' for an HTML browser interface to help.
Type 'q()' to quit R.
> library(testthat)
> library(KBoost)
>
> test_check("KBoost")
[ FAIL 0 | WARN 0 | SKIP 0 | PASS 7 ]
>
> proc.time()
user system elapsed
0.748 0.112 0.856
KBoost.Rcheck/KBoost-Ex.timings
| name | user | system | elapsed | |
| AUPR_AUROC_matrix | 1.406 | 0.624 | 2.058 | |
| D4_multi_1 | 0.001 | 0.002 | 0.002 | |
| D4_multi_2 | 0.001 | 0.001 | 0.002 | |
| D4_multi_3 | 0.001 | 0.000 | 0.001 | |
| D4_multi_4 | 0.001 | 0.000 | 0.001 | |
| D4_multi_5 | 0.000 | 0.000 | 0.002 | |
| G_D4_multi_1 | 0.000 | 0.000 | 0.001 | |
| G_D4_multi_2 | 0.000 | 0.001 | 0.001 | |
| G_D4_multi_3 | 0.001 | 0.001 | 0.001 | |
| G_D4_multi_4 | 0.001 | 0.001 | 0.001 | |
| G_D4_multi_5 | 0.001 | 0.001 | 0.001 | |
| Gerstein_Prior_ENET_2 | 0.001 | 0.001 | 0.002 | |
| Human_TFs | 0.001 | 0.001 | 0.002 | |
| IRMA_Gold | 0.001 | 0.001 | 0.002 | |
| KBoost_human_symbol | 0.015 | 0.000 | 0.017 | |
| KPC | 0.005 | 0.000 | 0.005 | |
| RBF_K | 0.001 | 0.001 | 0.000 | |
| add_names | 0.510 | 0.119 | 0.631 | |
| d4_mfac | 6.686 | 2.442 | 9.195 | |
| get_prior_Gerstein | 0.003 | 0.000 | 0.003 | |
| get_tfs_human | 0.001 | 0.001 | 0.000 | |
| grid_search_kboost | 0.105 | 0.012 | 0.117 | |
| irma_check | 0.008 | 0.001 | 0.008 | |
| irma_off | 0.001 | 0.001 | 0.001 | |
| irma_on | 0.001 | 0.001 | 0.001 | |
| kboost | 0.471 | 0.107 | 0.579 | |
| kernel_normal | 0 | 0 | 0 | |
| kernel_pc_boosting | 0.314 | 0.061 | 0.377 | |
| net_dist_bin | 0.505 | 0.142 | 0.656 | |
| net_refine | 0.004 | 0.000 | 0.005 | |
| net_summary_bin | 0.468 | 0.103 | 0.571 | |
| tab_2_matrix_D4 | 0.001 | 0.000 | 0.001 | |
| write_GRN_D4 | 0.662 | 0.103 | 0.769 | |