| Back to Multiple platform build/check report for BioC 3.16: simplified long |
|
This page was generated on 2023-04-12 11:05:05 -0400 (Wed, 12 Apr 2023).
| Hostname | OS | Arch (*) | R version | Installed pkgs |
|---|---|---|---|---|
| nebbiolo2 | Linux (Ubuntu 20.04.5 LTS) | x86_64 | 4.2.3 (2023-03-15) -- "Shortstop Beagle" | 4502 |
| palomino4 | Windows Server 2022 Datacenter | x64 | 4.2.3 (2023-03-15 ucrt) -- "Shortstop Beagle" | 4282 |
| lconway | macOS 12.5.1 Monterey | x86_64 | 4.2.3 (2023-03-15) -- "Shortstop Beagle" | 4310 |
| Click on any hostname to see more info about the system (e.g. compilers) (*) as reported by 'uname -p', except on Windows and Mac OS X | ||||
|
To the developers/maintainers of the GenomicRanges package: - Please allow up to 24 hours (and sometimes 48 hours) for your latest push to git@git.bioconductor.org:packages/GenomicRanges.git to reflect on this report. See How and When does the builder pull? When will my changes propagate? for more information. - Make sure to use the following settings in order to reproduce any error or warning you see on this page. |
| Package 791/2183 | Hostname | OS / Arch | INSTALL | BUILD | CHECK | BUILD BIN | ||||||||
| GenomicRanges 1.50.2 (landing page) Hervé Pagès
| nebbiolo2 | Linux (Ubuntu 20.04.5 LTS) / x86_64 | OK | OK | OK | |||||||||
| palomino4 | Windows Server 2022 Datacenter / x64 | OK | OK | OK | OK | |||||||||
| lconway | macOS 12.5.1 Monterey / x86_64 | OK | OK | OK | OK | |||||||||
| Package: GenomicRanges |
| Version: 1.50.2 |
| Command: /home/biocbuild/bbs-3.16-bioc/R/bin/R CMD check --install=check:GenomicRanges.install-out.txt --library=/home/biocbuild/bbs-3.16-bioc/R/site-library --timings GenomicRanges_1.50.2.tar.gz |
| StartedAt: 2023-04-10 20:55:50 -0400 (Mon, 10 Apr 2023) |
| EndedAt: 2023-04-10 21:04:41 -0400 (Mon, 10 Apr 2023) |
| EllapsedTime: 530.8 seconds |
| RetCode: 0 |
| Status: OK |
| CheckDir: GenomicRanges.Rcheck |
| Warnings: 0 |
##############################################################################
##############################################################################
###
### Running command:
###
### /home/biocbuild/bbs-3.16-bioc/R/bin/R CMD check --install=check:GenomicRanges.install-out.txt --library=/home/biocbuild/bbs-3.16-bioc/R/site-library --timings GenomicRanges_1.50.2.tar.gz
###
##############################################################################
##############################################################################
* using log directory ‘/home/biocbuild/bbs-3.16-bioc/meat/GenomicRanges.Rcheck’
* using R version 4.2.3 (2023-03-15)
* using platform: x86_64-pc-linux-gnu (64-bit)
* using session charset: UTF-8
* checking for file ‘GenomicRanges/DESCRIPTION’ ... OK
* this is package ‘GenomicRanges’ version ‘1.50.2’
* package encoding: UTF-8
* checking package namespace information ... OK
* checking package dependencies ... OK
* checking if this is a source package ... OK
* checking if there is a namespace ... OK
* checking for hidden files and directories ... OK
* checking for portable file names ... OK
* checking for sufficient/correct file permissions ... OK
* checking whether package ‘GenomicRanges’ can be installed ... OK
* checking installed package size ... OK
* checking package directory ... OK
* checking ‘build’ directory ... OK
* checking DESCRIPTION meta-information ... OK
* checking top-level files ... OK
* checking for left-over files ... OK
* checking index information ... OK
* checking package subdirectories ... OK
* checking R files for non-ASCII characters ... OK
* checking R files for syntax errors ... OK
* checking whether the package can be loaded ... OK
* checking whether the package can be loaded with stated dependencies ... OK
* checking whether the package can be unloaded cleanly ... OK
* checking whether the namespace can be loaded with stated dependencies ... OK
* checking whether the namespace can be unloaded cleanly ... OK
* checking loading without being on the library search path ... OK
* checking dependencies in R code ... OK
* checking S3 generic/method consistency ... OK
* checking replacement functions ... OK
* checking foreign function calls ... OK
* checking R code for possible problems ... OK
* checking Rd files ... OK
* checking Rd metadata ... OK
* checking Rd cross-references ... OK
* checking for missing documentation entries ... OK
* checking for code/documentation mismatches ... OK
* checking Rd \usage sections ... OK
* checking Rd contents ... OK
* checking for unstated dependencies in examples ... OK
* checking line endings in C/C++/Fortran sources/headers ... OK
* checking compiled code ... NOTE
Note: information on .o files is not available
* checking files in ‘vignettes’ ... OK
* checking examples ... OK
Examples with CPU (user + system) or elapsed time > 5s
user system elapsed
genomicvars 42.302 4.508 46.810
GPos-class 40.649 5.677 46.332
makeGRangesFromDataFrame 0.668 0.016 8.512
* checking for unstated dependencies in ‘tests’ ... OK
* checking tests ...
Running ‘run_unitTests.R’
OK
* checking for unstated dependencies in vignettes ... OK
* checking package vignettes in ‘inst/doc’ ... OK
* checking running R code from vignettes ...
‘GenomicRangesIntroduction.Rmd’ using ‘UTF-8’... OK
‘ExtendingGenomicRanges.Rnw’ using ‘UTF-8’... OK
‘GRanges_and_GRangesList_slides.Rnw’ using ‘UTF-8’... OK
‘GenomicRangesHOWTOs.Rnw’ using ‘UTF-8’... OK
‘Ten_things_slides.Rnw’ using ‘UTF-8’... OK
OK
* checking re-building of vignette outputs ... OK
* checking PDF version of manual ... OK
* DONE
Status: 1 NOTE
See
‘/home/biocbuild/bbs-3.16-bioc/meat/GenomicRanges.Rcheck/00check.log’
for details.
GenomicRanges.Rcheck/00install.out
##############################################################################
##############################################################################
###
### Running command:
###
### /home/biocbuild/bbs-3.16-bioc/R/bin/R CMD INSTALL GenomicRanges
###
##############################################################################
##############################################################################
* installing to library ‘/home/biocbuild/bbs-3.16-bioc/R/site-library’
* installing *source* package ‘GenomicRanges’ ...
** using staged installation
** libs
gcc -I"/home/biocbuild/bbs-3.16-bioc/R/include" -DNDEBUG -I'/home/biocbuild/bbs-3.16-bioc/R/site-library/S4Vectors/include' -I'/home/biocbuild/bbs-3.16-bioc/R/site-library/IRanges/include' -I/usr/local/include -fpic -g -O2 -Wall -c IRanges_stubs.c -o IRanges_stubs.o
gcc -I"/home/biocbuild/bbs-3.16-bioc/R/include" -DNDEBUG -I'/home/biocbuild/bbs-3.16-bioc/R/site-library/S4Vectors/include' -I'/home/biocbuild/bbs-3.16-bioc/R/site-library/IRanges/include' -I/usr/local/include -fpic -g -O2 -Wall -c R_init_GenomicRanges.c -o R_init_GenomicRanges.o
gcc -I"/home/biocbuild/bbs-3.16-bioc/R/include" -DNDEBUG -I'/home/biocbuild/bbs-3.16-bioc/R/site-library/S4Vectors/include' -I'/home/biocbuild/bbs-3.16-bioc/R/site-library/IRanges/include' -I/usr/local/include -fpic -g -O2 -Wall -c S4Vectors_stubs.c -o S4Vectors_stubs.o
gcc -I"/home/biocbuild/bbs-3.16-bioc/R/include" -DNDEBUG -I'/home/biocbuild/bbs-3.16-bioc/R/site-library/S4Vectors/include' -I'/home/biocbuild/bbs-3.16-bioc/R/site-library/IRanges/include' -I/usr/local/include -fpic -g -O2 -Wall -c transcript_utils.c -o transcript_utils.o
transcript_utils.c: In function ‘tlocs2rlocs’:
transcript_utils.c:143:38: warning: ‘end’ may be used uninitialized in this function [-Wmaybe-uninitialized]
143 | return on_minus_strand ? end - tloc : start + tloc;
| ~~~~~~~~~~~~~~~~~~~~~~~~~~~~~^~~~~~~~~~~~~~
transcript_utils.c:120:24: note: ‘end’ was declared here
120 | int nexons, j, start, end, width;
| ^~~
transcript_utils.c:143:38: warning: ‘start’ may be used uninitialized in this function [-Wmaybe-uninitialized]
143 | return on_minus_strand ? end - tloc : start + tloc;
| ~~~~~~~~~~~~~~~~~~~~~~~~~~~~~^~~~~~~~~~~~~~
transcript_utils.c:120:17: note: ‘start’ was declared here
120 | int nexons, j, start, end, width;
| ^~~~~
gcc -shared -L/home/biocbuild/bbs-3.16-bioc/R/lib -L/usr/local/lib -o GenomicRanges.so IRanges_stubs.o R_init_GenomicRanges.o S4Vectors_stubs.o transcript_utils.o -L/home/biocbuild/bbs-3.16-bioc/R/lib -lR
installing to /home/biocbuild/bbs-3.16-bioc/R/site-library/00LOCK-GenomicRanges/00new/GenomicRanges/libs
** R
** inst
** byte-compile and prepare package for lazy loading
** help
*** installing help indices
** building package indices
** installing vignettes
** testing if installed package can be loaded from temporary location
** checking absolute paths in shared objects and dynamic libraries
** testing if installed package can be loaded from final location
** testing if installed package keeps a record of temporary installation path
* DONE (GenomicRanges)
GenomicRanges.Rcheck/tests/run_unitTests.Rout
R version 4.2.3 (2023-03-15) -- "Shortstop Beagle"
Copyright (C) 2023 The R Foundation for Statistical Computing
Platform: x86_64-pc-linux-gnu (64-bit)
R is free software and comes with ABSOLUTELY NO WARRANTY.
You are welcome to redistribute it under certain conditions.
Type 'license()' or 'licence()' for distribution details.
R is a collaborative project with many contributors.
Type 'contributors()' for more information and
'citation()' on how to cite R or R packages in publications.
Type 'demo()' for some demos, 'help()' for on-line help, or
'help.start()' for an HTML browser interface to help.
Type 'q()' to quit R.
> require("GenomicRanges") || stop("unable to load GenomicRanges package")
Loading required package: GenomicRanges
Loading required package: stats4
Loading required package: BiocGenerics
Attaching package: 'BiocGenerics'
The following objects are masked from 'package:stats':
IQR, mad, sd, var, xtabs
The following objects are masked from 'package:base':
Filter, Find, Map, Position, Reduce, anyDuplicated, aperm, append,
as.data.frame, basename, cbind, colnames, dirname, do.call,
duplicated, eval, evalq, get, grep, grepl, intersect, is.unsorted,
lapply, mapply, match, mget, order, paste, pmax, pmax.int, pmin,
pmin.int, rank, rbind, rownames, sapply, setdiff, sort, table,
tapply, union, unique, unsplit, which.max, which.min
Loading required package: S4Vectors
Attaching package: 'S4Vectors'
The following objects are masked from 'package:base':
I, expand.grid, unname
Loading required package: IRanges
Loading required package: GenomeInfoDb
[1] TRUE
> GenomicRanges:::.test()
RUNIT TEST PROTOCOL -- Mon Apr 10 20:59:38 2023
***********************************************
Number of test functions: 73
Number of errors: 0
Number of failures: 0
1 Test Suite :
GenomicRanges RUnit Tests - 73 test functions, 0 errors, 0 failures
Number of test functions: 73
Number of errors: 0
Number of failures: 0
>
> proc.time()
user system elapsed
41.477 0.645 42.115
GenomicRanges.Rcheck/GenomicRanges-Ex.timings
| name | user | system | elapsed | |
| GNCList-class | 0.324 | 0.040 | 0.364 | |
| GPos-class | 40.649 | 5.677 | 46.332 | |
| GRanges-class | 0.807 | 0.012 | 0.820 | |
| GRangesFactor-class | 0.434 | 0.028 | 0.462 | |
| GRangesList-class | 0.395 | 0.004 | 0.399 | |
| GenomicRanges-comparison | 0.213 | 0.008 | 0.221 | |
| absoluteRanges | 0.947 | 0.044 | 0.991 | |
| constraint | 0.838 | 0.012 | 0.849 | |
| coverage-methods | 0.276 | 0.004 | 0.280 | |
| findOverlaps-methods | 1.738 | 0.036 | 1.774 | |
| genomic-range-squeezers | 0 | 0 | 0 | |
| genomicvars | 42.302 | 4.508 | 46.810 | |
| inter-range-methods | 2.150 | 0.036 | 2.185 | |
| intra-range-methods | 0.512 | 0.020 | 0.532 | |
| makeGRangesFromDataFrame | 0.668 | 0.016 | 8.512 | |
| makeGRangesListFromDataFrame | 0.096 | 0.000 | 0.097 | |
| nearest-methods | 1.450 | 0.108 | 1.558 | |
| phicoef | 0.002 | 0.000 | 0.001 | |
| setops-methods | 3.045 | 0.339 | 3.384 | |
| strand-utils | 0.095 | 0.009 | 0.103 | |
| subtract-methods | 0.232 | 0.020 | 0.253 | |
| tile-methods | 0.092 | 0.003 | 0.096 | |
| tileGenome | 0.334 | 0.055 | 0.390 | |