| Back to Multiple platform build/check report for BioC 3.16: simplified long |
|
This page was generated on 2023-04-12 11:05:05 -0400 (Wed, 12 Apr 2023).
| Hostname | OS | Arch (*) | R version | Installed pkgs |
|---|---|---|---|---|
| nebbiolo2 | Linux (Ubuntu 20.04.5 LTS) | x86_64 | 4.2.3 (2023-03-15) -- "Shortstop Beagle" | 4502 |
| palomino4 | Windows Server 2022 Datacenter | x64 | 4.2.3 (2023-03-15 ucrt) -- "Shortstop Beagle" | 4282 |
| lconway | macOS 12.5.1 Monterey | x86_64 | 4.2.3 (2023-03-15) -- "Shortstop Beagle" | 4310 |
| Click on any hostname to see more info about the system (e.g. compilers) (*) as reported by 'uname -p', except on Windows and Mac OS X | ||||
|
To the developers/maintainers of the GenomicDataCommons package: - Please allow up to 24 hours (and sometimes 48 hours) for your latest push to git@git.bioconductor.org:packages/GenomicDataCommons.git to reflect on this report. See How and When does the builder pull? When will my changes propagate? for more information. - Make sure to use the following settings in order to reproduce any error or warning you see on this page. |
| Package 783/2183 | Hostname | OS / Arch | INSTALL | BUILD | CHECK | BUILD BIN | ||||||||
| GenomicDataCommons 1.22.3 (landing page) Sean Davis
| nebbiolo2 | Linux (Ubuntu 20.04.5 LTS) / x86_64 | OK | OK | OK | |||||||||
| palomino4 | Windows Server 2022 Datacenter / x64 | OK | OK | OK | OK | |||||||||
| lconway | macOS 12.5.1 Monterey / x86_64 | OK | OK | OK | OK | |||||||||
| Package: GenomicDataCommons |
| Version: 1.22.3 |
| Command: /home/biocbuild/bbs-3.16-bioc/R/bin/R CMD check --install=check:GenomicDataCommons.install-out.txt --library=/home/biocbuild/bbs-3.16-bioc/R/site-library --timings GenomicDataCommons_1.22.3.tar.gz |
| StartedAt: 2023-04-10 20:55:18 -0400 (Mon, 10 Apr 2023) |
| EndedAt: 2023-04-10 20:57:56 -0400 (Mon, 10 Apr 2023) |
| EllapsedTime: 158.0 seconds |
| RetCode: 0 |
| Status: OK |
| CheckDir: GenomicDataCommons.Rcheck |
| Warnings: 0 |
############################################################################## ############################################################################## ### ### Running command: ### ### /home/biocbuild/bbs-3.16-bioc/R/bin/R CMD check --install=check:GenomicDataCommons.install-out.txt --library=/home/biocbuild/bbs-3.16-bioc/R/site-library --timings GenomicDataCommons_1.22.3.tar.gz ### ############################################################################## ############################################################################## * using log directory ‘/home/biocbuild/bbs-3.16-bioc/meat/GenomicDataCommons.Rcheck’ * using R version 4.2.3 (2023-03-15) * using platform: x86_64-pc-linux-gnu (64-bit) * using session charset: UTF-8 * checking for file ‘GenomicDataCommons/DESCRIPTION’ ... OK * checking extension type ... Package * this is package ‘GenomicDataCommons’ version ‘1.22.3’ * package encoding: UTF-8 * checking package namespace information ... OK * checking package dependencies ... OK * checking if this is a source package ... OK * checking if there is a namespace ... OK * checking for hidden files and directories ... OK * checking for portable file names ... OK * checking for sufficient/correct file permissions ... OK * checking whether package ‘GenomicDataCommons’ can be installed ... OK * checking installed package size ... OK * checking package directory ... OK * checking ‘build’ directory ... OK * checking DESCRIPTION meta-information ... OK * checking top-level files ... OK * checking for left-over files ... OK * checking index information ... OK * checking package subdirectories ... OK * checking R files for non-ASCII characters ... OK * checking R files for syntax errors ... OK * checking whether the package can be loaded ... OK * checking whether the package can be loaded with stated dependencies ... OK * checking whether the package can be unloaded cleanly ... OK * checking whether the namespace can be loaded with stated dependencies ... OK * checking whether the namespace can be unloaded cleanly ... OK * checking loading without being on the library search path ... OK * checking dependencies in R code ... OK * checking S3 generic/method consistency ... OK * checking replacement functions ... OK * checking foreign function calls ... OK * checking R code for possible problems ... OK * checking Rd files ... OK * checking Rd metadata ... OK * checking Rd cross-references ... OK * checking for missing documentation entries ... OK * checking for code/documentation mismatches ... OK * checking Rd \usage sections ... OK * checking Rd contents ... OK * checking for unstated dependencies in examples ... OK * checking R/sysdata.rda ... OK * checking files in ‘vignettes’ ... OK * checking examples ... OK * checking for unstated dependencies in ‘tests’ ... OK * checking tests ... Running ‘testthat.R’ OK * checking for unstated dependencies in vignettes ... OK * checking package vignettes in ‘inst/doc’ ... OK * checking running R code from vignettes ... ‘overview.Rmd’ using ‘UTF-8’... OK ‘questions-and-answers.Rmd’ using ‘UTF-8’... OK ‘somatic_mutations.Rmd’ using ‘UTF-8’... OK NONE * checking re-building of vignette outputs ... OK * checking PDF version of manual ... OK * DONE Status: OK
GenomicDataCommons.Rcheck/00install.out
############################################################################## ############################################################################## ### ### Running command: ### ### /home/biocbuild/bbs-3.16-bioc/R/bin/R CMD INSTALL GenomicDataCommons ### ############################################################################## ############################################################################## * installing to library ‘/home/biocbuild/bbs-3.16-bioc/R/site-library’ * installing *source* package ‘GenomicDataCommons’ ... ** using staged installation ** R ** inst ** byte-compile and prepare package for lazy loading ** help *** installing help indices ** building package indices ** installing vignettes ** testing if installed package can be loaded from temporary location ** testing if installed package can be loaded from final location ** testing if installed package keeps a record of temporary installation path * DONE (GenomicDataCommons)
GenomicDataCommons.Rcheck/tests/testthat.Rout
R version 4.2.3 (2023-03-15) -- "Shortstop Beagle"
Copyright (C) 2023 The R Foundation for Statistical Computing
Platform: x86_64-pc-linux-gnu (64-bit)
R is free software and comes with ABSOLUTELY NO WARRANTY.
You are welcome to redistribute it under certain conditions.
Type 'license()' or 'licence()' for distribution details.
R is a collaborative project with many contributors.
Type 'contributors()' for more information and
'citation()' on how to cite R or R packages in publications.
Type 'demo()' for some demos, 'help()' for on-line help, or
'help.start()' for an HTML browser interface to help.
Type 'q()' to quit R.
> library(testthat)
> library(GenomicDataCommons)
Loading required package: magrittr
Attaching package: 'magrittr'
The following objects are masked from 'package:testthat':
equals, is_less_than, not
Attaching package: 'GenomicDataCommons'
The following object is masked from 'package:stats':
filter
>
> test_check("GenomicDataCommons")
[ FAIL 0 | WARN 0 | SKIP 0 | PASS 52 ]
>
> proc.time()
user system elapsed
6.006 0.351 16.110
GenomicDataCommons.Rcheck/GenomicDataCommons-Ex.timings
| name | user | system | elapsed | |
| aggregations | 0.080 | 0.000 | 0.639 | |
| available_expand | 0.021 | 0.000 | 0.077 | |
| available_fields | 0.044 | 0.000 | 0.132 | |
| available_values | 0.044 | 0.000 | 0.508 | |
| constants | 0.001 | 0.000 | 0.000 | |
| count | 0.082 | 0.000 | 0.289 | |
| default_fields | 0.047 | 0.000 | 0.134 | |
| entity_name | 0.045 | 0.000 | 0.136 | |
| expand | 0.117 | 0.000 | 0.311 | |
| faceting | 0.072 | 0.000 | 0.195 | |
| field_description | 0.152 | 0.000 | 0.373 | |
| filtering | 0.564 | 0.031 | 1.558 | |
| gdc_cache | 0.002 | 0.000 | 0.002 | |
| gdc_client | 0.005 | 0.000 | 0.005 | |
| gdc_clinical | 0.756 | 0.008 | 1.212 | |
| gdc_token | 0 | 0 | 0 | |
| gdcdata | 0.355 | 0.019 | 1.064 | |
| grep_fields | 0.028 | 0.000 | 0.067 | |
| id_field | 0.033 | 0.001 | 0.075 | |
| ids | 0.204 | 0.016 | 0.737 | |
| legacy | 0.032 | 0.000 | 0.071 | |
| manifest | 0.070 | 0.000 | 0.216 | |
| mapping | 0.021 | 0.000 | 0.048 | |
| query | 0.055 | 0.004 | 0.143 | |
| readDNAcopy | 0.323 | 0.035 | 0.369 | |
| readHTSeqFile | 0.076 | 0.012 | 0.086 | |
| response | 0.058 | 0.000 | 0.185 | |
| results | 0.046 | 0.004 | 0.174 | |
| results_all | 0.093 | 0.000 | 0.303 | |
| select | 0.118 | 0.005 | 0.310 | |
| slicing | 0 | 0 | 0 | |
| status | 0.013 | 0.000 | 0.046 | |
| transfer | 0 | 0 | 0 | |
| write_manifest | 0.060 | 0.002 | 0.216 | |