| Back to Multiple platform build/check report for BioC 3.16: simplified long |
|
This page was generated on 2023-04-12 11:05:05 -0400 (Wed, 12 Apr 2023).
| Hostname | OS | Arch (*) | R version | Installed pkgs |
|---|---|---|---|---|
| nebbiolo2 | Linux (Ubuntu 20.04.5 LTS) | x86_64 | 4.2.3 (2023-03-15) -- "Shortstop Beagle" | 4502 |
| palomino4 | Windows Server 2022 Datacenter | x64 | 4.2.3 (2023-03-15 ucrt) -- "Shortstop Beagle" | 4282 |
| lconway | macOS 12.5.1 Monterey | x86_64 | 4.2.3 (2023-03-15) -- "Shortstop Beagle" | 4310 |
| Click on any hostname to see more info about the system (e.g. compilers) (*) as reported by 'uname -p', except on Windows and Mac OS X | ||||
|
To the developers/maintainers of the GeneGeneInteR package: - Please allow up to 24 hours (and sometimes 48 hours) for your latest push to git@git.bioconductor.org:packages/GeneGeneInteR.git to reflect on this report. See How and When does the builder pull? When will my changes propagate? for more information. - Make sure to use the following settings in order to reproduce any error or warning you see on this page. |
| Package 759/2183 | Hostname | OS / Arch | INSTALL | BUILD | CHECK | BUILD BIN | ||||||||
| GeneGeneInteR 1.24.0 (landing page) Mathieu Emily
| nebbiolo2 | Linux (Ubuntu 20.04.5 LTS) / x86_64 | OK | OK | OK | |||||||||
| palomino4 | Windows Server 2022 Datacenter / x64 | OK | OK | OK | OK | |||||||||
| lconway | macOS 12.5.1 Monterey / x86_64 | OK | OK | OK | OK | |||||||||
| Package: GeneGeneInteR |
| Version: 1.24.0 |
| Command: /home/biocbuild/bbs-3.16-bioc/R/bin/R CMD check --install=check:GeneGeneInteR.install-out.txt --library=/home/biocbuild/bbs-3.16-bioc/R/site-library --timings GeneGeneInteR_1.24.0.tar.gz |
| StartedAt: 2023-04-10 20:52:17 -0400 (Mon, 10 Apr 2023) |
| EndedAt: 2023-04-10 20:55:03 -0400 (Mon, 10 Apr 2023) |
| EllapsedTime: 165.4 seconds |
| RetCode: 0 |
| Status: OK |
| CheckDir: GeneGeneInteR.Rcheck |
| Warnings: 0 |
##############################################################################
##############################################################################
###
### Running command:
###
### /home/biocbuild/bbs-3.16-bioc/R/bin/R CMD check --install=check:GeneGeneInteR.install-out.txt --library=/home/biocbuild/bbs-3.16-bioc/R/site-library --timings GeneGeneInteR_1.24.0.tar.gz
###
##############################################################################
##############################################################################
* using log directory ‘/home/biocbuild/bbs-3.16-bioc/meat/GeneGeneInteR.Rcheck’
* using R version 4.2.3 (2023-03-15)
* using platform: x86_64-pc-linux-gnu (64-bit)
* using session charset: UTF-8
* checking for file ‘GeneGeneInteR/DESCRIPTION’ ... OK
* checking extension type ... Package
* this is package ‘GeneGeneInteR’ version ‘1.24.0’
* checking package namespace information ... OK
* checking package dependencies ... OK
* checking if this is a source package ... OK
* checking if there is a namespace ... OK
* checking for hidden files and directories ... OK
* checking for portable file names ... OK
* checking for sufficient/correct file permissions ... OK
* checking whether package ‘GeneGeneInteR’ can be installed ... OK
* checking installed package size ... OK
* checking package directory ... OK
* checking ‘build’ directory ... OK
* checking DESCRIPTION meta-information ... OK
* checking top-level files ... OK
* checking for left-over files ... OK
* checking index information ... OK
* checking package subdirectories ... OK
* checking R files for non-ASCII characters ... OK
* checking R files for syntax errors ... OK
* checking whether the package can be loaded ... OK
* checking whether the package can be loaded with stated dependencies ... OK
* checking whether the package can be unloaded cleanly ... OK
* checking whether the namespace can be loaded with stated dependencies ... OK
* checking whether the namespace can be unloaded cleanly ... OK
* checking loading without being on the library search path ... OK
* checking dependencies in R code ... OK
* checking S3 generic/method consistency ... OK
* checking replacement functions ... OK
* checking foreign function calls ... OK
* checking R code for possible problems ... NOTE
get_PLSR: no visible global function definition for ‘cor’
get_PLSR_NA: no visible global function definition for ‘cor’
get_boot_stats: no visible binding for global variable ‘sd’
get_boots: no visible global function definition for ‘cor’
get_num_scale: no visible global function definition for ‘na.omit’
get_path_scheme: no visible global function definition for ‘lm’
get_path_scheme: no visible global function definition for ‘cor’
get_paths: no visible global function definition for ‘lm’
get_scores: no visible global function definition for ‘cor’
get_treated_data: no visible binding for global variable ‘sd’
get_unidim: no visible binding for global variable ‘sd’
get_unidim: no visible global function definition for ‘princomp’
get_unidim: no visible global function definition for ‘cor’
get_weights: no visible binding for global variable ‘sd’
get_weights: no visible global function definition for ‘cor’
get_weights_nonmetric: no visible binding for global variable
‘normalize’
get_weights_nonmetric: no visible global function definition for ‘cor’
get_weights_nonmetric: no visible global function definition for ‘lm’
get_weights_nonmetric: no visible binding for global variable ‘sd’
plspm: no visible global function definition for ‘cor’
Undefined global functions or variables:
cor lm na.omit normalize princomp sd
Consider adding
importFrom("stats", "cor", "lm", "na.omit", "princomp", "sd")
to your NAMESPACE file.
* checking Rd files ... OK
* checking Rd metadata ... OK
* checking Rd cross-references ... NOTE
Package unavailable to check Rd xrefs: ‘plspm’
Unknown package ‘GGtools’ in Rd xrefs
* checking for missing documentation entries ... OK
* checking for code/documentation mismatches ... OK
* checking Rd \usage sections ... OK
* checking Rd contents ... OK
* checking for unstated dependencies in examples ... OK
* checking contents of ‘data’ directory ... OK
* checking data for non-ASCII characters ... OK
* checking LazyData ... OK
* checking data for ASCII and uncompressed saves ... OK
* checking line endings in C/C++/Fortran sources/headers ... OK
* checking compiled code ... NOTE
Note: information on .o files is not available
* checking files in ‘vignettes’ ... OK
* checking examples ... OK
* checking for unstated dependencies in vignettes ... OK
* checking package vignettes in ‘inst/doc’ ... OK
* checking running R code from vignettes ...
‘GenePair.Rnw’... OK
‘VignetteGeneGeneInteR_Introduction.Rnw’... OK
NONE
* checking re-building of vignette outputs ... OK
* checking PDF version of manual ... OK
* DONE
Status: 3 NOTEs
See
‘/home/biocbuild/bbs-3.16-bioc/meat/GeneGeneInteR.Rcheck/00check.log’
for details.
GeneGeneInteR.Rcheck/00install.out
############################################################################## ############################################################################## ### ### Running command: ### ### /home/biocbuild/bbs-3.16-bioc/R/bin/R CMD INSTALL GeneGeneInteR ### ############################################################################## ############################################################################## * installing to library ‘/home/biocbuild/bbs-3.16-bioc/R/site-library’ * installing *source* package ‘GeneGeneInteR’ ... ** using staged installation ** libs g++ -std=gnu++14 -I"/home/biocbuild/bbs-3.16-bioc/R/include" -DNDEBUG -I/usr/local/include -fpic -g -O2 -Wall -c chclust.cpp -o chclust.o g++ -std=gnu++14 -shared -L/home/biocbuild/bbs-3.16-bioc/R/lib -L/usr/local/lib -o GeneGeneInteR.so chclust.o -L/home/biocbuild/bbs-3.16-bioc/R/lib -lR installing to /home/biocbuild/bbs-3.16-bioc/R/site-library/00LOCK-GeneGeneInteR/00new/GeneGeneInteR/libs ** R ** data *** moving datasets to lazyload DB ** inst ** byte-compile and prepare package for lazy loading ** help *** installing help indices ** building package indices ** installing vignettes ** testing if installed package can be loaded from temporary location ** checking absolute paths in shared objects and dynamic libraries ** testing if installed package can be loaded from final location ** testing if installed package keeps a record of temporary installation path * DONE (GeneGeneInteR)
GeneGeneInteR.Rcheck/GeneGeneInteR-Ex.timings
| name | user | system | elapsed | |
| CCA.test | 0.457 | 0.007 | 0.464 | |
| CLD.test | 0.872 | 0.012 | 0.884 | |
| GBIGM.test | 2.567 | 0.049 | 2.615 | |
| GGI | 0.859 | 0.011 | 0.871 | |
| KCCA.test | 0.000 | 0.000 | 0.001 | |
| PCA.test | 0.052 | 0.007 | 0.059 | |
| PLSPM.test | 1.766 | 0.003 | 1.771 | |
| gates.test | 0.235 | 0.000 | 0.235 | |
| importFile | 0.216 | 0.004 | 0.221 | |
| imputeSnpMatrix | 0.527 | 0.008 | 0.535 | |
| minP.test | 0.388 | 0.004 | 0.393 | |
| plot.GGInetwork | 0.092 | 0.020 | 0.113 | |
| print.GGItest | 0.011 | 0.004 | 0.015 | |
| selectSnps | 0.004 | 0.000 | 0.005 | |
| snpMatrixScour | 0.029 | 0.000 | 0.029 | |
| summary.GGInetwork | 0.005 | 0.000 | 0.005 | |
| summary.GGItest | 0.015 | 0.000 | 0.016 | |
| tProd.test | 0.276 | 0.004 | 0.280 | |
| tTS.test | 0.849 | 0.060 | 0.909 | |