| Back to Multiple platform build/check report for BioC 3.16: simplified long | 
 | 
This page was generated on 2023-04-12 11:06:08 -0400 (Wed, 12 Apr 2023).
| Hostname | OS | Arch (*) | R version | Installed pkgs | 
|---|---|---|---|---|
| nebbiolo2 | Linux (Ubuntu 20.04.5 LTS) | x86_64 | 4.2.3 (2023-03-15) -- "Shortstop Beagle" | 4502 | 
| palomino4 | Windows Server 2022 Datacenter | x64 | 4.2.3 (2023-03-15 ucrt) -- "Shortstop Beagle" | 4282 | 
| lconway | macOS 12.5.1 Monterey | x86_64 | 4.2.3 (2023-03-15) -- "Shortstop Beagle" | 4310 | 
| Click on any hostname to see more info about the system (e.g. compilers) (*) as reported by 'uname -p', except on Windows and Mac OS X | ||||
| To the developers/maintainers of the GENIE3 package: - Please allow up to 24 hours (and sometimes 48 hours) for your latest push to git@git.bioconductor.org:packages/GENIE3.git to reflect on this report. See How and When does the builder pull? When will my changes propagate? for more information. - Make sure to use the following settings in order to reproduce any error or warning you see on this page. | 
| Package 775/2183 | Hostname | OS / Arch | INSTALL | BUILD | CHECK | BUILD BIN | ||||||||
| GENIE3 1.20.0  (landing page) Van Anh Huynh-Thu 
 | nebbiolo2 | Linux (Ubuntu 20.04.5 LTS) / x86_64 | OK | OK | OK |  | ||||||||
| palomino4 | Windows Server 2022 Datacenter / x64 | OK | OK | OK | OK |  | ||||||||
| lconway | macOS 12.5.1 Monterey / x86_64 | OK | OK | OK | OK |  | ||||||||
| Package: GENIE3 | 
| Version: 1.20.0 | 
| Command: rm -rf GENIE3.buildbin-libdir && mkdir GENIE3.buildbin-libdir && /Users/biocbuild/BBS/utils/build-universal.sh GENIE3_1.20.0.tar.gz /Library/Frameworks/R.framework/Resources/bin/R GENIE3.buildbin-libdir | 
| StartedAt: 2023-04-10 23:45:06 -0400 (Mon, 10 Apr 2023) | 
| EndedAt: 2023-04-10 23:45:13 -0400 (Mon, 10 Apr 2023) | 
| EllapsedTime: 6.7 seconds | 
| RetCode: 0 | 
| Status: OK | 
| PackageFile: GENIE3_1.20.0.tgz | 
| PackageFileSize: 264.3 KiB | 
##############################################################################
##############################################################################
###
### Running command:
###
###   rm -rf GENIE3.buildbin-libdir && mkdir GENIE3.buildbin-libdir && /Users/biocbuild/BBS/utils/build-universal.sh GENIE3_1.20.0.tar.gz /Library/Frameworks/R.framework/Resources/bin/R GENIE3.buildbin-libdir
###
##############################################################################
##############################################################################
>>>>>>> 
>>>>>>> INSTALLATION WITH 'R CMD INSTALL --preclean --no-multiarch --library=GENIE3.buildbin-libdir GENIE3_1.20.0.tar.gz'
>>>>>>> 
* installing *source* package ‘GENIE3’ ...
** using staged installation
** libs
clang -mmacosx-version-min=10.13 -I"/Library/Frameworks/R.framework/Resources/include" -DNDEBUG   -I/usr/local/include   -fPIC  -Wall -g -O2  -c GENIE3.c -o GENIE3.o
GENIE3.c:984:7: warning: variable 'sum_complexity' set but not used [-Wunused-but-set-variable]
  int sum_complexity=0;
      ^
1 warning generated.
clang -mmacosx-version-min=10.13 -dynamiclib -Wl,-headerpad_max_install_names -undefined dynamic_lookup -single_module -multiply_defined suppress -L/Library/Frameworks/R.framework/Resources/lib -L/usr/local/lib -o GENIE3.so GENIE3.o -F/Library/Frameworks/R.framework/.. -framework R -Wl,-framework -Wl,CoreFoundation
installing to /Users/biocbuild/bbs-3.16-bioc/meat/GENIE3.buildbin-libdir/00LOCK-GENIE3/00new/GENIE3/libs
** R
** inst
** byte-compile and prepare package for lazy loading
in method for ‘GENIE3’ with signature ‘"SummarizedExperiment"’: no definition for class “SummarizedExperiment”
in method for ‘GENIE3’ with signature ‘"ExpressionSet"’: no definition for class “ExpressionSet”
** help
*** installing help indices
** building package indices
** installing vignettes
** testing if installed package can be loaded from temporary location
** checking absolute paths in shared objects and dynamic libraries
** testing if installed package can be loaded from final location
** testing if installed package keeps a record of temporary installation path
* DONE (GENIE3)
>>>>>>> 
>>>>>>> FIXING LINKS FOR GENIE3.buildbin-libdir/GENIE3/libs/GENIE3.so
>>>>>>> 
install_name_tool -change "/usr/local/lib/libgcc_s.1.dylib" "/Library/Frameworks/R.framework/Versions/4.2/Resources/lib/libgcc_s.1.dylib" "GENIE3.buildbin-libdir/GENIE3/libs/GENIE3.so"
install_name_tool -change "/usr/local/lib/libgfortran.5.dylib" "/Library/Frameworks/R.framework/Versions/4.2/Resources/lib/libgfortran.5.dylib" "GENIE3.buildbin-libdir/GENIE3/libs/GENIE3.so"
install_name_tool -change "/usr/local/lib/libquadmath.0.dylib" "/Library/Frameworks/R.framework/Versions/4.2/Resources/lib/libquadmath.0.dylib" "GENIE3.buildbin-libdir/GENIE3/libs/GENIE3.so"