| Back to Multiple platform build/check report for BioC 3.16: simplified long |
|
This page was generated on 2023-04-12 11:05:01 -0400 (Wed, 12 Apr 2023).
| Hostname | OS | Arch (*) | R version | Installed pkgs |
|---|---|---|---|---|
| nebbiolo2 | Linux (Ubuntu 20.04.5 LTS) | x86_64 | 4.2.3 (2023-03-15) -- "Shortstop Beagle" | 4502 |
| palomino4 | Windows Server 2022 Datacenter | x64 | 4.2.3 (2023-03-15 ucrt) -- "Shortstop Beagle" | 4282 |
| lconway | macOS 12.5.1 Monterey | x86_64 | 4.2.3 (2023-03-15) -- "Shortstop Beagle" | 4310 |
| Click on any hostname to see more info about the system (e.g. compilers) (*) as reported by 'uname -p', except on Windows and Mac OS X | ||||
|
To the developers/maintainers of the COMPASS package: - Please allow up to 24 hours (and sometimes 48 hours) for your latest push to git@git.bioconductor.org:packages/COMPASS.git to reflect on this report. See How and When does the builder pull? When will my changes propagate? for more information. - Make sure to use the following settings in order to reproduce any error or warning you see on this page. |
| Package 392/2183 | Hostname | OS / Arch | INSTALL | BUILD | CHECK | BUILD BIN | ||||||||
| COMPASS 1.36.2 (landing page) Greg Finak
| nebbiolo2 | Linux (Ubuntu 20.04.5 LTS) / x86_64 | OK | OK | OK | |||||||||
| palomino4 | Windows Server 2022 Datacenter / x64 | OK | OK | OK | OK | |||||||||
| lconway | macOS 12.5.1 Monterey / x86_64 | OK | OK | OK | OK | |||||||||
| Package: COMPASS |
| Version: 1.36.2 |
| Command: /home/biocbuild/bbs-3.16-bioc/R/bin/R CMD check --install=check:COMPASS.install-out.txt --library=/home/biocbuild/bbs-3.16-bioc/R/site-library --timings COMPASS_1.36.2.tar.gz |
| StartedAt: 2023-04-10 19:53:12 -0400 (Mon, 10 Apr 2023) |
| EndedAt: 2023-04-10 19:57:34 -0400 (Mon, 10 Apr 2023) |
| EllapsedTime: 262.0 seconds |
| RetCode: 0 |
| Status: OK |
| CheckDir: COMPASS.Rcheck |
| Warnings: 0 |
##############################################################################
##############################################################################
###
### Running command:
###
### /home/biocbuild/bbs-3.16-bioc/R/bin/R CMD check --install=check:COMPASS.install-out.txt --library=/home/biocbuild/bbs-3.16-bioc/R/site-library --timings COMPASS_1.36.2.tar.gz
###
##############################################################################
##############################################################################
* using log directory ‘/home/biocbuild/bbs-3.16-bioc/meat/COMPASS.Rcheck’
* using R version 4.2.3 (2023-03-15)
* using platform: x86_64-pc-linux-gnu (64-bit)
* using session charset: UTF-8
* checking for file ‘COMPASS/DESCRIPTION’ ... OK
* checking extension type ... Package
* this is package ‘COMPASS’ version ‘1.36.2’
* package encoding: UTF-8
* checking package namespace information ... OK
* checking package dependencies ... OK
* checking if this is a source package ... OK
* checking if there is a namespace ... OK
* checking for hidden files and directories ... OK
* checking for portable file names ... OK
* checking for sufficient/correct file permissions ... OK
* checking whether package ‘COMPASS’ can be installed ... OK
* checking installed package size ... NOTE
installed size is 9.9Mb
sub-directories of 1Mb or more:
libs 7.7Mb
shiny 1.4Mb
* checking package directory ... OK
* checking ‘build’ directory ... OK
* checking DESCRIPTION meta-information ... OK
* checking top-level files ... OK
* checking for left-over files ... OK
* checking index information ... OK
* checking package subdirectories ... OK
* checking R files for non-ASCII characters ... OK
* checking R files for syntax errors ... OK
* checking whether the package can be loaded ... OK
* checking whether the package can be loaded with stated dependencies ... OK
* checking whether the package can be unloaded cleanly ... OK
* checking whether the namespace can be loaded with stated dependencies ... OK
* checking whether the namespace can be unloaded cleanly ... OK
* checking loading without being on the library search path ... OK
* checking dependencies in R code ... NOTE
Namespaces in Imports field not imported from:
‘BiocStyle’ ‘foreach’ ‘rmarkdown’
All declared Imports should be used.
* checking S3 generic/method consistency ... OK
* checking replacement functions ... OK
* checking foreign function calls ... OK
* checking R code for possible problems ... NOTE
.CellCounts: no visible binding for global variable
‘_COMPASS_CellCounts’
COMPASSfitToCountsTable: no visible binding for global variable
‘population’
COMPASSfitToCountsTable: no visible binding for global variable ‘Count’
COMPASSfitToCountsTable: no visible binding for global variable ‘id’
CellCounts_character: no visible binding for global variable
‘_COMPASS_CellCounts_character’
GetThresholdedIntensities : <anonymous>: no visible global function
definition for ‘gh_pop_is_bool_gate’
Undefined global functions or variables:
Count _COMPASS_CellCounts _COMPASS_CellCounts_character
gh_pop_is_bool_gate id population
* checking Rd files ... OK
* checking Rd metadata ... OK
* checking Rd cross-references ... OK
* checking for missing documentation entries ... OK
* checking for code/documentation mismatches ... OK
* checking Rd \usage sections ... OK
* checking Rd contents ... OK
* checking for unstated dependencies in examples ... OK
* checking contents of ‘data’ directory ... OK
* checking data for non-ASCII characters ... OK
* checking LazyData ... OK
* checking data for ASCII and uncompressed saves ... OK
* checking line endings in shell scripts ... OK
* checking line endings in C/C++/Fortran sources/headers ... OK
* checking line endings in Makefiles ... OK
* checking compilation flags in Makevars ... OK
* checking for GNU extensions in Makefiles ... OK
* checking for portable use of $(BLAS_LIBS) and $(LAPACK_LIBS) ... OK
* checking use of PKG_*FLAGS in Makefiles ... OK
* checking compiled code ... NOTE
Note: information on .o files is not available
* checking files in ‘vignettes’ ... OK
* checking examples ... OK
* checking for unstated dependencies in ‘tests’ ... OK
* checking tests ...
Running ‘test-all.R’
OK
* checking for unstated dependencies in vignettes ... OK
* checking package vignettes in ‘inst/doc’ ... OK
* checking running R code from vignettes ...
‘SimpleCOMPASS.Rmd’ using ‘UTF-8’... OK
‘COMPASS.Rmd’ using ‘UTF-8’... OK
NONE
* checking re-building of vignette outputs ... OK
* checking PDF version of manual ... OK
* DONE
Status: 4 NOTEs
See
‘/home/biocbuild/bbs-3.16-bioc/meat/COMPASS.Rcheck/00check.log’
for details.
COMPASS.Rcheck/00install.out
##############################################################################
##############################################################################
###
### Running command:
###
### /home/biocbuild/bbs-3.16-bioc/R/bin/R CMD INSTALL COMPASS
###
##############################################################################
##############################################################################
* installing to library ‘/home/biocbuild/bbs-3.16-bioc/R/site-library’
* installing *source* package ‘COMPASS’ ...
** using staged installation
** libs
gcc -I"/home/biocbuild/bbs-3.16-bioc/R/include" -DNDEBUG -I'/home/biocbuild/bbs-3.16-bioc/R/site-library/Rcpp/include' -I/usr/local/include -fpic -g -O2 -Wall -c COMPASS_init.c -o COMPASS_init.o
g++ -std=gnu++14 -I"/home/biocbuild/bbs-3.16-bioc/R/include" -DNDEBUG -I'/home/biocbuild/bbs-3.16-bioc/R/site-library/Rcpp/include' -I/usr/local/include -fpic -g -O2 -Wall -c CellCounts.cpp -o CellCounts.o
g++ -std=gnu++14 -I"/home/biocbuild/bbs-3.16-bioc/R/include" -DNDEBUG -I'/home/biocbuild/bbs-3.16-bioc/R/site-library/Rcpp/include' -I/usr/local/include -fpic -g -O2 -Wall -c CellCounts_character.cpp -o CellCounts_character.o
g++ -std=gnu++14 -I"/home/biocbuild/bbs-3.16-bioc/R/include" -DNDEBUG -I'/home/biocbuild/bbs-3.16-bioc/R/site-library/Rcpp/include' -I/usr/local/include -fpic -g -O2 -Wall -c RcppExports.cpp -o RcppExports.o
gcc -I"/home/biocbuild/bbs-3.16-bioc/R/include" -DNDEBUG -I'/home/biocbuild/bbs-3.16-bioc/R/site-library/Rcpp/include' -I/usr/local/include -fpic -g -O2 -Wall -c digamma.c -o digamma.o
gcc -I"/home/biocbuild/bbs-3.16-bioc/R/include" -DNDEBUG -I'/home/biocbuild/bbs-3.16-bioc/R/site-library/Rcpp/include' -I/usr/local/include -fpic -g -O2 -Wall -c mat2vec.c -o mat2vec.o
gcc -I"/home/biocbuild/bbs-3.16-bioc/R/include" -DNDEBUG -I'/home/biocbuild/bbs-3.16-bioc/R/site-library/Rcpp/include' -I/usr/local/include -fpic -g -O2 -Wall -c melt_dataframe.c -o melt_dataframe.o
gcc -I"/home/biocbuild/bbs-3.16-bioc/R/include" -DNDEBUG -I'/home/biocbuild/bbs-3.16-bioc/R/site-library/Rcpp/include' -I/usr/local/include -fpic -g -O2 -Wall -c melt_matrix.c -o melt_matrix.o
g++ -std=gnu++14 -I"/home/biocbuild/bbs-3.16-bioc/R/include" -DNDEBUG -I'/home/biocbuild/bbs-3.16-bioc/R/site-library/Rcpp/include' -I/usr/local/include -fpic -g -O2 -Wall -c samplePuPs.cpp -o samplePuPs.o
gcc -I"/home/biocbuild/bbs-3.16-bioc/R/include" -DNDEBUG -I'/home/biocbuild/bbs-3.16-bioc/R/site-library/Rcpp/include' -I/usr/local/include -fpic -g -O2 -Wall -c transpose_list.c -o transpose_list.o
g++ -std=gnu++14 -I"/home/biocbuild/bbs-3.16-bioc/R/include" -DNDEBUG -I'/home/biocbuild/bbs-3.16-bioc/R/site-library/Rcpp/include' -I/usr/local/include -fpic -g -O2 -Wall -c updatealphas_Exp.cpp -o updatealphas_Exp.o
g++ -std=gnu++14 -I"/home/biocbuild/bbs-3.16-bioc/R/include" -DNDEBUG -I'/home/biocbuild/bbs-3.16-bioc/R/site-library/Rcpp/include' -I/usr/local/include -fpic -g -O2 -Wall -c updatealphas_Exp_MH.cpp -o updatealphas_Exp_MH.o
updatealphas_Exp_MH.cpp: In function ‘SEXPREC* updatealphas_Exp_MH(SEXP, SEXP, SEXP, SEXP, SEXP, SEXP, SEXP, SEXP, SEXP)’:
updatealphas_Exp_MH.cpp:26:10: warning: variable ‘psik’ set but not used [-Wunused-but-set-variable]
26 | double psik = 0.;
| ^~~~
updatealphas_Exp_MH.cpp:35:7: warning: variable ‘flagkk’ set but not used [-Wunused-but-set-variable]
35 | int flagkk = 0;
| ^~~~~~
g++ -std=gnu++14 -I"/home/biocbuild/bbs-3.16-bioc/R/include" -DNDEBUG -I'/home/biocbuild/bbs-3.16-bioc/R/site-library/Rcpp/include' -I/usr/local/include -fpic -g -O2 -Wall -c updatealphau.cpp -o updatealphau.o
g++ -std=gnu++14 -I"/home/biocbuild/bbs-3.16-bioc/R/include" -DNDEBUG -I'/home/biocbuild/bbs-3.16-bioc/R/site-library/Rcpp/include' -I/usr/local/include -fpic -g -O2 -Wall -c updatealphau_noPu_Exp.cpp -o updatealphau_noPu_Exp.o
g++ -std=gnu++14 -I"/home/biocbuild/bbs-3.16-bioc/R/include" -DNDEBUG -I'/home/biocbuild/bbs-3.16-bioc/R/site-library/Rcpp/include' -I/usr/local/include -fpic -g -O2 -Wall -c updatealphau_noPu_Exp_MH.cpp -o updatealphau_noPu_Exp_MH.o
g++ -std=gnu++14 -I"/home/biocbuild/bbs-3.16-bioc/R/include" -DNDEBUG -I'/home/biocbuild/bbs-3.16-bioc/R/site-library/Rcpp/include' -I/usr/local/include -fpic -g -O2 -Wall -c updatebeta_RW.cpp -o updatebeta_RW.o
g++ -std=gnu++14 -I"/home/biocbuild/bbs-3.16-bioc/R/include" -DNDEBUG -I'/home/biocbuild/bbs-3.16-bioc/R/site-library/Rcpp/include' -I/usr/local/include -fpic -g -O2 -Wall -c updategammak_noPu.cpp -o updategammak_noPu.o
gcc -I"/home/biocbuild/bbs-3.16-bioc/R/include" -DNDEBUG -I'/home/biocbuild/bbs-3.16-bioc/R/site-library/Rcpp/include' -I/usr/local/include -fpic -g -O2 -Wall -c utils.c -o utils.o
g++ -std=gnu++14 -shared -L/home/biocbuild/bbs-3.16-bioc/R/lib -L/usr/local/lib -o COMPASS.so COMPASS_init.o CellCounts.o CellCounts_character.o RcppExports.o digamma.o mat2vec.o melt_dataframe.o melt_matrix.o samplePuPs.o transpose_list.o updatealphas_Exp.o updatealphas_Exp_MH.o updatealphau.o updatealphau_noPu_Exp.o updatealphau_noPu_Exp_MH.o updatebeta_RW.o updategammak_noPu.o utils.o -L/home/biocbuild/bbs-3.16-bioc/R/lib -lRlapack -L/home/biocbuild/bbs-3.16-bioc/R/lib -lRblas -lgfortran -lm -lquadmath -L/home/biocbuild/bbs-3.16-bioc/R/lib -lR
installing to /home/biocbuild/bbs-3.16-bioc/R/site-library/00LOCK-COMPASS/00new/COMPASS/libs
** R
** data
*** moving datasets to lazyload DB
** inst
** byte-compile and prepare package for lazy loading
** help
*** installing help indices
** building package indices
** installing vignettes
** testing if installed package can be loaded from temporary location
** checking absolute paths in shared objects and dynamic libraries
** testing if installed package can be loaded from final location
** testing if installed package keeps a record of temporary installation path
* DONE (COMPASS)
COMPASS.Rcheck/tests/test-all.Rout
R version 4.2.3 (2023-03-15) -- "Shortstop Beagle"
Copyright (C) 2023 The R Foundation for Statistical Computing
Platform: x86_64-pc-linux-gnu (64-bit)
R is free software and comes with ABSOLUTELY NO WARRANTY.
You are welcome to redistribute it under certain conditions.
Type 'license()' or 'licence()' for distribution details.
R is a collaborative project with many contributors.
Type 'contributors()' for more information and
'citation()' on how to cite R or R packages in publications.
Type 'demo()' for some demos, 'help()' for on-line help, or
'help.start()' for an HTML browser interface to help.
Type 'q()' to quit R.
> library(testthat)
> library(COMPASS)
> library(flowWorkspace)
As part of improvements to flowWorkspace, some behavior of
GatingSet objects has changed. For details, please read the section
titled "The cytoframe and cytoset classes" in the package vignette:
vignette("flowWorkspace-Introduction", "flowWorkspace")
> if (file.exists("testthat")) {
+ test_dir("testthat")
+ }
✔ | F W S OK | Context
⠏ | 0 | COMPASS
⠏ | 0 | COMPASS Interface
⠋ | 1 | COMPASS Interface
✔ | 1 | COMPASS Interface [0.8s]
⠏ | 0 | COMPASSPlot
⠏ | 0 | test plotCOMPASSResultStack
⠋ | 1 | test plotCOMPASSResultStack
⠹ | 3 | test plotCOMPASSResultStack
✔ | 6 | test plotCOMPASSResultStack [35.0s]
⠏ | 0 | CellCounts
⠏ | 0 | CellCounts
✔ | 7 | CellCounts
⠏ | 0 | FunctionalityScore
⠏ | 0 | FS, PFS
✔ | 8 | FS, PFS
⠏ | 0 | GatingSet2COMPASS
⠏ | 0 | test COMPASSContainerFromGatingSet
⠋ | 1 0 | test COMPASSContainerFromGatingSet
⠴ | 2 4 | test COMPASSContainerFromGatingSet
✔ | 2 7 | test COMPASSContainerFromGatingSet [0.5s]
────────────────────────────────────────────────────────────────────────────────
Warning ('test-GatingSet2COMPASS.R:15:3'): COMPASSContainerFromGatingSet
There appear to be negative intensities in the 'data' supplied.
Backtrace:
1. COMPASS::COMPASSContainerFromGatingSet(...)
at test-GatingSet2COMPASS.R:15:2
2. COMPASS::COMPASSContainer(...)
Warning ('test-GatingSet2COMPASS.R:30:3'): COMPASSContainerFromGatingSet
There appear to be negative intensities in the 'data' supplied.
Backtrace:
1. COMPASS::COMPASSContainerFromGatingSet(...)
at test-GatingSet2COMPASS.R:30:2
2. COMPASS::COMPASSContainer(...)
────────────────────────────────────────────────────────────────────────────────
══ Results ═════════════════════════════════════════════════════════════════════
Duration: 36.4 s
[ FAIL 0 | WARN 2 | SKIP 0 | PASS 29 ]
>
> proc.time()
user system elapsed
40.173 0.747 40.646
COMPASS.Rcheck/COMPASS-Ex.timings
| name | user | system | elapsed | |
| COMPASS | 0.137 | 0.012 | 0.131 | |
| COMPASSContainer | 0.034 | 0.000 | 0.034 | |
| COMPASSContainerFromGatingSet | 0 | 0 | 0 | |
| CellCounts | 0.309 | 0.031 | 0.328 | |
| Combinations | 0.000 | 0.000 | 0.001 | |
| FunctionalityScore | 0.000 | 0.002 | 0.003 | |
| GetThresholdedIntensities | 3.866 | 0.152 | 4.072 | |
| PolyfunctionalityScore | 0.001 | 0.000 | 0.001 | |
| Posterior | 0.002 | 0.000 | 0.002 | |
| Response | 0.007 | 0.000 | 0.007 | |
| SimpleCOMPASS | 1.488 | 0.032 | 1.520 | |
| TotalCellCounts | 0.021 | 0.000 | 0.016 | |
| UniqueCombinations | 0.007 | 0.000 | 0.003 | |
| getCounts | 0.036 | 0.000 | 0.030 | |
| merge.COMPASSContainer | 0.006 | 0.000 | 0.007 | |
| pheatmap | 0.816 | 0.004 | 0.820 | |
| plot.COMPASSResult | 0.046 | 0.000 | 0.046 | |
| plotCOMPASSResultStack | 0 | 0 | 0 | |
| print.COMPASSContainer | 0.001 | 0.000 | 0.000 | |
| print.COMPASSResult | 0.001 | 0.000 | 0.001 | |
| scores | 0.007 | 0.000 | 0.007 | |
| select_compass_pops | 0.004 | 0.000 | 0.004 | |
| shinyCOMPASS | 0 | 0 | 0 | |
| shinyCOMPASSDeps | 1.706 | 0.083 | 1.799 | |
| subset.COMPASSContainer | 0.001 | 0.000 | 0.001 | |
| summary.COMPASSContainer | 0.004 | 0.000 | 0.003 | |
| summary.COMPASSResult | 0 | 0 | 0 | |
| translate_marker_names | 0.002 | 0.000 | 0.002 | |
| transpose_list | 0.000 | 0.000 | 0.001 | |