| Back to Multiple platform build/check report for BioC 3.16: simplified long |
|
This page was generated on 2023-04-12 11:06:02 -0400 (Wed, 12 Apr 2023).
| Hostname | OS | Arch (*) | R version | Installed pkgs |
|---|---|---|---|---|
| nebbiolo2 | Linux (Ubuntu 20.04.5 LTS) | x86_64 | 4.2.3 (2023-03-15) -- "Shortstop Beagle" | 4502 |
| palomino4 | Windows Server 2022 Datacenter | x64 | 4.2.3 (2023-03-15 ucrt) -- "Shortstop Beagle" | 4282 |
| lconway | macOS 12.5.1 Monterey | x86_64 | 4.2.3 (2023-03-15) -- "Shortstop Beagle" | 4310 |
| Click on any hostname to see more info about the system (e.g. compilers) (*) as reported by 'uname -p', except on Windows and Mac OS X | ||||
|
To the developers/maintainers of the CIMICE package: - Please allow up to 24 hours (and sometimes 48 hours) for your latest push to git@git.bioconductor.org:packages/CIMICE.git to reflect on this report. See How and When does the builder pull? When will my changes propagate? for more information. - Make sure to use the following settings in order to reproduce any error or warning you see on this page. |
| Package 330/2183 | Hostname | OS / Arch | INSTALL | BUILD | CHECK | BUILD BIN | ||||||||
| CIMICE 1.6.0 (landing page) Nicolò Rossi
| nebbiolo2 | Linux (Ubuntu 20.04.5 LTS) / x86_64 | OK | OK | OK | |||||||||
| palomino4 | Windows Server 2022 Datacenter / x64 | OK | OK | OK | OK | |||||||||
| lconway | macOS 12.5.1 Monterey / x86_64 | OK | OK | OK | OK | |||||||||
| Package: CIMICE |
| Version: 1.6.0 |
| Command: /Library/Frameworks/R.framework/Resources/bin/R CMD check --install=check:CIMICE.install-out.txt --library=/Library/Frameworks/R.framework/Resources/library --no-vignettes --timings CIMICE_1.6.0.tar.gz |
| StartedAt: 2023-04-10 19:23:25 -0400 (Mon, 10 Apr 2023) |
| EndedAt: 2023-04-10 19:24:44 -0400 (Mon, 10 Apr 2023) |
| EllapsedTime: 78.3 seconds |
| RetCode: 0 |
| Status: OK |
| CheckDir: CIMICE.Rcheck |
| Warnings: 0 |
############################################################################## ############################################################################## ### ### Running command: ### ### /Library/Frameworks/R.framework/Resources/bin/R CMD check --install=check:CIMICE.install-out.txt --library=/Library/Frameworks/R.framework/Resources/library --no-vignettes --timings CIMICE_1.6.0.tar.gz ### ############################################################################## ############################################################################## * using log directory ‘/Users/biocbuild/bbs-3.16-bioc/meat/CIMICE.Rcheck’ * using R version 4.2.3 (2023-03-15) * using platform: x86_64-apple-darwin17.0 (64-bit) * using session charset: UTF-8 * using option ‘--no-vignettes’ * checking for file ‘CIMICE/DESCRIPTION’ ... OK * checking extension type ... Package * this is package ‘CIMICE’ version ‘1.6.0’ * package encoding: UTF-8 * checking package namespace information ... OK * checking package dependencies ... OK * checking if this is a source package ... OK * checking if there is a namespace ... OK * checking for hidden files and directories ... NOTE Found the following hidden files and directories: .git.bfg-report These were most likely included in error. See section ‘Package structure’ in the ‘Writing R Extensions’ manual. * checking for portable file names ... OK * checking for sufficient/correct file permissions ... OK * checking whether package ‘CIMICE’ can be installed ... OK * checking installed package size ... OK * checking package directory ... OK * checking ‘build’ directory ... OK * checking DESCRIPTION meta-information ... OK * checking top-level files ... OK * checking for left-over files ... OK * checking index information ... OK * checking package subdirectories ... OK * checking R files for non-ASCII characters ... OK * checking R files for syntax errors ... OK * checking whether the package can be loaded ... OK * checking whether the package can be loaded with stated dependencies ... OK * checking whether the package can be unloaded cleanly ... OK * checking whether the namespace can be loaded with stated dependencies ... OK * checking whether the namespace can be unloaded cleanly ... OK * checking dependencies in R code ... OK * checking S3 generic/method consistency ... OK * checking replacement functions ... OK * checking foreign function calls ... OK * checking R code for possible problems ... OK * checking Rd files ... OK * checking Rd metadata ... OK * checking Rd cross-references ... OK * checking for missing documentation entries ... OK * checking for code/documentation mismatches ... OK * checking Rd \usage sections ... OK * checking Rd contents ... OK * checking for unstated dependencies in examples ... OK * checking files in ‘vignettes’ ... OK * checking examples ... OK * checking for unstated dependencies in ‘tests’ ... OK * checking tests ... Running ‘testthat.R’ OK * checking for unstated dependencies in vignettes ... OK * checking package vignettes in ‘inst/doc’ ... OK * checking running R code from vignettes ... SKIPPED * checking re-building of vignette outputs ... SKIPPED * checking PDF version of manual ... OK * DONE Status: 1 NOTE See ‘/Users/biocbuild/bbs-3.16-bioc/meat/CIMICE.Rcheck/00check.log’ for details.
CIMICE.Rcheck/00install.out
############################################################################## ############################################################################## ### ### Running command: ### ### /Library/Frameworks/R.framework/Resources/bin/R CMD INSTALL CIMICE ### ############################################################################## ############################################################################## * installing to library ‘/Library/Frameworks/R.framework/Versions/4.2/Resources/library’ * installing *source* package ‘CIMICE’ ... ** using staged installation ** R ** inst ** byte-compile and prepare package for lazy loading ** help *** installing help indices ** building package indices ** installing vignettes ** testing if installed package can be loaded from temporary location ** testing if installed package can be loaded from final location ** testing if installed package keeps a record of temporary installation path * DONE (CIMICE)
CIMICE.Rcheck/tests/testthat.Rout
R version 4.2.3 (2023-03-15) -- "Shortstop Beagle"
Copyright (C) 2023 The R Foundation for Statistical Computing
Platform: x86_64-apple-darwin17.0 (64-bit)
R is free software and comes with ABSOLUTELY NO WARRANTY.
You are welcome to redistribute it under certain conditions.
Type 'license()' or 'licence()' for distribution details.
R is a collaborative project with many contributors.
Type 'contributors()' for more information and
'citation()' on how to cite R or R packages in publications.
Type 'demo()' for some demos, 'help()' for on-line help, or
'help.start()' for an HTML browser interface to help.
Type 'q()' to quit R.
> library(testthat)
> library(CIMICE)
>
> test_check("CIMICE")
[ FAIL 0 | WARN 0 | SKIP 0 | PASS 1 ]
>
> proc.time()
user system elapsed
2.687 0.244 2.938
CIMICE.Rcheck/CIMICE-Ex.timings
| name | user | system | elapsed | |
| annotate_mutational_matrix | 0.035 | 0.003 | 0.039 | |
| binary_radix_sort | 0.045 | 0.003 | 0.048 | |
| build_subset_graph | 0.105 | 0.003 | 0.108 | |
| build_topology_subset | 0.044 | 0.002 | 0.046 | |
| chunk_reader | 0.009 | 0.001 | 0.011 | |
| compact_dataset | 0.017 | 0.000 | 0.018 | |
| computeDWNW | 0.070 | 0.002 | 0.072 | |
| computeUPW | 0.048 | 0.002 | 0.049 | |
| compute_weights_default | 0.048 | 0.001 | 0.049 | |
| corrplot_from_mutational_matrix | 0.364 | 0.010 | 0.375 | |
| corrplot_genes | 0.379 | 0.002 | 0.383 | |
| corrplot_samples | 0.148 | 0.015 | 0.163 | |
| dataset_preprocessing | 0.024 | 0.003 | 0.027 | |
| dataset_preprocessing_population | 0.024 | 0.003 | 0.026 | |
| draw_ggraph | 0.217 | 0.017 | 0.234 | |
| draw_networkD3 | 0.136 | 0.010 | 0.148 | |
| draw_visNetwork | 0.062 | 0.018 | 0.083 | |
| example_dataset | 0.008 | 0.000 | 0.009 | |
| example_dataset_withFreqs | 0.005 | 0.000 | 0.005 | |
| finalize_generator | 0.157 | 0.005 | 0.161 | |
| fix_clonal_genotype | 0.024 | 0.001 | 0.024 | |
| format_labels | 0.000 | 0.000 | 0.001 | |
| gene_mutations_hist | 0.121 | 0.002 | 0.124 | |
| get_no_of_children | 0.058 | 0.002 | 0.060 | |
| graph_non_transitive_subset_topology | 0.042 | 0.001 | 0.043 | |
| make_dataset | 0.001 | 0.001 | 0.002 | |
| make_generator_stub | 0.080 | 0.002 | 0.082 | |
| make_labels | 0.030 | 0.001 | 0.030 | |
| normalizeDWNW | 0.051 | 0.002 | 0.052 | |
| normalizeUPW | 0.058 | 0.002 | 0.059 | |
| perturb_dataset | 0.253 | 0.011 | 0.263 | |
| plot_generator | 0.298 | 0.003 | 0.300 | |
| prepare_generator_edge_set_command | 0.107 | 0.002 | 0.109 | |
| prepare_labels | 0.030 | 0.001 | 0.031 | |
| quick_run | 0.054 | 0.001 | 0.056 | |
| read | 0.640 | 0.452 | 1.101 | |
| read_CAPRI | 0.652 | 0.442 | 1.100 | |
| read_CAPRI_string | 0.005 | 0.000 | 0.006 | |
| read_CAPRIpop | 0.004 | 0.000 | 0.005 | |
| read_CAPRIpop_string | 0.004 | 0.000 | 0.004 | |
| read_MAF | 0.173 | 0.045 | 0.218 | |
| read_matrix | 0.003 | 0.000 | 0.004 | |
| remove_transitive_edges | 0 | 0 | 0 | |
| sample_mutations_hist | 0.120 | 0.001 | 0.121 | |
| select_genes_on_mutations | 0.015 | 0.000 | 0.015 | |
| select_samples_on_mutations | 0.039 | 0.001 | 0.040 | |
| set_generator_edges | 0.117 | 0.002 | 0.119 | |
| simulate_generator | 0.106 | 0.002 | 0.107 | |
| to_dot | 0.033 | 0.000 | 0.033 | |
| update_df | 0.015 | 0.000 | 0.015 | |