| Back to Build/check report for BioC 3.15 experimental data | 
 | 
This page was generated on 2022-02-17 08:36:53 -0500 (Thu, 17 Feb 2022).
| Hostname | OS | Arch (*) | R version | Installed pkgs | 
|---|---|---|---|---|
| nebbiolo2 | Linux (Ubuntu 20.04.4 LTS) | x86_64 | R Under development (unstable) (2022-01-05 r81451) -- "Unsuffered Consequences" | 1362 | 
| Click on any hostname to see more info about the system (e.g. compilers) (*) as reported by 'uname -p', except on Windows and Mac OS X | ||||
| To the developers/maintainers of the prostateCancerCamcap package: Make sure to use the following settings in order to reproduce any error or warning you see on this page. | 
| Package 284/406 | Hostname | OS / Arch | INSTALL | BUILD | CHECK | ||||||||
| prostateCancerCamcap 1.23.0  (landing page) Mark Dunning 
 | nebbiolo2 | Linux (Ubuntu 20.04.4 LTS) / x86_64 | OK | OK | WARNINGS |  | |||||||
| Package: prostateCancerCamcap | 
| Version: 1.23.0 | 
| Command: /home/biocbuild/bbs-3.15-data-experiment/R/bin/R CMD build --keep-empty-dirs --no-resave-data prostateCancerCamcap | 
| StartedAt: 2022-02-17 06:12:29 -0500 (Thu, 17 Feb 2022) | 
| EndedAt: 2022-02-17 06:12:59 -0500 (Thu, 17 Feb 2022) | 
| EllapsedTime: 30.6 seconds | 
| RetCode: 0 | 
| Status: OK | 
| PackageFile: prostateCancerCamcap_1.23.0.tar.gz | 
| PackageFileSize: 46.85 MiB | 
############################################################################## ############################################################################## ### ### Running command: ### ### /home/biocbuild/bbs-3.15-data-experiment/R/bin/R CMD build --keep-empty-dirs --no-resave-data prostateCancerCamcap ### ############################################################################## ############################################################################## * checking for file ‘prostateCancerCamcap/DESCRIPTION’ ... OK * preparing ‘prostateCancerCamcap’: * checking DESCRIPTION meta-information ... OK * installing the package to build vignettes * creating vignettes ... OK * checking for LF line-endings in source and make files and shell scripts * checking for empty or unneeded directories * building ‘prostateCancerCamcap_1.23.0.tar.gz’