| Back to Build/check report for BioC 3.15 experimental data | 
 | 
This page was generated on 2022-02-17 08:36:51 -0500 (Thu, 17 Feb 2022).
| Hostname | OS | Arch (*) | R version | Installed pkgs | 
|---|---|---|---|---|
| nebbiolo2 | Linux (Ubuntu 20.04.4 LTS) | x86_64 | R Under development (unstable) (2022-01-05 r81451) -- "Unsuffered Consequences" | 1362 | 
| Click on any hostname to see more info about the system (e.g. compilers) (*) as reported by 'uname -p', except on Windows and Mac OS X | ||||
| To the developers/maintainers of the biscuiteerData package: Make sure to use the following settings in order to reproduce any error or warning you see on this page. | 
| Package 29/406 | Hostname | OS / Arch | INSTALL | BUILD | CHECK | ||||||||
| biscuiteerData 1.9.0  (landing page) "Jacob Morrison" 
 | nebbiolo2 | Linux (Ubuntu 20.04.4 LTS) / x86_64 | OK | OK | OK |  | |||||||
| Package: biscuiteerData | 
| Version: 1.9.0 | 
| Command: /home/biocbuild/bbs-3.15-data-experiment/R/bin/R CMD build --keep-empty-dirs --no-resave-data biscuiteerData | 
| StartedAt: 2022-02-17 05:35:04 -0500 (Thu, 17 Feb 2022) | 
| EndedAt: 2022-02-17 05:36:05 -0500 (Thu, 17 Feb 2022) | 
| EllapsedTime: 60.9 seconds | 
| RetCode: 0 | 
| Status: OK | 
| PackageFile: biscuiteerData_1.9.0.tar.gz | 
| PackageFileSize: 248.1 KiB | 
############################################################################## ############################################################################## ### ### Running command: ### ### /home/biocbuild/bbs-3.15-data-experiment/R/bin/R CMD build --keep-empty-dirs --no-resave-data biscuiteerData ### ############################################################################## ############################################################################## * checking for file ‘biscuiteerData/DESCRIPTION’ ... OK * preparing ‘biscuiteerData’: * checking DESCRIPTION meta-information ... OK * installing the package to build vignettes * creating vignettes ... OK * checking for LF line-endings in source and make files and shell scripts * checking for empty or unneeded directories * building ‘biscuiteerData_1.9.0.tar.gz’