| Back to Build/check report for BioC 3.15 experimental data | 
 | 
This page was generated on 2022-02-17 08:36:51 -0500 (Thu, 17 Feb 2022).
| Hostname | OS | Arch (*) | R version | Installed pkgs | 
|---|---|---|---|---|
| nebbiolo2 | Linux (Ubuntu 20.04.4 LTS) | x86_64 | R Under development (unstable) (2022-01-05 r81451) -- "Unsuffered Consequences" | 1362 | 
| Click on any hostname to see more info about the system (e.g. compilers) (*) as reported by 'uname -p', except on Windows and Mac OS X | ||||
| To the developers/maintainers of the benchmarkfdrData2019 package: Make sure to use the following settings in order to reproduce any error or warning you see on this page. | 
| Package 25/406 | Hostname | OS / Arch | INSTALL | BUILD | CHECK | ||||||||
| benchmarkfdrData2019 1.9.0  (landing page) Stephanie Hicks 
 | nebbiolo2 | Linux (Ubuntu 20.04.4 LTS) / x86_64 | OK | OK | OK |  | |||||||
| Package: benchmarkfdrData2019 | 
| Version: 1.9.0 | 
| Command: /home/biocbuild/bbs-3.15-data-experiment/R/bin/R CMD build --keep-empty-dirs --no-resave-data benchmarkfdrData2019 | 
| StartedAt: 2022-02-17 05:34:39 -0500 (Thu, 17 Feb 2022) | 
| EndedAt: 2022-02-17 05:37:08 -0500 (Thu, 17 Feb 2022) | 
| EllapsedTime: 148.1 seconds | 
| RetCode: 0 | 
| Status: OK | 
| PackageFile: benchmarkfdrData2019_1.9.0.tar.gz | 
| PackageFileSize: 776.6 KiB | 
############################################################################## ############################################################################## ### ### Running command: ### ### /home/biocbuild/bbs-3.15-data-experiment/R/bin/R CMD build --keep-empty-dirs --no-resave-data benchmarkfdrData2019 ### ############################################################################## ############################################################################## * checking for file ‘benchmarkfdrData2019/DESCRIPTION’ ... OK * preparing ‘benchmarkfdrData2019’: * checking DESCRIPTION meta-information ... OK * installing the package to build vignettes * creating vignettes ... OK * checking for LF line-endings in source and make files and shell scripts * checking for empty or unneeded directories Omitted ‘LazyData’ from DESCRIPTION * building ‘benchmarkfdrData2019_1.9.0.tar.gz’ Warning in utils::tar(filepath, pkgname, compression = compression, compression_level = 9L, : storing paths of more than 100 bytes is not portable: ‘benchmarkfdrData2019/inst/scripts/make-data/Simulations/simulations-varyinginformativeness-discrete.Rmd’ Warning in utils::tar(filepath, pkgname, compression = compression, compression_level = 9L, : storing paths of more than 100 bytes is not portable: ‘benchmarkfdrData2019/inst/scripts/make-data/Simulations/simulations-varyinginformativeness-smooth.Rmd’ Warning in utils::tar(filepath, pkgname, compression = compression, compression_level = 9L, : storing paths of more than 100 bytes is not portable: ‘benchmarkfdrData2019/inst/scripts/make-data/YeastInSilico/yeast-simulation-bimodalalternative-highpi0.Rmd’