Back to Multiple platform build/check report for BioC 3.15 |
|
This page was generated on 2022-10-19 13:21:01 -0400 (Wed, 19 Oct 2022).
Hostname | OS | Arch (*) | R version | Installed pkgs |
---|---|---|---|---|
nebbiolo1 | Linux (Ubuntu 20.04.5 LTS) | x86_64 | 4.2.1 (2022-06-23) -- "Funny-Looking Kid" | 4386 |
palomino3 | Windows Server 2022 Datacenter | x64 | 4.2.1 (2022-06-23 ucrt) -- "Funny-Looking Kid" | 4138 |
merida1 | macOS 10.14.6 Mojave | x86_64 | 4.2.1 (2022-06-23) -- "Funny-Looking Kid" | 4205 |
Click on any hostname to see more info about the system (e.g. compilers) (*) as reported by 'uname -p', except on Windows and Mac OS X |
To the developers/maintainers of the ttgsea package: - Please allow up to 24 hours (and sometimes 48 hours) for your latest push to git@git.bioconductor.org:packages/ttgsea.git to reflect on this report. See How and When does the builder pull? When will my changes propagate? for more information. - Make sure to use the following settings in order to reproduce any error or warning you see on this page. |
Package 2068/2140 | Hostname | OS / Arch | INSTALL | BUILD | CHECK | BUILD BIN | ||||||||
ttgsea 1.4.0 (landing page) Dongmin Jung
| nebbiolo1 | Linux (Ubuntu 20.04.5 LTS) / x86_64 | OK | OK | OK | ![]() | ||||||||
palomino3 | Windows Server 2022 Datacenter / x64 | OK | OK | OK | OK | ![]() | ||||||||
merida1 | macOS 10.14.6 Mojave / x86_64 | OK | OK | OK | OK | ![]() | ||||||||
Package: ttgsea |
Version: 1.4.0 |
Command: /home/biocbuild/bbs-3.15-bioc/R/bin/R CMD check --install=check:ttgsea.install-out.txt --library=/home/biocbuild/bbs-3.15-bioc/R/library --no-vignettes --timings ttgsea_1.4.0.tar.gz |
StartedAt: 2022-10-18 22:16:14 -0400 (Tue, 18 Oct 2022) |
EndedAt: 2022-10-18 22:18:28 -0400 (Tue, 18 Oct 2022) |
EllapsedTime: 134.4 seconds |
RetCode: 0 |
Status: OK |
CheckDir: ttgsea.Rcheck |
Warnings: 0 |
############################################################################## ############################################################################## ### ### Running command: ### ### /home/biocbuild/bbs-3.15-bioc/R/bin/R CMD check --install=check:ttgsea.install-out.txt --library=/home/biocbuild/bbs-3.15-bioc/R/library --no-vignettes --timings ttgsea_1.4.0.tar.gz ### ############################################################################## ############################################################################## * using log directory ‘/home/biocbuild/bbs-3.15-bioc/meat/ttgsea.Rcheck’ * using R version 4.2.1 (2022-06-23) * using platform: x86_64-pc-linux-gnu (64-bit) * using session charset: UTF-8 * using option ‘--no-vignettes’ * checking for file ‘ttgsea/DESCRIPTION’ ... OK * checking extension type ... Package * this is package ‘ttgsea’ version ‘1.4.0’ * checking package namespace information ... OK * checking package dependencies ... OK * checking if this is a source package ... OK * checking if there is a namespace ... OK * checking for hidden files and directories ... OK * checking for portable file names ... OK * checking for sufficient/correct file permissions ... OK * checking whether package ‘ttgsea’ can be installed ... OK * checking installed package size ... OK * checking package directory ... OK * checking ‘build’ directory ... OK * checking DESCRIPTION meta-information ... OK * checking top-level files ... OK * checking for left-over files ... OK * checking index information ... OK * checking package subdirectories ... OK * checking R files for non-ASCII characters ... OK * checking R files for syntax errors ... OK * checking whether the package can be loaded ... OK * checking whether the package can be loaded with stated dependencies ... OK * checking whether the package can be unloaded cleanly ... OK * checking whether the namespace can be loaded with stated dependencies ... OK * checking whether the namespace can be unloaded cleanly ... OK * checking dependencies in R code ... OK * checking S3 generic/method consistency ... OK * checking replacement functions ... OK * checking foreign function calls ... OK * checking R code for possible problems ... OK * checking Rd files ... OK * checking Rd metadata ... OK * checking Rd cross-references ... OK * checking for missing documentation entries ... OK * checking for code/documentation mismatches ... OK * checking Rd \usage sections ... OK * checking Rd contents ... OK * checking for unstated dependencies in examples ... OK * checking files in ‘vignettes’ ... OK * checking examples ... OK Examples with CPU (user + system) or elapsed time > 5s user system elapsed predict_model 24.181 3.373 13.371 fit_model 23.197 2.470 13.825 token_vector 11.466 0.983 7.035 text_token 11.267 0.877 6.937 * checking for unstated dependencies in ‘tests’ ... OK * checking tests ... Running ‘testthat.R’ OK * checking for unstated dependencies in vignettes ... OK * checking package vignettes in ‘inst/doc’ ... OK * checking running R code from vignettes ... SKIPPED * checking re-building of vignette outputs ... SKIPPED * checking PDF version of manual ... OK * DONE Status: OK
ttgsea.Rcheck/00install.out
############################################################################## ############################################################################## ### ### Running command: ### ### /home/biocbuild/bbs-3.15-bioc/R/bin/R CMD INSTALL ttgsea ### ############################################################################## ############################################################################## * installing to library ‘/home/biocbuild/bbs-3.15-bioc/R/library’ * installing *source* package ‘ttgsea’ ... ** using staged installation ** R ** byte-compile and prepare package for lazy loading ** help *** installing help indices ** building package indices ** installing vignettes ** testing if installed package can be loaded from temporary location ** testing if installed package can be loaded from final location ** testing if installed package keeps a record of temporary installation path * DONE (ttgsea)
ttgsea.Rcheck/tests/testthat.Rout
R version 4.2.1 (2022-06-23) -- "Funny-Looking Kid" Copyright (C) 2022 The R Foundation for Statistical Computing Platform: x86_64-pc-linux-gnu (64-bit) R is free software and comes with ABSOLUTELY NO WARRANTY. You are welcome to redistribute it under certain conditions. Type 'license()' or 'licence()' for distribution details. R is a collaborative project with many contributors. Type 'contributors()' for more information and 'citation()' on how to cite R or R packages in publications. Type 'demo()' for some demos, 'help()' for on-line help, or 'help.start()' for an HTML browser interface to help. Type 'q()' to quit R. > library(testthat) > library(ttgsea) Loading required package: keras > > test_check("ttgsea") 2022-10-18 22:18:15.574652: I tensorflow/stream_executor/platform/default/dso_loader.cc:48] Successfully opened dynamic library libcudart.so.10.1 2022-10-18 22:18:17.919615: I tensorflow/stream_executor/platform/default/dso_loader.cc:48] Successfully opened dynamic library libcuda.so.1 2022-10-18 22:18:17.968280: E tensorflow/stream_executor/cuda/cuda_driver.cc:314] failed call to cuInit: CUDA_ERROR_NO_DEVICE: no CUDA-capable device is detected 2022-10-18 22:18:17.968382: I tensorflow/stream_executor/cuda/cuda_diagnostics.cc:156] kernel driver does not appear to be running on this host (nebbiolo1): /proc/driver/nvidia/version does not exist 2022-10-18 22:18:17.968843: I tensorflow/core/platform/cpu_feature_guard.cc:142] This TensorFlow binary is optimized with oneAPI Deep Neural Network Library (oneDNN)to use the following CPU instructions in performance-critical operations: AVX2 AVX512F FMA To enable them in other operations, rebuild TensorFlow with the appropriate compiler flags. 2022-10-18 22:18:17.980360: I tensorflow/core/platform/profile_utils/cpu_utils.cc:104] CPU Frequency: 2200000000 Hz 2022-10-18 22:18:17.984323: I tensorflow/compiler/xla/service/service.cc:168] XLA service 0x55e3ea9d9060 initialized for platform Host (this does not guarantee that XLA will be used). Devices: 2022-10-18 22:18:17.984391: I tensorflow/compiler/xla/service/service.cc:176] StreamExecutor device (0): Host, Default Version 1/45 [..............................] - ETA: 0s - loss: 1.6040 - pearson_correlation: -0.2283 3/45 [=>............................] - ETA: 1s - loss: 1.4844 - pearson_correlation: 0.1358 5/45 [==>...........................] - ETA: 1s - loss: 1.4962 - pearson_correlation: 0.1361 7/45 [===>..........................] - ETA: 1s - loss: 1.4838 - pearson_correlation: 0.1529 9/45 [=====>........................] - ETA: 1s - loss: 1.5581 - pearson_correlation: 0.1327 11/45 [======>.......................] - ETA: 1s - loss: 1.5554 - pearson_correlation: 0.0821 13/45 [=======>......................] - ETA: 0s - loss: 1.5388 - pearson_correlation: 0.0366 15/45 [=========>....................] - ETA: 0s - loss: 1.5130 - pearson_correlation: 0.0307 17/45 [==========>...................] - ETA: 0s - loss: 1.5098 - pearson_correlation: 0.0249 19/45 [===========>..................] - ETA: 0s - loss: 1.5466 - pearson_correlation: 0.0288 21/45 [=============>................] - ETA: 0s - loss: 1.5654 - pearson_correlation: 0.0304 23/45 [==============>...............] - ETA: 0s - loss: 1.5641 - pearson_correlation: 0.0438 25/45 [===============>..............] - ETA: 0s - loss: 1.5539 - pearson_correlation: 0.0579 27/45 [=================>............] - ETA: 0s - loss: 1.5497 - pearson_correlation: 0.0730 29/45 [==================>...........] - ETA: 0s - loss: 1.5714 - pearson_correlation: 0.0838 31/45 [===================>..........] - ETA: 0s - loss: 1.5699 - pearson_correlation: 0.0798 33/45 [=====================>........] - ETA: 0s - loss: 1.5823 - pearson_correlation: 0.0899 35/45 [======================>.......] - ETA: 0s - loss: 1.5872 - pearson_correlation: 0.0917 37/45 [=======================>......] - ETA: 0s - loss: 1.5839 - pearson_correlation: 0.0882 39/45 [=========================>....] - ETA: 0s - loss: 1.5675 - pearson_correlation: 0.0977 41/45 [==========================>...] - ETA: 0s - loss: 1.5679 - pearson_correlation: 0.1044 43/45 [===========================>..] - ETA: 0s - loss: 1.5683 - pearson_correlation: 0.1099 45/45 [==============================] - ETA: 0s - loss: 1.5648 - pearson_correlation: 0.1014 45/45 [==============================] - 1s 33ms/step - loss: 1.5648 - pearson_correlation: 0.1014 [ FAIL 0 | WARN 0 | SKIP 0 | PASS 13 ] > > proc.time() user system elapsed 24.085 3.652 17.398
ttgsea.Rcheck/ttgsea-Ex.timings
name | user | system | elapsed | |
bi_gru | 2.822 | 0.473 | 3.170 | |
bi_lstm | 0.205 | 0.014 | 0.218 | |
fit_model | 23.197 | 2.470 | 13.825 | |
metric_pearson_correlation | 0.029 | 0.000 | 0.029 | |
plot_model | 0.277 | 0.028 | 0.296 | |
predict_model | 24.181 | 3.373 | 13.371 | |
sampling_generator | 0.021 | 0.000 | 0.021 | |
text_token | 11.267 | 0.877 | 6.937 | |
token_vector | 11.466 | 0.983 | 7.035 | |