| Back to Multiple platform build/check report for BioC 3.15 |
|
This page was generated on 2022-03-18 11:08:53 -0400 (Fri, 18 Mar 2022).
| Hostname | OS | Arch (*) | R version | Installed pkgs |
|---|---|---|---|---|
| nebbiolo1 | Linux (Ubuntu 20.04.4 LTS) | x86_64 | R Under development (unstable) (2022-02-17 r81757) -- "Unsuffered Consequences" | 4334 |
| riesling1 | Windows Server 2019 Standard | x64 | R Under development (unstable) (2021-11-21 r81221) -- "Unsuffered Consequences" | 4097 |
| palomino3 | Windows Server 2022 Datacenter | x64 | R Under development (unstable) (2022-02-17 r81757 ucrt) -- "Unsuffered Consequences" | 4083 |
| merida1 | macOS 10.14.6 Mojave | x86_64 | R Under development (unstable) (2022-03-02 r81842) -- "Unsuffered Consequences" | 4134 |
| Click on any hostname to see more info about the system (e.g. compilers) (*) as reported by 'uname -p', except on Windows and Mac OS X | ||||
|
To the developers/maintainers of the transcriptogramer package: - Please allow up to 24 hours (and sometimes 48 hours) for your latest push to git@git.bioconductor.org:packages/transcriptogramer.git to reflect on this report. See How and When does the builder pull? When will my changes propagate? here for more information. - Make sure to use the following settings in order to reproduce any error or warning you see on this page. |
| Package 1989/2090 | Hostname | OS / Arch | INSTALL | BUILD | CHECK | BUILD BIN | ||||||||
| transcriptogramer 1.17.0 (landing page) Diego Morais
| nebbiolo1 | Linux (Ubuntu 20.04.4 LTS) / x86_64 | OK | OK | OK | |||||||||
| riesling1 | Windows Server 2019 Standard / x64 | OK | OK | OK | OK | |||||||||
| palomino3 | Windows Server 2022 Datacenter / x64 | OK | OK | OK | OK | |||||||||
| merida1 | macOS 10.14.6 Mojave / x86_64 | OK | OK | OK | OK | |||||||||
| Package: transcriptogramer |
| Version: 1.17.0 |
| Command: D:\biocbuild\bbs-3.15-bioc\R\bin\R.exe CMD check --no-multiarch --install=check:transcriptogramer.install-out.txt --library=D:\biocbuild\bbs-3.15-bioc\R\library --no-vignettes --timings transcriptogramer_1.17.0.tar.gz |
| StartedAt: 2022-03-17 20:30:49 -0400 (Thu, 17 Mar 2022) |
| EndedAt: 2022-03-17 20:35:02 -0400 (Thu, 17 Mar 2022) |
| EllapsedTime: 252.9 seconds |
| RetCode: 0 |
| Status: OK |
| CheckDir: transcriptogramer.Rcheck |
| Warnings: 0 |
##############################################################################
##############################################################################
###
### Running command:
###
### D:\biocbuild\bbs-3.15-bioc\R\bin\R.exe CMD check --no-multiarch --install=check:transcriptogramer.install-out.txt --library=D:\biocbuild\bbs-3.15-bioc\R\library --no-vignettes --timings transcriptogramer_1.17.0.tar.gz
###
##############################################################################
##############################################################################
* using log directory 'D:/biocbuild/bbs-3.15-bioc/meat/transcriptogramer.Rcheck'
* using R Under development (unstable) (2021-11-21 r81221)
* using platform: x86_64-w64-mingw32 (64-bit)
* using session charset: ISO8859-1
* using option '--no-vignettes'
* checking for file 'transcriptogramer/DESCRIPTION' ... OK
* checking extension type ... Package
* this is package 'transcriptogramer' version '1.17.0'
* package encoding: UTF-8
* checking package namespace information ... OK
* checking package dependencies ... OK
* checking if this is a source package ... OK
* checking if there is a namespace ... OK
* checking for hidden files and directories ... OK
* checking for portable file names ... OK
* checking whether package 'transcriptogramer' can be installed ... OK
* checking installed package size ... NOTE
installed size is 5.8Mb
sub-directories of 1Mb or more:
data 5.0Mb
* checking package directory ... OK
* checking 'build' directory ... OK
* checking DESCRIPTION meta-information ... OK
* checking top-level files ... OK
* checking for left-over files ... OK
* checking index information ... OK
* checking package subdirectories ... OK
* checking R files for non-ASCII characters ... OK
* checking R files for syntax errors ... OK
* checking whether the package can be loaded ... OK
* checking whether the package can be loaded with stated dependencies ... OK
* checking whether the package can be unloaded cleanly ... OK
* checking whether the namespace can be loaded with stated dependencies ... OK
* checking whether the namespace can be unloaded cleanly ... OK
* checking dependencies in R code ... OK
* checking S3 generic/method consistency ... OK
* checking replacement functions ... OK
* checking foreign function calls ... OK
* checking R code for possible problems ... OK
* checking Rd files ... OK
* checking Rd metadata ... OK
* checking Rd cross-references ... OK
* checking for missing documentation entries ... OK
* checking for code/documentation mismatches ... OK
* checking Rd \usage sections ... OK
* checking Rd contents ... OK
* checking for unstated dependencies in examples ... OK
* checking contents of 'data' directory ... OK
* checking data for non-ASCII characters ... OK
* checking LazyData ... OK
* checking data for ASCII and uncompressed saves ... OK
* checking files in 'vignettes' ... OK
* checking examples ... OK
* checking for unstated dependencies in 'tests' ... OK
* checking tests ...
Running 'runTests.R'
OK
* checking for unstated dependencies in vignettes ... OK
* checking package vignettes in 'inst/doc' ... OK
* checking running R code from vignettes ... SKIPPED
* checking re-building of vignette outputs ... SKIPPED
* checking PDF version of manual ... OK
* DONE
Status: 1 NOTE
See
'D:/biocbuild/bbs-3.15-bioc/meat/transcriptogramer.Rcheck/00check.log'
for details.
transcriptogramer.Rcheck/00install.out
##############################################################################
##############################################################################
###
### Running command:
###
### D:\biocbuild\bbs-3.15-bioc\R\bin\R.exe CMD INSTALL transcriptogramer
###
##############################################################################
##############################################################################
* installing to library 'D:/biocbuild/bbs-3.15-bioc/R/library'
* installing *source* package 'transcriptogramer' ...
** using staged installation
** R
** data
*** moving datasets to lazyload DB
** inst
** byte-compile and prepare package for lazy loading
** help
*** installing help indices
converting help for package 'transcriptogramer'
finding HTML links ... done
DE-method html
DEsymbols html
GPL570 html
GSE9988 html
Hs700 html
Hs800 html
Hs900 html
HsBPTerms html
Mm700 html
Mm800 html
Mm900 html
Rn700 html
Rn800 html
Rn900 html
Sc700 html
Sc800 html
Sc900 html
Terms-method html
Transcriptogram-class html
association html
clusterEnrichment-method html
clusterVisualization-method html
connectivityProperties-method html
differentiallyExpressed-method html
enrichmentPlot-method html
orderingProperties-method html
radius-method html
transcriptogramPreprocess html
transcriptogramStep1-method html
transcriptogramStep2-method html
transcriptogramer-package html
** building package indices
** installing vignettes
** testing if installed package can be loaded from temporary location
** testing if installed package can be loaded from final location
** testing if installed package keeps a record of temporary installation path
* DONE (transcriptogramer)
Making 'packages.html' ...Warning in packageDescription(i, lib.loc = lib, fields = "Title", encoding = "UTF-8") :
DESCRIPTION file of package 'GGPA' is missing or broken
Warning in packageDescription(i, lib.loc = lib, fields = "Title", encoding = "UTF-8") :
DESCRIPTION file of package 'SeqSQC' is missing or broken
done
transcriptogramer.Rcheck/tests/runTests.Rout
R Under development (unstable) (2021-11-21 r81221) -- "Unsuffered Consequences"
Copyright (C) 2021 The R Foundation for Statistical Computing
Platform: x86_64-w64-mingw32/x64 (64-bit)
R is free software and comes with ABSOLUTELY NO WARRANTY.
You are welcome to redistribute it under certain conditions.
Type 'license()' or 'licence()' for distribution details.
R is a collaborative project with many contributors.
Type 'contributors()' for more information and
'citation()' on how to cite R or R packages in publications.
Type 'demo()' for some demos, 'help()' for on-line help, or
'help.start()' for an HTML browser interface to help.
Type 'q()' to quit R.
> BiocGenerics:::testPackage("transcriptogramer")
preprocessing input data... step 1 of 1
calculating node properties... step 1 of 2
** this may take some time...
applying sliding window and mounting resulting data... step 2 of 2
** this may take some time...
done!
mapping identifiers to ENSEMBL Peptide ID... step 1 of 2
averaging over all identifiers related to the same protein... step 2 of 2
done!
applying sliding window and mounting resulting data... step 1 of 1
done!
RUNIT TEST PROTOCOL -- Thu Mar 17 20:34:49 2022
***********************************************
Number of test functions: 3
Number of errors: 0
Number of failures: 0
1 Test Suite :
transcriptogramer RUnit Tests - 3 test functions, 0 errors, 0 failures
Number of test functions: 3
Number of errors: 0
Number of failures: 0
>
> proc.time()
user system elapsed
9.75 1.54 110.85
transcriptogramer.Rcheck/transcriptogramer-Ex.timings
| name | user | system | elapsed | |
| DE-method | 1.09 | 0.11 | 1.20 | |
| DEsymbols | 0.03 | 0.12 | 0.16 | |
| GPL570 | 0.29 | 0.28 | 0.57 | |
| GSE9988 | 0.39 | 0.25 | 0.65 | |
| Hs700 | 0.04 | 0.08 | 0.10 | |
| Hs800 | 0.06 | 0.06 | 0.13 | |
| Hs900 | 0.03 | 0.05 | 0.08 | |
| HsBPTerms | 0.34 | 0.39 | 0.73 | |
| Mm700 | 0.03 | 0.09 | 0.13 | |
| Mm800 | 0.07 | 0.07 | 0.12 | |
| Mm900 | 0.04 | 0.04 | 0.10 | |
| Rn700 | 0.10 | 0.08 | 0.17 | |
| Rn800 | 0.09 | 0.05 | 0.14 | |
| Rn900 | 0.06 | 0.05 | 0.11 | |
| Sc700 | 0.00 | 0.04 | 0.05 | |
| Sc800 | 0.01 | 0.03 | 0.05 | |
| Sc900 | 0.05 | 0.00 | 0.04 | |
| Terms-method | 0.06 | 0.00 | 0.07 | |
| association | 0.41 | 0.30 | 0.70 | |
| clusterEnrichment-method | 0.03 | 0.00 | 0.03 | |
| clusterVisualization-method | 0.03 | 0.03 | 0.06 | |
| connectivityProperties-method | 0.00 | 0.03 | 0.03 | |
| differentiallyExpressed-method | 0.05 | 0.02 | 0.07 | |
| enrichmentPlot-method | 0.02 | 0.01 | 0.03 | |
| orderingProperties-method | 0.04 | 0.02 | 0.06 | |
| radius-method | 0.03 | 0.00 | 0.03 | |
| transcriptogramPreprocess | 0.38 | 0.02 | 0.39 | |
| transcriptogramStep1-method | 0.01 | 0.01 | 0.03 | |
| transcriptogramStep2-method | 0.04 | 0.02 | 0.05 | |