| Back to Multiple platform build/check report for BioC 3.15 |
|
This page was generated on 2022-03-18 11:08:53 -0400 (Fri, 18 Mar 2022).
| Hostname | OS | Arch (*) | R version | Installed pkgs |
|---|---|---|---|---|
| nebbiolo1 | Linux (Ubuntu 20.04.4 LTS) | x86_64 | R Under development (unstable) (2022-02-17 r81757) -- "Unsuffered Consequences" | 4334 |
| riesling1 | Windows Server 2019 Standard | x64 | R Under development (unstable) (2021-11-21 r81221) -- "Unsuffered Consequences" | 4097 |
| palomino3 | Windows Server 2022 Datacenter | x64 | R Under development (unstable) (2022-02-17 r81757 ucrt) -- "Unsuffered Consequences" | 4083 |
| merida1 | macOS 10.14.6 Mojave | x86_64 | R Under development (unstable) (2022-03-02 r81842) -- "Unsuffered Consequences" | 4134 |
| Click on any hostname to see more info about the system (e.g. compilers) (*) as reported by 'uname -p', except on Windows and Mac OS X | ||||
|
To the developers/maintainers of the transcriptogramer package: - Please allow up to 24 hours (and sometimes 48 hours) for your latest push to git@git.bioconductor.org:packages/transcriptogramer.git to reflect on this report. See How and When does the builder pull? When will my changes propagate? here for more information. - Make sure to use the following settings in order to reproduce any error or warning you see on this page. |
| Package 1989/2090 | Hostname | OS / Arch | INSTALL | BUILD | CHECK | BUILD BIN | ||||||||
| transcriptogramer 1.17.0 (landing page) Diego Morais
| nebbiolo1 | Linux (Ubuntu 20.04.4 LTS) / x86_64 | OK | OK | OK | |||||||||
| riesling1 | Windows Server 2019 Standard / x64 | OK | OK | OK | OK | |||||||||
| palomino3 | Windows Server 2022 Datacenter / x64 | OK | OK | OK | OK | |||||||||
| merida1 | macOS 10.14.6 Mojave / x86_64 | OK | OK | OK | OK | |||||||||
| Package: transcriptogramer |
| Version: 1.17.0 |
| Command: rm -rf transcriptogramer.buildbin-libdir && mkdir transcriptogramer.buildbin-libdir && D:\biocbuild\bbs-3.15-bioc\R\bin\R.exe CMD INSTALL --build --library=transcriptogramer.buildbin-libdir transcriptogramer_1.17.0.tar.gz |
| StartedAt: 2022-03-17 21:45:32 -0400 (Thu, 17 Mar 2022) |
| EndedAt: 2022-03-17 21:46:48 -0400 (Thu, 17 Mar 2022) |
| EllapsedTime: 75.9 seconds |
| RetCode: 0 |
| Status: OK |
| PackageFile: transcriptogramer_1.17.0.zip |
| PackageFileSize: 5.971 MiB |
##############################################################################
##############################################################################
###
### Running command:
###
### rm -rf transcriptogramer.buildbin-libdir && mkdir transcriptogramer.buildbin-libdir && D:\biocbuild\bbs-3.15-bioc\R\bin\R.exe CMD INSTALL --build --library=transcriptogramer.buildbin-libdir transcriptogramer_1.17.0.tar.gz
###
##############################################################################
##############################################################################
* installing *source* package 'transcriptogramer' ...
** using staged installation
** R
** data
*** moving datasets to lazyload DB
** inst
** byte-compile and prepare package for lazy loading
** help
*** installing help indices
converting help for package 'transcriptogramer'
finding HTML links ... done
DE-method html
DEsymbols html
GPL570 html
GSE9988 html
Hs700 html
Hs800 html
Hs900 html
HsBPTerms html
Mm700 html
Mm800 html
Mm900 html
Rn700 html
Rn800 html
Rn900 html
Sc700 html
Sc800 html
Sc900 html
Terms-method html
Transcriptogram-class html
association html
clusterEnrichment-method html
clusterVisualization-method html
connectivityProperties-method html
differentiallyExpressed-method html
enrichmentPlot-method html
orderingProperties-method html
radius-method html
transcriptogramPreprocess html
transcriptogramStep1-method html
transcriptogramStep2-method html
transcriptogramer-package html
** building package indices
** installing vignettes
** testing if installed package can be loaded from temporary location
** testing if installed package can be loaded from final location
** testing if installed package keeps a record of temporary installation path
* MD5 sums
packaged installation of 'transcriptogramer' as transcriptogramer_1.17.0.zip
* DONE (transcriptogramer)